| Back to Multiple platform build/check report for BioC 3.11 |
|
This page was generated on 2020-10-17 11:54:41 -0400 (Sat, 17 Oct 2020).
| TO THE DEVELOPERS/MAINTAINERS OF THE dupRadar PACKAGE: Please make sure to use the following settings in order to reproduce any error or warning you see on this page. |
| Package 513/1905 | Hostname | OS / Arch | INSTALL | BUILD | CHECK | BUILD BIN | ||||||
| dupRadar 1.18.0 Sergi Sayols
| malbec2 | Linux (Ubuntu 18.04.4 LTS) / x86_64 | OK | [ OK ] | OK | |||||||
| tokay2 | Windows Server 2012 R2 Standard / x64 | ...NOT SUPPORTED... | ||||||||||
| machv2 | macOS 10.14.6 Mojave / x86_64 | OK | OK | OK | OK | |||||||
| Package: dupRadar |
| Version: 1.18.0 |
| Command: /home/biocbuild/bbs-3.11-bioc/R/bin/R CMD build --keep-empty-dirs --no-resave-data dupRadar |
| StartedAt: 2020-10-16 18:55:13 -0400 (Fri, 16 Oct 2020) |
| EndedAt: 2020-10-16 18:55:48 -0400 (Fri, 16 Oct 2020) |
| EllapsedTime: 35.2 seconds |
| RetCode: 0 |
| Status: OK |
| PackageFile: dupRadar_1.18.0.tar.gz |
| PackageFileSize: 3.705 MiB |
############################################################################## ############################################################################## ### ### Running command: ### ### /home/biocbuild/bbs-3.11-bioc/R/bin/R CMD build --keep-empty-dirs --no-resave-data dupRadar ### ############################################################################## ############################################################################## * checking for file ‘dupRadar/DESCRIPTION’ ... OK * preparing ‘dupRadar’: * checking DESCRIPTION meta-information ... OK * installing the package to build vignettes * creating vignettes ... OK * checking for LF line-endings in source and make files and shell scripts * checking for empty or unneeded directories * building ‘dupRadar_1.18.0.tar.gz’