| Back to Multiple platform build/check report for BioC 3.11 |
|
This page was generated on 2020-10-17 11:58:24 -0400 (Sat, 17 Oct 2020).
| TO THE DEVELOPERS/MAINTAINERS OF THE dupRadar PACKAGE: Please make sure to use the following settings in order to reproduce any error or warning you see on this page. |
| Package 513/1905 | Hostname | OS / Arch | INSTALL | BUILD | CHECK | BUILD BIN | ||||||
| dupRadar 1.18.0 Sergi Sayols
| malbec2 | Linux (Ubuntu 18.04.4 LTS) / x86_64 | OK | OK | OK | |||||||
| tokay2 | Windows Server 2012 R2 Standard / x64 | ...NOT SUPPORTED... | ||||||||||
| machv2 | macOS 10.14.6 Mojave / x86_64 | OK | OK | OK | [ OK ] | |||||||
| Package: dupRadar |
| Version: 1.18.0 |
| Command: rm -rf dupRadar.buildbin-libdir && mkdir dupRadar.buildbin-libdir && /Users/biocbuild/BBS/utils/build-universal.sh dupRadar_1.18.0.tar.gz /Library/Frameworks/R.framework/Versions/Current/Resources/bin/R dupRadar.buildbin-libdir |
| StartedAt: 2020-10-17 06:59:20 -0400 (Sat, 17 Oct 2020) |
| EndedAt: 2020-10-17 06:59:39 -0400 (Sat, 17 Oct 2020) |
| EllapsedTime: 19.5 seconds |
| RetCode: 0 |
| Status: OK |
| PackageFile: dupRadar_1.18.0.tgz |
| PackageFileSize: 3.668 MiB |
############################################################################## ############################################################################## ### ### Running command: ### ### rm -rf dupRadar.buildbin-libdir && mkdir dupRadar.buildbin-libdir && /Users/biocbuild/BBS/utils/build-universal.sh dupRadar_1.18.0.tar.gz /Library/Frameworks/R.framework/Versions/Current/Resources/bin/R dupRadar.buildbin-libdir ### ############################################################################## ############################################################################## >>>>>>> >>>>>>> INSTALLATION WITH 'R CMD INSTALL --preclean --no-multiarch --library=dupRadar.buildbin-libdir dupRadar_1.18.0.tar.gz' >>>>>>> * installing *source* package ‘dupRadar’ ... ** using staged installation ** R ** data *** moving datasets to lazyload DB ** inst ** byte-compile and prepare package for lazy loading ** help *** installing help indices ** building package indices ** installing vignettes ** testing if installed package can be loaded from temporary location ** testing if installed package can be loaded from final location ** testing if installed package keeps a record of temporary installation path * DONE (dupRadar)