| Back to Multiple platform build/check report for BioC 3.11 |
|
This page was generated on 2020-10-17 11:56:28 -0400 (Sat, 17 Oct 2020).
| TO THE DEVELOPERS/MAINTAINERS OF THE dmrseq PACKAGE: Please make sure to use the following settings in order to reproduce any error or warning you see on this page. |
| Package 492/1905 | Hostname | OS / Arch | INSTALL | BUILD | CHECK | BUILD BIN | ||||||
| dmrseq 1.8.0 Keegan Korthauer
| malbec2 | Linux (Ubuntu 18.04.4 LTS) / x86_64 | OK | OK | WARNINGS | |||||||
| tokay2 | Windows Server 2012 R2 Standard / x64 | OK | OK | WARNINGS | [ OK ] | |||||||
| machv2 | macOS 10.14.6 Mojave / x86_64 | OK | OK | WARNINGS | OK |
| Package: dmrseq |
| Version: 1.8.0 |
| Command: rm -rf dmrseq.buildbin-libdir && mkdir dmrseq.buildbin-libdir && C:\Users\biocbuild\bbs-3.11-bioc\R\bin\R.exe CMD INSTALL --merge-multiarch --build --library=dmrseq.buildbin-libdir dmrseq_1.8.0.tar.gz |
| StartedAt: 2020-10-17 10:21:34 -0400 (Sat, 17 Oct 2020) |
| EndedAt: 2020-10-17 10:23:07 -0400 (Sat, 17 Oct 2020) |
| EllapsedTime: 92.9 seconds |
| RetCode: 0 |
| Status: OK |
| PackageFile: dmrseq_1.8.0.zip |
| PackageFileSize: 7.87 MiB |
##############################################################################
##############################################################################
###
### Running command:
###
### rm -rf dmrseq.buildbin-libdir && mkdir dmrseq.buildbin-libdir && C:\Users\biocbuild\bbs-3.11-bioc\R\bin\R.exe CMD INSTALL --merge-multiarch --build --library=dmrseq.buildbin-libdir dmrseq_1.8.0.tar.gz
###
##############################################################################
##############################################################################
install for i386
* installing *source* package 'dmrseq' ...
** using staged installation
** R
** data
*** moving datasets to lazyload DB
** inst
** byte-compile and prepare package for lazy loading
** help
*** installing help indices
converting help for package 'dmrseq'
finding HTML links ... done
BS.chr21 html
annot.chr21 html
dmrPlotAnnotations html
dmrs.ex html
dmrseq html
getAnnot html
meanDiff html
plotDMRs html
plotEmpiricalDistribution html
simDMRs html
** building package indices
** installing vignettes
** testing if installed package can be loaded from temporary location
** testing if installed package can be loaded from final location
** testing if installed package keeps a record of temporary installation path
install for x64
* installing *source* package 'dmrseq' ...
** testing if installed package can be loaded
* MD5 sums
packaged installation of 'dmrseq' as dmrseq_1.8.0.zip
* DONE (dmrseq)