| Back to Multiple platform build/check report for BioC 3.11 |
|
This page was generated on 2020-10-17 11:56:18 -0400 (Sat, 17 Oct 2020).
| TO THE DEVELOPERS/MAINTAINERS OF THE clustComp PACKAGE: Please make sure to use the following settings in order to reproduce any error or warning you see on this page. |
| Package 316/1905 | Hostname | OS / Arch | INSTALL | BUILD | CHECK | BUILD BIN | ||||||
| clustComp 1.16.0 Aurora Torrente
| malbec2 | Linux (Ubuntu 18.04.4 LTS) / x86_64 | OK | OK | OK | |||||||
| tokay2 | Windows Server 2012 R2 Standard / x64 | [ OK ] | OK | OK | OK | |||||||
| machv2 | macOS 10.14.6 Mojave / x86_64 | OK | OK | OK | OK |
| Package: clustComp |
| Version: 1.16.0 |
| Command: C:\cygwin\bin\curl.exe -O https://malbec2.bioconductor.org/BBS/3.11/bioc/src/contrib/clustComp_1.16.0.tar.gz && rm -rf clustComp.buildbin-libdir && mkdir clustComp.buildbin-libdir && C:\Users\biocbuild\bbs-3.11-bioc\R\bin\R.exe CMD INSTALL --merge-multiarch --build --library=clustComp.buildbin-libdir clustComp_1.16.0.tar.gz && C:\Users\biocbuild\bbs-3.11-bioc\R\bin\R.exe CMD INSTALL clustComp_1.16.0.zip && rm clustComp_1.16.0.tar.gz clustComp_1.16.0.zip |
| StartedAt: 2020-10-16 16:51:15 -0400 (Fri, 16 Oct 2020) |
| EndedAt: 2020-10-16 16:51:54 -0400 (Fri, 16 Oct 2020) |
| EllapsedTime: 38.8 seconds |
| RetCode: 0 |
| Status: OK |
##############################################################################
##############################################################################
###
### Running command:
###
### C:\cygwin\bin\curl.exe -O https://malbec2.bioconductor.org/BBS/3.11/bioc/src/contrib/clustComp_1.16.0.tar.gz && rm -rf clustComp.buildbin-libdir && mkdir clustComp.buildbin-libdir && C:\Users\biocbuild\bbs-3.11-bioc\R\bin\R.exe CMD INSTALL --merge-multiarch --build --library=clustComp.buildbin-libdir clustComp_1.16.0.tar.gz && C:\Users\biocbuild\bbs-3.11-bioc\R\bin\R.exe CMD INSTALL clustComp_1.16.0.zip && rm clustComp_1.16.0.tar.gz clustComp_1.16.0.zip
###
##############################################################################
##############################################################################
% Total % Received % Xferd Average Speed Time Time Time Current
Dload Upload Total Spent Left Speed
0 0 0 0 0 0 0 0 --:--:-- --:--:-- --:--:-- 0
100 29872 100 29872 0 0 507k 0 --:--:-- --:--:-- --:--:-- 571k
install for i386
* installing *source* package 'clustComp' ...
** using staged installation
** R
** inst
** byte-compile and prepare package for lazy loading
** help
*** installing help indices
converting help for package 'clustComp'
finding HTML links ... done
SCmapping html
barycentre html
drawTreeGraph html
dyn.cross html
flatVSflat html
flatVShier html
insert html
score.crossing html
score.it html
** building package indices
** installing vignettes
** testing if installed package can be loaded from temporary location
** testing if installed package can be loaded from final location
** testing if installed package keeps a record of temporary installation path
install for x64
* installing *source* package 'clustComp' ...
** testing if installed package can be loaded
* MD5 sums
packaged installation of 'clustComp' as clustComp_1.16.0.zip
* DONE (clustComp)
* installing to library 'C:/Users/biocbuild/bbs-3.11-bioc/R/library'
package 'clustComp' successfully unpacked and MD5 sums checked