| Back to Multiple platform build/check report for BioC 3.11 |
|
This page was generated on 2020-10-17 11:54:31 -0400 (Sat, 17 Oct 2020).
| TO THE DEVELOPERS/MAINTAINERS OF THE cellbaseR PACKAGE: Please make sure to use the following settings in order to reproduce any error or warning you see on this page. |
| Package 246/1905 | Hostname | OS / Arch | INSTALL | BUILD | CHECK | BUILD BIN | ||||||
| cellbaseR 1.12.0 Mohammed OE Abdallah
| malbec2 | Linux (Ubuntu 18.04.4 LTS) / x86_64 | OK | OK | [ OK ] | |||||||
| tokay2 | Windows Server 2012 R2 Standard / x64 | OK | OK | WARNINGS | OK | |||||||
| machv2 | macOS 10.14.6 Mojave / x86_64 | OK | OK | OK | OK |
| Package: cellbaseR |
| Version: 1.12.0 |
| Command: /home/biocbuild/bbs-3.11-bioc/R/bin/R CMD check --install=check:cellbaseR.install-out.txt --library=/home/biocbuild/bbs-3.11-bioc/R/library --no-vignettes --timings cellbaseR_1.12.0.tar.gz |
| StartedAt: 2020-10-16 23:38:19 -0400 (Fri, 16 Oct 2020) |
| EndedAt: 2020-10-16 23:40:48 -0400 (Fri, 16 Oct 2020) |
| EllapsedTime: 149.0 seconds |
| RetCode: 0 |
| Status: OK |
| CheckDir: cellbaseR.Rcheck |
| Warnings: 0 |
##############################################################################
##############################################################################
###
### Running command:
###
### /home/biocbuild/bbs-3.11-bioc/R/bin/R CMD check --install=check:cellbaseR.install-out.txt --library=/home/biocbuild/bbs-3.11-bioc/R/library --no-vignettes --timings cellbaseR_1.12.0.tar.gz
###
##############################################################################
##############################################################################
* using log directory ‘/home/biocbuild/bbs-3.11-bioc/meat/cellbaseR.Rcheck’
* using R version 4.0.3 (2020-10-10)
* using platform: x86_64-pc-linux-gnu (64-bit)
* using session charset: UTF-8
* using option ‘--no-vignettes’
* checking for file ‘cellbaseR/DESCRIPTION’ ... OK
* checking extension type ... Package
* this is package ‘cellbaseR’ version ‘1.12.0’
* checking package namespace information ... OK
* checking package dependencies ... OK
* checking if this is a source package ... OK
* checking if there is a namespace ... OK
* checking for hidden files and directories ... OK
* checking for portable file names ... OK
* checking for sufficient/correct file permissions ... OK
* checking whether package ‘cellbaseR’ can be installed ... OK
* checking installed package size ... OK
* checking package directory ... OK
* checking ‘build’ directory ... OK
* checking DESCRIPTION meta-information ... OK
* checking top-level files ... OK
* checking for left-over files ... OK
* checking index information ... OK
* checking package subdirectories ... OK
* checking R files for non-ASCII characters ... OK
* checking R files for syntax errors ... OK
* checking whether the package can be loaded ... OK
* checking whether the package can be loaded with stated dependencies ... OK
* checking whether the package can be unloaded cleanly ... OK
* checking whether the namespace can be loaded with stated dependencies ... OK
* checking whether the namespace can be unloaded cleanly ... OK
* checking dependencies in R code ... OK
* checking S3 generic/method consistency ... OK
* checking replacement functions ... OK
* checking foreign function calls ... OK
* checking R code for possible problems ... OK
* checking Rd files ... OK
* checking Rd metadata ... OK
* checking Rd cross-references ... OK
* checking for missing documentation entries ... OK
* checking for code/documentation mismatches ... OK
* checking Rd \usage sections ... OK
* checking Rd contents ... OK
* checking for unstated dependencies in examples ... OK
* checking files in ‘vignettes’ ... OK
* checking examples ... OK
Examples with CPU (user + system) or elapsed time > 5s
user system elapsed
AnnotateVcf-CellBaseR-method 4.700 0.99 7.902
getTf-CellBaseR-method 0.065 0.00 8.050
* checking for unstated dependencies in vignettes ... OK
* checking package vignettes in ‘inst/doc’ ... OK
* checking running R code from vignettes ... SKIPPED
* checking re-building of vignette outputs ... SKIPPED
* checking PDF version of manual ... OK
* DONE
Status: OK
cellbaseR.Rcheck/00install.out
############################################################################## ############################################################################## ### ### Running command: ### ### /home/biocbuild/bbs-3.11-bioc/R/bin/R CMD INSTALL cellbaseR ### ############################################################################## ############################################################################## * installing to library ‘/home/biocbuild/bbs-3.11-bioc/R/library’ * installing *source* package ‘cellbaseR’ ... ** using staged installation ** R ** inst ** byte-compile and prepare package for lazy loading ** help *** installing help indices ** building package indices ** installing vignettes ** testing if installed package can be loaded from temporary location ** testing if installed package can be loaded from final location ** testing if installed package keeps a record of temporary installation path * DONE (cellbaseR)
cellbaseR.Rcheck/cellbaseR-Ex.timings
| name | user | system | elapsed | |
| AnnotateVcf-CellBaseR-method | 4.700 | 0.990 | 7.902 | |
| CellBaseParam | 0.002 | 0.000 | 0.002 | |
| CellBaseR | 0.039 | 0.004 | 0.312 | |
| createGeneModel | 0.247 | 0.000 | 0.812 | |
| getCaddScores | 0.053 | 0.004 | 0.518 | |
| getCellBase-CellBaseR-method | 0.068 | 0.000 | 0.527 | |
| getCellBaseResourceHelp | 0.306 | 0.016 | 0.850 | |
| getChromosomeInfo-CellBaseR-method | 0.057 | 0.003 | 0.507 | |
| getClinical-CellBaseR-method | 1.753 | 0.080 | 2.612 | |
| getClinicalByRegion | 1.697 | 0.003 | 2.909 | |
| getConservationByRegion | 0.103 | 0.000 | 0.861 | |
| getGene-CellBaseR-method | 0.142 | 0.000 | 0.755 | |
| getGeneInfo | 0.069 | 0.000 | 0.523 | |
| getMeta-CellBaseR-method | 0.076 | 0.000 | 0.522 | |
| getProtein-CellBaseR-method | 0.161 | 0.004 | 0.811 | |
| getProteinInfo | 0.157 | 0.008 | 0.704 | |
| getRegion-CellBaseR-method | 0.154 | 0.001 | 0.812 | |
| getRegulatoryByRegion | 0.187 | 0.004 | 1.079 | |
| getSnp-CellBaseR-method | 0.069 | 0.012 | 0.587 | |
| getSnpByGene | 0.110 | 0.000 | 0.578 | |
| getTf-CellBaseR-method | 0.065 | 0.000 | 8.050 | |
| getTfbsByRegion | 0.089 | 0.000 | 0.596 | |
| getTranscript-CellBaseR-method | 0.062 | 0.004 | 0.529 | |
| getTranscriptByGene | 0.065 | 0.000 | 0.515 | |
| getVariant-CellBaseR-method | 0.165 | 0.000 | 0.778 | |
| getVariantAnnotation | 0.172 | 0.000 | 0.773 | |
| getXref-CellBaseR-method | 0.060 | 0.004 | 0.509 | |