| Back to Multiple platform build/check report for BioC 3.11 |
|
This page was generated on 2020-10-17 11:56:07 -0400 (Sat, 17 Oct 2020).
| TO THE DEVELOPERS/MAINTAINERS OF THE basilisk.utils PACKAGE: Please make sure to use the following settings in order to reproduce any error or warning you see on this page. |
| Package 118/1905 | Hostname | OS / Arch | INSTALL | BUILD | CHECK | BUILD BIN | ||||||
| basilisk.utils 1.0.4 Aaron Lun
| malbec2 | Linux (Ubuntu 18.04.4 LTS) / x86_64 | OK | OK | OK | |||||||
| tokay2 | Windows Server 2012 R2 Standard / x64 | OK | OK | OK | [ OK ] | |||||||
| machv2 | macOS 10.14.6 Mojave / x86_64 | OK | OK | OK | OK |
| Package: basilisk.utils |
| Version: 1.0.4 |
| Command: rm -rf basilisk.utils.buildbin-libdir && mkdir basilisk.utils.buildbin-libdir && C:\Users\biocbuild\bbs-3.11-bioc\R\bin\R.exe CMD INSTALL --merge-multiarch --build --library=basilisk.utils.buildbin-libdir basilisk.utils_1.0.4.tar.gz |
| StartedAt: 2020-10-17 09:53:11 -0400 (Sat, 17 Oct 2020) |
| EndedAt: 2020-10-17 09:53:36 -0400 (Sat, 17 Oct 2020) |
| EllapsedTime: 24.8 seconds |
| RetCode: 0 |
| Status: OK |
| PackageFile: basilisk.utils_1.0.4.zip |
| PackageFileSize: 268.7 KiB |
##############################################################################
##############################################################################
###
### Running command:
###
### rm -rf basilisk.utils.buildbin-libdir && mkdir basilisk.utils.buildbin-libdir && C:\Users\biocbuild\bbs-3.11-bioc\R\bin\R.exe CMD INSTALL --merge-multiarch --build --library=basilisk.utils.buildbin-libdir basilisk.utils_1.0.4.tar.gz
###
##############################################################################
##############################################################################
install for i386
* installing *source* package 'basilisk.utils' ...
** using staged installation
** R
** inst
** byte-compile and prepare package for lazy loading
** help
*** installing help indices
converting help for package 'basilisk.utils'
finding HTML links ... done
clearExternalDir html
destroyOldVersions html
getBasiliskDir html
getBinaries html
getEnvironmentDir html
getExternalDir html
finding level-2 HTML links ... done
getLockFile html
installMiniconda html
isWindows html
useSystemDir html
** building package indices
** installing vignettes
** testing if installed package can be loaded from temporary location
** testing if installed package can be loaded from final location
** testing if installed package keeps a record of temporary installation path
install for x64
* installing *source* package 'basilisk.utils' ...
** testing if installed package can be loaded
* MD5 sums
packaged installation of 'basilisk.utils' as basilisk.utils_1.0.4.zip
* DONE (basilisk.utils)