| Back to Multiple platform build/check report for BioC 3.11 |
|
This page was generated on 2020-10-17 11:58:05 -0400 (Sat, 17 Oct 2020).
| TO THE DEVELOPERS/MAINTAINERS OF THE basilisk.utils PACKAGE: Please make sure to use the following settings in order to reproduce any error or warning you see on this page. |
| Package 118/1905 | Hostname | OS / Arch | INSTALL | BUILD | CHECK | BUILD BIN | ||||||
| basilisk.utils 1.0.4 Aaron Lun
| malbec2 | Linux (Ubuntu 18.04.4 LTS) / x86_64 | OK | OK | OK | |||||||
| tokay2 | Windows Server 2012 R2 Standard / x64 | OK | OK | OK | OK | |||||||
| machv2 | macOS 10.14.6 Mojave / x86_64 | OK | [ OK ] | OK | OK |
| Package: basilisk.utils |
| Version: 1.0.4 |
| Command: /Library/Frameworks/R.framework/Versions/Current/Resources/bin/R CMD build --keep-empty-dirs --no-resave-data basilisk.utils |
| StartedAt: 2020-10-16 17:51:21 -0400 (Fri, 16 Oct 2020) |
| EndedAt: 2020-10-16 17:51:26 -0400 (Fri, 16 Oct 2020) |
| EllapsedTime: 5.4 seconds |
| RetCode: 0 |
| Status: OK |
| PackageFile: basilisk.utils_1.0.4.tar.gz |
| PackageFileSize: 225.9 KiB |
############################################################################## ############################################################################## ### ### Running command: ### ### /Library/Frameworks/R.framework/Versions/Current/Resources/bin/R CMD build --keep-empty-dirs --no-resave-data basilisk.utils ### ############################################################################## ############################################################################## * checking for file ‘basilisk.utils/DESCRIPTION’ ... OK * preparing ‘basilisk.utils’: * checking DESCRIPTION meta-information ... OK * installing the package to build vignettes * creating vignettes ... OK * checking for LF line-endings in source and make files and shell scripts * checking for empty or unneeded directories * building ‘basilisk.utils_1.0.4.tar.gz’