| Back to Multiple platform build/check report for BioC 3.11 |
|
This page was generated on 2020-10-17 11:56:07 -0400 (Sat, 17 Oct 2020).
| TO THE DEVELOPERS/MAINTAINERS OF THE bacon PACKAGE: Please make sure to use the following settings in order to reproduce any error or warning you see on this page. |
| Package 104/1905 | Hostname | OS / Arch | INSTALL | BUILD | CHECK | BUILD BIN | ||||||
| bacon 1.16.0 Maarten van Iterson
| malbec2 | Linux (Ubuntu 18.04.4 LTS) / x86_64 | OK | OK | OK | |||||||
| tokay2 | Windows Server 2012 R2 Standard / x64 | OK | OK | OK | [ OK ] | |||||||
| machv2 | macOS 10.14.6 Mojave / x86_64 | OK | OK | OK | OK |
| Package: bacon |
| Version: 1.16.0 |
| Command: rm -rf bacon.buildbin-libdir && mkdir bacon.buildbin-libdir && C:\Users\biocbuild\bbs-3.11-bioc\R\bin\R.exe CMD INSTALL --merge-multiarch --build --library=bacon.buildbin-libdir bacon_1.16.0.tar.gz |
| StartedAt: 2020-10-17 09:52:15 -0400 (Sat, 17 Oct 2020) |
| EndedAt: 2020-10-17 09:52:48 -0400 (Sat, 17 Oct 2020) |
| EllapsedTime: 33.3 seconds |
| RetCode: 0 |
| Status: OK |
| PackageFile: bacon_1.16.0.zip |
| PackageFileSize: 735.7 KiB |
##############################################################################
##############################################################################
###
### Running command:
###
### rm -rf bacon.buildbin-libdir && mkdir bacon.buildbin-libdir && C:\Users\biocbuild\bbs-3.11-bioc\R\bin\R.exe CMD INSTALL --merge-multiarch --build --library=bacon.buildbin-libdir bacon_1.16.0.tar.gz
###
##############################################################################
##############################################################################
install for i386
* installing *source* package 'bacon' ...
** using staged installation
** libs
"C:/rtools40/mingw32/bin/"gcc -I"C:/Users/BIOCBU~1/BBS-3~1.11-/R/include" -DNDEBUG -I"C:/extsoft/include" -O2 -Wall -std=gnu99 -mfpmath=sse -msse2 -mstackrealign -c Rinit.c -o Rinit.o
Rinit.c:9:40: warning: missing braces around initializer [-Wmissing-braces]
static const R_CMethodDef cMethods[] = {
^
"C:/rtools40/mingw32/bin/"gcc -I"C:/Users/BIOCBU~1/BBS-3~1.11-/R/include" -DNDEBUG -I"C:/extsoft/include" -O2 -Wall -std=gnu99 -mfpmath=sse -msse2 -mstackrealign -c bacon.c -o bacon.o
C:/rtools40/mingw32/bin/gcc -shared -s -static-libgcc -o bacon.dll tmp.def Rinit.o bacon.o -LC:/extsoft/lib/i386 -LC:/extsoft/lib -LC:/Users/BIOCBU~1/BBS-3~1.11-/R/bin/i386 -lR
installing to C:/Users/biocbuild/bbs-3.11-bioc/meat/bacon.buildbin-libdir/00LOCK-bacon/00new/bacon/libs/i386
** R
** inst
** byte-compile and prepare package for lazy loading
** help
*** installing help indices
converting help for package 'bacon'
finding HTML links ... done
Bacon-class html
bacon html
bias-methods html
dnormmix html
es-methods html
estimates-methods html
fit-methods html
inflation-methods html
meta-methods html
plot-Bacon-method html
plotnormmix html
posteriors-methods html
pval-methods html
rnormmix html
se-methods html
topTable-methods html
traces-methods html
tstat-methods html
** building package indices
** installing vignettes
** testing if installed package can be loaded from temporary location
** testing if installed package can be loaded from final location
** testing if installed package keeps a record of temporary installation path
install for x64
* installing *source* package 'bacon' ...
** libs
"C:/rtools40/mingw64/bin/"gcc -I"C:/Users/BIOCBU~1/BBS-3~1.11-/R/include" -DNDEBUG -I"C:/extsoft/include" -O2 -Wall -std=gnu99 -mfpmath=sse -msse2 -mstackrealign -c Rinit.c -o Rinit.o
Rinit.c:9:40: warning: missing braces around initializer [-Wmissing-braces]
static const R_CMethodDef cMethods[] = {
^
"C:/rtools40/mingw64/bin/"gcc -I"C:/Users/BIOCBU~1/BBS-3~1.11-/R/include" -DNDEBUG -I"C:/extsoft/include" -O2 -Wall -std=gnu99 -mfpmath=sse -msse2 -mstackrealign -c bacon.c -o bacon.o
C:/rtools40/mingw64/bin/gcc -shared -s -static-libgcc -o bacon.dll tmp.def Rinit.o bacon.o -LC:/extsoft/lib/x64 -LC:/extsoft/lib -LC:/Users/BIOCBU~1/BBS-3~1.11-/R/bin/x64 -lR
installing to C:/Users/biocbuild/bbs-3.11-bioc/meat/bacon.buildbin-libdir/bacon/libs/x64
** testing if installed package can be loaded
* MD5 sums
packaged installation of 'bacon' as bacon_1.16.0.zip
* DONE (bacon)