| Back to Multiple platform build/check report for BioC 3.11 |
|
This page was generated on 2020-10-17 11:54:23 -0400 (Sat, 17 Oct 2020).
| TO THE DEVELOPERS/MAINTAINERS OF THE bacon PACKAGE: Please make sure to use the following settings in order to reproduce any error or warning you see on this page. |
| Package 104/1905 | Hostname | OS / Arch | INSTALL | BUILD | CHECK | BUILD BIN | ||||||
| bacon 1.16.0 Maarten van Iterson
| malbec2 | Linux (Ubuntu 18.04.4 LTS) / x86_64 | OK | OK | [ OK ] | |||||||
| tokay2 | Windows Server 2012 R2 Standard / x64 | OK | OK | OK | OK | |||||||
| machv2 | macOS 10.14.6 Mojave / x86_64 | OK | OK | OK | OK |
| Package: bacon |
| Version: 1.16.0 |
| Command: /home/biocbuild/bbs-3.11-bioc/R/bin/R CMD check --install=check:bacon.install-out.txt --library=/home/biocbuild/bbs-3.11-bioc/R/library --no-vignettes --timings bacon_1.16.0.tar.gz |
| StartedAt: 2020-10-16 23:01:29 -0400 (Fri, 16 Oct 2020) |
| EndedAt: 2020-10-16 23:02:31 -0400 (Fri, 16 Oct 2020) |
| EllapsedTime: 62.0 seconds |
| RetCode: 0 |
| Status: OK |
| CheckDir: bacon.Rcheck |
| Warnings: 0 |
##############################################################################
##############################################################################
###
### Running command:
###
### /home/biocbuild/bbs-3.11-bioc/R/bin/R CMD check --install=check:bacon.install-out.txt --library=/home/biocbuild/bbs-3.11-bioc/R/library --no-vignettes --timings bacon_1.16.0.tar.gz
###
##############################################################################
##############################################################################
* using log directory ‘/home/biocbuild/bbs-3.11-bioc/meat/bacon.Rcheck’
* using R version 4.0.3 (2020-10-10)
* using platform: x86_64-pc-linux-gnu (64-bit)
* using session charset: UTF-8
* using option ‘--no-vignettes’
* checking for file ‘bacon/DESCRIPTION’ ... OK
* checking extension type ... Package
* this is package ‘bacon’ version ‘1.16.0’
* checking package namespace information ... OK
* checking package dependencies ... OK
* checking if this is a source package ... OK
* checking if there is a namespace ... OK
* checking for hidden files and directories ... OK
* checking for portable file names ... OK
* checking for sufficient/correct file permissions ... OK
* checking whether package ‘bacon’ can be installed ... OK
* checking installed package size ... OK
* checking package directory ... OK
* checking ‘build’ directory ... OK
* checking DESCRIPTION meta-information ... OK
* checking top-level files ... OK
* checking for left-over files ... OK
* checking index information ... OK
* checking package subdirectories ... OK
* checking R files for non-ASCII characters ... OK
* checking R files for syntax errors ... OK
* checking whether the package can be loaded ... OK
* checking whether the package can be loaded with stated dependencies ... OK
* checking whether the package can be unloaded cleanly ... OK
* checking whether the namespace can be loaded with stated dependencies ... OK
* checking whether the namespace can be unloaded cleanly ... OK
* checking dependencies in R code ... OK
* checking S3 generic/method consistency ... OK
* checking replacement functions ... OK
* checking foreign function calls ... OK
* checking R code for possible problems ... NOTE
.hist: no visible binding for global variable ‘..density..’
Undefined global functions or variables:
..density..
* checking Rd files ... OK
* checking Rd metadata ... OK
* checking Rd cross-references ... OK
* checking for missing documentation entries ... OK
* checking for code/documentation mismatches ... OK
* checking Rd \usage sections ... OK
* checking Rd contents ... OK
* checking for unstated dependencies in examples ... OK
* checking line endings in C/C++/Fortran sources/headers ... OK
* checking compiled code ... NOTE
Note: information on .o files is not available
* checking files in ‘vignettes’ ... OK
* checking examples ... OK
Examples with CPU (user + system) or elapsed time > 5s
user system elapsed
bacon 13.520 0.160 6.006
meta-methods 8.283 0.098 3.106
se-methods 7.697 0.071 2.503
es-methods 6.868 0.105 2.176
topTable-methods 6.432 0.097 2.326
* checking for unstated dependencies in ‘tests’ ... OK
* checking tests ...
Running ‘testthat.R’
OK
* checking for unstated dependencies in vignettes ... OK
* checking package vignettes in ‘inst/doc’ ... OK
* checking running R code from vignettes ... SKIPPED
* checking re-building of vignette outputs ... SKIPPED
* checking PDF version of manual ... OK
* DONE
Status: 2 NOTEs
See
‘/home/biocbuild/bbs-3.11-bioc/meat/bacon.Rcheck/00check.log’
for details.
bacon.Rcheck/00install.out
##############################################################################
##############################################################################
###
### Running command:
###
### /home/biocbuild/bbs-3.11-bioc/R/bin/R CMD INSTALL bacon
###
##############################################################################
##############################################################################
* installing to library ‘/home/biocbuild/bbs-3.11-bioc/R/library’
* installing *source* package ‘bacon’ ...
** using staged installation
** libs
gcc -I"/home/biocbuild/bbs-3.11-bioc/R/include" -DNDEBUG -I/usr/local/include -fpic -g -O2 -Wall -c Rinit.c -o Rinit.o
Rinit.c:9:40: warning: missing braces around initializer [-Wmissing-braces]
static const R_CMethodDef cMethods[] = {
^
gcc -I"/home/biocbuild/bbs-3.11-bioc/R/include" -DNDEBUG -I/usr/local/include -fpic -g -O2 -Wall -c bacon.c -o bacon.o
gcc -shared -L/home/biocbuild/bbs-3.11-bioc/R/lib -L/usr/local/lib -o bacon.so Rinit.o bacon.o -L/home/biocbuild/bbs-3.11-bioc/R/lib -lR
installing to /home/biocbuild/bbs-3.11-bioc/R/library/00LOCK-bacon/00new/bacon/libs
** R
** inst
** byte-compile and prepare package for lazy loading
** help
*** installing help indices
** building package indices
** installing vignettes
** testing if installed package can be loaded from temporary location
** checking absolute paths in shared objects and dynamic libraries
** testing if installed package can be loaded from final location
** testing if installed package keeps a record of temporary installation path
* DONE (bacon)
bacon.Rcheck/tests/testthat.Rout
R version 4.0.3 (2020-10-10) -- "Bunny-Wunnies Freak Out"
Copyright (C) 2020 The R Foundation for Statistical Computing
Platform: x86_64-pc-linux-gnu (64-bit)
R is free software and comes with ABSOLUTELY NO WARRANTY.
You are welcome to redistribute it under certain conditions.
Type 'license()' or 'licence()' for distribution details.
R is a collaborative project with many contributors.
Type 'contributors()' for more information and
'citation()' on how to cite R or R packages in publications.
Type 'demo()' for some demos, 'help()' for on-line help, or
'help.start()' for an HTML browser interface to help.
Type 'q()' to quit R.
> library(testthat)
> library(bacon)
Loading required package: ggplot2
Loading required package: BiocParallel
Loading required package: ellipse
Attaching package: 'ellipse'
The following object is masked from 'package:graphics':
pairs
> test_check("bacon")
[1] 0.914158192 -0.009646065 0.997805988
══ testthat results ═══════════════════════════════════════════════════════════
[ OK: 8 | SKIPPED: 0 | WARNINGS: 0 | FAILED: 0 ]
>
> proc.time()
user system elapsed
11.315 0.410 6.387
bacon.Rcheck/bacon-Ex.timings
| name | user | system | elapsed | |
| bacon | 13.520 | 0.160 | 6.006 | |
| bias-methods | 0.214 | 0.000 | 0.214 | |
| dnormmix | 0.003 | 0.000 | 0.003 | |
| es-methods | 6.868 | 0.105 | 2.176 | |
| estimates-methods | 0.128 | 0.004 | 0.132 | |
| fit-methods | 0.137 | 0.004 | 0.141 | |
| inflation-methods | 0.127 | 0.004 | 0.130 | |
| meta-methods | 8.283 | 0.098 | 3.106 | |
| plotnormmix | 0.005 | 0.000 | 0.006 | |
| posteriors-methods | 0.281 | 0.003 | 0.283 | |
| pval-methods | 0.181 | 0.000 | 0.182 | |
| rnormmix | 0.001 | 0.000 | 0.001 | |
| se-methods | 7.697 | 0.071 | 2.503 | |
| topTable-methods | 6.432 | 0.097 | 2.326 | |
| traces-methods | 0.375 | 0.011 | 0.386 | |
| tstat-methods | 0.214 | 0.000 | 0.213 | |