| Back to Multiple platform build/check report for BioC 3.11 |
|
This page was generated on 2020-10-17 11:56:06 -0400 (Sat, 17 Oct 2020).
| TO THE DEVELOPERS/MAINTAINERS OF THE arrayQuality PACKAGE: Please make sure to use the following settings in order to reproduce any error or warning you see on this page. |
| Package 81/1905 | Hostname | OS / Arch | INSTALL | BUILD | CHECK | BUILD BIN | ||||||
| arrayQuality 1.66.0 Agnes Paquet
| malbec2 | Linux (Ubuntu 18.04.4 LTS) / x86_64 | OK | OK | WARNINGS | |||||||
| tokay2 | Windows Server 2012 R2 Standard / x64 | [ OK ] | OK | WARNINGS | OK | |||||||
| machv2 | macOS 10.14.6 Mojave / x86_64 | OK | OK | WARNINGS | OK |
| Package: arrayQuality |
| Version: 1.66.0 |
| Command: C:\cygwin\bin\curl.exe -O https://malbec2.bioconductor.org/BBS/3.11/bioc/src/contrib/arrayQuality_1.66.0.tar.gz && rm -rf arrayQuality.buildbin-libdir && mkdir arrayQuality.buildbin-libdir && C:\Users\biocbuild\bbs-3.11-bioc\R\bin\R.exe CMD INSTALL --merge-multiarch --build --library=arrayQuality.buildbin-libdir arrayQuality_1.66.0.tar.gz && C:\Users\biocbuild\bbs-3.11-bioc\R\bin\R.exe CMD INSTALL arrayQuality_1.66.0.zip && rm arrayQuality_1.66.0.tar.gz arrayQuality_1.66.0.zip |
| StartedAt: 2020-10-16 17:01:11 -0400 (Fri, 16 Oct 2020) |
| EndedAt: 2020-10-16 17:02:50 -0400 (Fri, 16 Oct 2020) |
| EllapsedTime: 98.9 seconds |
| RetCode: 0 |
| Status: OK |
##############################################################################
##############################################################################
###
### Running command:
###
### C:\cygwin\bin\curl.exe -O https://malbec2.bioconductor.org/BBS/3.11/bioc/src/contrib/arrayQuality_1.66.0.tar.gz && rm -rf arrayQuality.buildbin-libdir && mkdir arrayQuality.buildbin-libdir && C:\Users\biocbuild\bbs-3.11-bioc\R\bin\R.exe CMD INSTALL --merge-multiarch --build --library=arrayQuality.buildbin-libdir arrayQuality_1.66.0.tar.gz && C:\Users\biocbuild\bbs-3.11-bioc\R\bin\R.exe CMD INSTALL arrayQuality_1.66.0.zip && rm arrayQuality_1.66.0.tar.gz arrayQuality_1.66.0.zip
###
##############################################################################
##############################################################################
% Total % Received % Xferd Average Speed Time Time Time Current
Dload Upload Total Spent Left Speed
0 0 0 0 0 0 0 0 --:--:-- --:--:-- --:--:-- 0
100 12.9M 100 12.9M 0 0 37.0M 0 --:--:-- --:--:-- --:--:-- 37.8M
install for i386
* installing *source* package 'arrayQuality' ...
** using staged installation
** R
** data
** inst
** byte-compile and prepare package for lazy loading
** help
*** installing help indices
converting help for package 'arrayQuality'
finding HTML links ... done
MmDEGenes html
PRv9mers html
PRvQCHyb html
agQuality html
arrayQuality-internal html
globalQuality html
gpQuality html
gprDB html
heeboQuality html
heeboQualityPlots html
maQualityPlots html
meeboQuality html
meeboQualityPlots html
prdata html
qcScore html
qualBoxplot html
qualityScore html
readAgilent html
readGPR html
readSpikeTypes html
readSpot html
readcontrolCode html
scaleRefTable html
slideQuality html
spotQuality html
** building package indices
** installing vignettes
** testing if installed package can be loaded from temporary location
** testing if installed package can be loaded from final location
** testing if installed package keeps a record of temporary installation path
install for x64
* installing *source* package 'arrayQuality' ...
** testing if installed package can be loaded
* MD5 sums
packaged installation of 'arrayQuality' as arrayQuality_1.66.0.zip
* DONE (arrayQuality)
* installing to library 'C:/Users/biocbuild/bbs-3.11-bioc/R/library'
package 'arrayQuality' successfully unpacked and MD5 sums checked