| Back to Multiple platform build/check report for BioC 3.11 | 
 | 
This page was generated on 2020-10-17 11:58:03 -0400 (Sat, 17 Oct 2020).
| TO THE DEVELOPERS/MAINTAINERS OF THE arrayQuality PACKAGE: Please make sure to use the following settings in order to reproduce any error or warning you see on this page. | 
| Package 81/1905 | Hostname | OS / Arch | INSTALL | BUILD | CHECK | BUILD BIN | ||||||
| arrayQuality 1.66.0 Agnes Paquet 
 | malbec2 | Linux (Ubuntu 18.04.4 LTS) / x86_64 | OK | OK | WARNINGS |  | ||||||
| tokay2 | Windows Server 2012 R2 Standard / x64 | OK | OK | WARNINGS | OK |  | ||||||
| machv2 | macOS 10.14.6 Mojave / x86_64 | OK | OK | WARNINGS | [ OK ] |  | 
| Package: arrayQuality | 
| Version: 1.66.0 | 
| Command: rm -rf arrayQuality.buildbin-libdir && mkdir arrayQuality.buildbin-libdir && /Users/biocbuild/BBS/utils/build-universal.sh arrayQuality_1.66.0.tar.gz /Library/Frameworks/R.framework/Versions/Current/Resources/bin/R arrayQuality.buildbin-libdir | 
| StartedAt: 2020-10-17 06:36:24 -0400 (Sat, 17 Oct 2020) | 
| EndedAt: 2020-10-17 06:36:44 -0400 (Sat, 17 Oct 2020) | 
| EllapsedTime: 19.8 seconds | 
| RetCode: 0 | 
| Status: OK | 
| PackageFile: arrayQuality_1.66.0.tgz | 
| PackageFileSize: 12.17 MiB | 
############################################################################## ############################################################################## ### ### Running command: ### ### rm -rf arrayQuality.buildbin-libdir && mkdir arrayQuality.buildbin-libdir && /Users/biocbuild/BBS/utils/build-universal.sh arrayQuality_1.66.0.tar.gz /Library/Frameworks/R.framework/Versions/Current/Resources/bin/R arrayQuality.buildbin-libdir ### ############################################################################## ############################################################################## >>>>>>> >>>>>>> INSTALLATION WITH 'R CMD INSTALL --preclean --no-multiarch --library=arrayQuality.buildbin-libdir arrayQuality_1.66.0.tar.gz' >>>>>>> * installing *source* package ‘arrayQuality’ ... ** using staged installation ** R ** data ** inst ** byte-compile and prepare package for lazy loading ** help *** installing help indices ** building package indices ** installing vignettes ** testing if installed package can be loaded from temporary location ** testing if installed package can be loaded from final location ** testing if installed package keeps a record of temporary installation path * DONE (arrayQuality)