| Back to Multiple platform build/check report for BioC 3.11 |
|
This page was generated on 2020-10-17 11:56:04 -0400 (Sat, 17 Oct 2020).
| TO THE DEVELOPERS/MAINTAINERS OF THE alsace PACKAGE: Please make sure to use the following settings in order to reproduce any error or warning you see on this page. |
| Package 47/1905 | Hostname | OS / Arch | INSTALL | BUILD | CHECK | BUILD BIN | ||||||
| alsace 1.24.0 Ron Wehrens
| malbec2 | Linux (Ubuntu 18.04.4 LTS) / x86_64 | OK | OK | OK | |||||||
| tokay2 | Windows Server 2012 R2 Standard / x64 | OK | OK | OK | [ OK ] | |||||||
| machv2 | macOS 10.14.6 Mojave / x86_64 | OK | OK | OK | OK |
| Package: alsace |
| Version: 1.24.0 |
| Command: rm -rf alsace.buildbin-libdir && mkdir alsace.buildbin-libdir && C:\Users\biocbuild\bbs-3.11-bioc\R\bin\R.exe CMD INSTALL --merge-multiarch --build --library=alsace.buildbin-libdir alsace_1.24.0.tar.gz |
| StartedAt: 2020-10-17 09:48:01 -0400 (Sat, 17 Oct 2020) |
| EndedAt: 2020-10-17 09:48:46 -0400 (Sat, 17 Oct 2020) |
| EllapsedTime: 44.4 seconds |
| RetCode: 0 |
| Status: OK |
| PackageFile: alsace_1.24.0.zip |
| PackageFileSize: 1.459 MiB |
##############################################################################
##############################################################################
###
### Running command:
###
### rm -rf alsace.buildbin-libdir && mkdir alsace.buildbin-libdir && C:\Users\biocbuild\bbs-3.11-bioc\R\bin\R.exe CMD INSTALL --merge-multiarch --build --library=alsace.buildbin-libdir alsace_1.24.0.tar.gz
###
##############################################################################
##############################################################################
install for i386
* installing *source* package 'alsace' ...
** using staged installation
** R
** data
** inst
** byte-compile and prepare package for lazy loading
** help
*** installing help indices
converting help for package 'alsace'
finding HTML links ... done
alsace-package html
components html
correctPeaks html
correctRT html
finding level-2 HTML links ... done
doALS html
filterPeaks html
fitpeaks html
getAllPeaks html
getPeakTable html
opa html
preprocess html
showALSresult html
tea html
teaMerged html
windows html
** building package indices
** installing vignettes
** testing if installed package can be loaded from temporary location
** testing if installed package can be loaded from final location
** testing if installed package keeps a record of temporary installation path
install for x64
* installing *source* package 'alsace' ...
** testing if installed package can be loaded
* MD5 sums
packaged installation of 'alsace' as alsace_1.24.0.zip
* DONE (alsace)