| Back to Multiple platform build/check report for BioC 3.11 |
|
This page was generated on 2020-10-17 11:58:02 -0400 (Sat, 17 Oct 2020).
| TO THE DEVELOPERS/MAINTAINERS OF THE alsace PACKAGE: Please make sure to use the following settings in order to reproduce any error or warning you see on this page. |
| Package 47/1905 | Hostname | OS / Arch | INSTALL | BUILD | CHECK | BUILD BIN | ||||||
| alsace 1.24.0 Ron Wehrens
| malbec2 | Linux (Ubuntu 18.04.4 LTS) / x86_64 | OK | OK | OK | |||||||
| tokay2 | Windows Server 2012 R2 Standard / x64 | OK | OK | OK | OK | |||||||
| machv2 | macOS 10.14.6 Mojave / x86_64 | OK | OK | [ OK ] | OK |
| Package: alsace |
| Version: 1.24.0 |
| Command: /Library/Frameworks/R.framework/Versions/Current/Resources/bin/R CMD check --install=check:alsace.install-out.txt --library=/Library/Frameworks/R.framework/Versions/Current/Resources/library --no-vignettes --timings alsace_1.24.0.tar.gz |
| StartedAt: 2020-10-16 22:34:09 -0400 (Fri, 16 Oct 2020) |
| EndedAt: 2020-10-16 22:35:37 -0400 (Fri, 16 Oct 2020) |
| EllapsedTime: 88.1 seconds |
| RetCode: 0 |
| Status: OK |
| CheckDir: alsace.Rcheck |
| Warnings: 0 |
##############################################################################
##############################################################################
###
### Running command:
###
### /Library/Frameworks/R.framework/Versions/Current/Resources/bin/R CMD check --install=check:alsace.install-out.txt --library=/Library/Frameworks/R.framework/Versions/Current/Resources/library --no-vignettes --timings alsace_1.24.0.tar.gz
###
##############################################################################
##############################################################################
* using log directory ‘/Users/biocbuild/bbs-3.11-bioc/meat/alsace.Rcheck’
* using R version 4.0.3 (2020-10-10)
* using platform: x86_64-apple-darwin17.0 (64-bit)
* using session charset: UTF-8
* using option ‘--no-vignettes’
* checking for file ‘alsace/DESCRIPTION’ ... OK
* checking extension type ... Package
* this is package ‘alsace’ version ‘1.24.0’
* checking package namespace information ... OK
* checking package dependencies ... OK
* checking if this is a source package ... OK
* checking if there is a namespace ... OK
* checking for hidden files and directories ... OK
* checking for portable file names ... OK
* checking for sufficient/correct file permissions ... OK
* checking whether package ‘alsace’ can be installed ... OK
* checking installed package size ... OK
* checking package directory ... OK
* checking ‘build’ directory ... OK
* checking DESCRIPTION meta-information ... OK
* checking top-level files ... OK
* checking for left-over files ... OK
* checking index information ... OK
* checking package subdirectories ... OK
* checking R files for non-ASCII characters ... OK
* checking R files for syntax errors ... OK
* checking whether the package can be loaded ... OK
* checking whether the package can be loaded with stated dependencies ... OK
* checking whether the package can be unloaded cleanly ... OK
* checking whether the namespace can be loaded with stated dependencies ... OK
* checking whether the namespace can be unloaded cleanly ... OK
* checking dependencies in R code ... NOTE
'library' or 'require' call to ‘lattice’ in package code.
Please use :: or requireNamespace() instead.
See section 'Suggested packages' in the 'Writing R Extensions' manual.
* checking S3 generic/method consistency ... OK
* checking replacement functions ... OK
* checking foreign function calls ... OK
* checking R code for possible problems ... NOTE
getPeakTable : clusterPeaks: no visible global function definition for
‘stripplot’
getPeakTable : clusterPeaks : <anonymous>: no visible global function
definition for ‘panel.stripplot’
getPeakTable : clusterPeaks : <anonymous>: no visible global function
definition for ‘panel.abline’
Undefined global functions or variables:
panel.abline panel.stripplot stripplot
* checking Rd files ... OK
* checking Rd metadata ... OK
* checking Rd cross-references ... OK
* checking for missing documentation entries ... OK
* checking for code/documentation mismatches ... OK
* checking Rd \usage sections ... OK
* checking Rd contents ... OK
* checking for unstated dependencies in examples ... OK
* checking contents of ‘data’ directory ... OK
* checking data for non-ASCII characters ... OK
* checking data for ASCII and uncompressed saves ... OK
* checking sizes of PDF files under ‘inst/doc’ ... OK
* checking files in ‘vignettes’ ... OK
* checking examples ... OK
Examples with CPU (user + system) or elapsed time > 5s
user system elapsed
components 15.844 0.610 16.472
teaMerged 8.839 0.228 9.072
correctPeaks 6.648 0.154 6.809
doALS 6.604 0.094 6.709
fitpeaks 6.420 0.083 6.512
* checking for unstated dependencies in vignettes ... OK
* checking package vignettes in ‘inst/doc’ ... OK
* checking running R code from vignettes ... SKIPPED
* checking re-building of vignette outputs ... SKIPPED
* checking PDF version of manual ... OK
* DONE
Status: 2 NOTEs
See
‘/Users/biocbuild/bbs-3.11-bioc/meat/alsace.Rcheck/00check.log’
for details.
alsace.Rcheck/00install.out
############################################################################## ############################################################################## ### ### Running command: ### ### /Library/Frameworks/R.framework/Versions/Current/Resources/bin/R CMD INSTALL alsace ### ############################################################################## ############################################################################## * installing to library ‘/Library/Frameworks/R.framework/Versions/4.0/Resources/library’ * installing *source* package ‘alsace’ ... ** using staged installation ** R ** data ** byte-compile and prepare package for lazy loading ** help *** installing help indices ** building package indices ** installing vignettes ** testing if installed package can be loaded from temporary location ** testing if installed package can be loaded from final location ** testing if installed package keeps a record of temporary installation path * DONE (alsace)
alsace.Rcheck/alsace-Ex.timings
| name | user | system | elapsed | |
| components | 15.844 | 0.610 | 16.472 | |
| correctPeaks | 6.648 | 0.154 | 6.809 | |
| correctRT | 3.254 | 0.073 | 3.332 | |
| doALS | 6.604 | 0.094 | 6.709 | |
| filterPeaks | 0.064 | 0.003 | 0.066 | |
| fitpeaks | 6.420 | 0.083 | 6.512 | |
| getAllPeaks | 0.061 | 0.003 | 0.065 | |
| getPeakTable | 3.650 | 0.085 | 3.739 | |
| opa | 1.812 | 0.039 | 1.867 | |
| preprocess | 0.160 | 0.006 | 0.167 | |
| showALSresult | 0.085 | 0.012 | 0.097 | |
| tea | 0.131 | 0.005 | 0.137 | |
| teaMerged | 8.839 | 0.228 | 9.072 | |
| windows | 0.147 | 0.017 | 0.164 | |