| Back to Multiple platform build/check report for BioC 3.11 |
|
This page was generated on 2020-10-16 11:59:04 -0400 (Fri, 16 Oct 2020).
| TO THE DEVELOPERS/MAINTAINERS OF THE TPP2D PACKAGE: Please make sure to use the following settings in order to reproduce any error or warning you see on this page. |
| Package 1818/1905 | Hostname | OS / Arch | INSTALL | BUILD | CHECK | BUILD BIN | ||||||
| TPP2D 1.4.1 Nils Kurzawa
| malbec2 | Linux (Ubuntu 18.04.4 LTS) / x86_64 | OK | OK | OK | |||||||
| tokay2 | Windows Server 2012 R2 Standard / x64 | OK | OK | OK | [ OK ] | |||||||
| machv2 | macOS 10.14.6 Mojave / x86_64 | OK | OK | OK | OK |
| Package: TPP2D |
| Version: 1.4.1 |
| Command: rm -rf TPP2D.buildbin-libdir && mkdir TPP2D.buildbin-libdir && C:\Users\biocbuild\bbs-3.11-bioc\R\bin\R.exe CMD INSTALL --merge-multiarch --build --library=TPP2D.buildbin-libdir TPP2D_1.4.1.tar.gz |
| StartedAt: 2020-10-16 11:30:15 -0400 (Fri, 16 Oct 2020) |
| EndedAt: 2020-10-16 11:31:06 -0400 (Fri, 16 Oct 2020) |
| EllapsedTime: 50.9 seconds |
| RetCode: 0 |
| Status: OK |
| PackageFile: TPP2D_1.4.1.zip |
| PackageFileSize: 1.12 MiB |
##############################################################################
##############################################################################
###
### Running command:
###
### rm -rf TPP2D.buildbin-libdir && mkdir TPP2D.buildbin-libdir && C:\Users\biocbuild\bbs-3.11-bioc\R\bin\R.exe CMD INSTALL --merge-multiarch --build --library=TPP2D.buildbin-libdir TPP2D_1.4.1.tar.gz
###
##############################################################################
##############################################################################
install for i386
* installing *source* package 'TPP2D' ...
** using staged installation
** R
** data
** inst
** byte-compile and prepare package for lazy loading
** help
*** installing help indices
converting help for package 'TPP2D'
finding HTML links ... done
TPP2D-deprecated html
TPP_importCheckConfigTable html
annotateDataList html
bootstrapNull html
bootstrapNullAlternativeModel html
competeModels html
computeFStatFromParams html
computeFdr-deprecated html
computeFdr html
computeFstat html
configWide2Long html
config_tab html
filterOutContaminants html
findHits html
fitAndEvalDataset html
fitH0Model html
fitH1Model html
getFDR html
getModelParamsDf html
getPEC504Temperature html
getPvalues html
gg_qq html
import2dDataset html
import2dMain html
plot2dTppFit html
plot2dTppProfile html
plot2dTppRelProfile html
raw_dat_list html
recomputeSignalFromRatios html
renameColumns html
resolveAmbiguousProteinNames html
runTPP2D html
simulated_cell_extract_df html
tpp2dExperiment-class html
** building package indices
** installing vignettes
** testing if installed package can be loaded from temporary location
** testing if installed package can be loaded from final location
** testing if installed package keeps a record of temporary installation path
install for x64
* installing *source* package 'TPP2D' ...
** testing if installed package can be loaded
* MD5 sums
packaged installation of 'TPP2D' as TPP2D_1.4.1.zip
* DONE (TPP2D)