| Back to Multiple platform build/check report for BioC 3.11 | 
 | 
This page was generated on 2020-10-17 11:55:56 -0400 (Sat, 17 Oct 2020).
| TO THE DEVELOPERS/MAINTAINERS OF THE TPP2D PACKAGE: Please make sure to use the following settings in order to reproduce any error or warning you see on this page. | 
| Package 1818/1905 | Hostname | OS / Arch | INSTALL | BUILD | CHECK | BUILD BIN | ||||||
| TPP2D 1.4.1 Nils Kurzawa 
 | malbec2 | Linux (Ubuntu 18.04.4 LTS) / x86_64 | OK | OK | [ OK ] |  | ||||||
| tokay2 | Windows Server 2012 R2 Standard / x64 | OK | OK | OK | NA | |||||||
| machv2 | macOS 10.14.6 Mojave / x86_64 | OK | OK | OK | OK |  | 
| Package: TPP2D | 
| Version: 1.4.1 | 
| Command: /home/biocbuild/bbs-3.11-bioc/R/bin/R CMD check --install=check:TPP2D.install-out.txt --library=/home/biocbuild/bbs-3.11-bioc/R/library --no-vignettes --timings TPP2D_1.4.1.tar.gz | 
| StartedAt: 2020-10-17 06:09:20 -0400 (Sat, 17 Oct 2020) | 
| EndedAt: 2020-10-17 06:11:26 -0400 (Sat, 17 Oct 2020) | 
| EllapsedTime: 126.3 seconds | 
| RetCode: 0 | 
| Status: OK | 
| CheckDir: TPP2D.Rcheck | 
| Warnings: 0 | 
##############################################################################
##############################################################################
###
### Running command:
###
###   /home/biocbuild/bbs-3.11-bioc/R/bin/R CMD check --install=check:TPP2D.install-out.txt --library=/home/biocbuild/bbs-3.11-bioc/R/library --no-vignettes --timings TPP2D_1.4.1.tar.gz
###
##############################################################################
##############################################################################
* using log directory ‘/home/biocbuild/bbs-3.11-bioc/meat/TPP2D.Rcheck’
* using R version 4.0.3 (2020-10-10)
* using platform: x86_64-pc-linux-gnu (64-bit)
* using session charset: UTF-8
* using option ‘--no-vignettes’
* checking for file ‘TPP2D/DESCRIPTION’ ... OK
* this is package ‘TPP2D’ version ‘1.4.1’
* package encoding: UTF-8
* checking package namespace information ... OK
* checking package dependencies ... OK
* checking if this is a source package ... OK
* checking if there is a namespace ... OK
* checking for hidden files and directories ... OK
* checking for portable file names ... OK
* checking for sufficient/correct file permissions ... OK
* checking whether package ‘TPP2D’ can be installed ... OK
* checking installed package size ... OK
* checking package directory ... OK
* checking ‘build’ directory ... OK
* checking DESCRIPTION meta-information ... OK
* checking top-level files ... OK
* checking for left-over files ... OK
* checking index information ... OK
* checking package subdirectories ... OK
* checking R files for non-ASCII characters ... OK
* checking R files for syntax errors ... OK
* checking whether the package can be loaded ... OK
* checking whether the package can be loaded with stated dependencies ... OK
* checking whether the package can be unloaded cleanly ... OK
* checking whether the namespace can be loaded with stated dependencies ... OK
* checking whether the namespace can be unloaded cleanly ... OK
* checking dependencies in R code ... OK
* checking S3 generic/method consistency ... OK
* checking replacement functions ... OK
* checking foreign function calls ... OK
* checking R code for possible problems ... OK
* checking Rd files ... OK
* checking Rd metadata ... OK
* checking Rd cross-references ... OK
* checking for missing documentation entries ... OK
* checking for code/documentation mismatches ... OK
* checking Rd \usage sections ... OK
* checking Rd contents ... OK
* checking for unstated dependencies in examples ... OK
* checking contents of ‘data’ directory ... OK
* checking data for non-ASCII characters ... OK
* checking data for ASCII and uncompressed saves ... OK
* checking R/sysdata.rda ... OK
* checking files in ‘vignettes’ ... OK
* checking examples ... OK
Examples with CPU (user + system) or elapsed time > 5s
                        user system elapsed
getModelParamsDf       8.871  0.004   8.876
computeFStatFromParams 7.974  0.000   7.974
fitAndEvalDataset      6.095  0.004   6.100
computeFstat           5.181  0.000   5.181
findHits               2.007  0.020   5.491
getFDR                 1.325  0.033   6.877
* checking for unstated dependencies in ‘tests’ ... OK
* checking tests ...
  Running ‘testthat.R’
 OK
* checking for unstated dependencies in vignettes ... OK
* checking package vignettes in ‘inst/doc’ ... OK
* checking running R code from vignettes ... SKIPPED
* checking re-building of vignette outputs ... SKIPPED
* checking PDF version of manual ... OK
* DONE
Status: OK
TPP2D.Rcheck/00install.out
############################################################################## ############################################################################## ### ### Running command: ### ### /home/biocbuild/bbs-3.11-bioc/R/bin/R CMD INSTALL TPP2D ### ############################################################################## ############################################################################## * installing to library ‘/home/biocbuild/bbs-3.11-bioc/R/library’ * installing *source* package ‘TPP2D’ ... ** using staged installation ** R ** data ** inst ** byte-compile and prepare package for lazy loading ** help *** installing help indices ** building package indices ** installing vignettes ** testing if installed package can be loaded from temporary location ** testing if installed package can be loaded from final location ** testing if installed package keeps a record of temporary installation path * DONE (TPP2D)
TPP2D.Rcheck/tests/testthat.Rout
R version 4.0.3 (2020-10-10) -- "Bunny-Wunnies Freak Out"
Copyright (C) 2020 The R Foundation for Statistical Computing
Platform: x86_64-pc-linux-gnu (64-bit)
R is free software and comes with ABSOLUTELY NO WARRANTY.
You are welcome to redistribute it under certain conditions.
Type 'license()' or 'licence()' for distribution details.
R is a collaborative project with many contributors.
Type 'contributors()' for more information and
'citation()' on how to cite R or R packages in publications.
Type 'demo()' for some demos, 'help()' for on-line help, or
'help.start()' for an HTML browser interface to help.
Type 'q()' to quit R.
> Sys.setenv("R_TESTS" = "")
> library(testthat)
> library(TPP2D)
Loading required package: dplyr
Attaching package: 'dplyr'
The following object is masked from 'package:testthat':
    matches
The following objects are masked from 'package:stats':
    filter, lag
The following objects are masked from 'package:base':
    intersect, setdiff, setequal, union
> 
> test_check("TPP2D")
══ testthat results  ═══════════════════════════════════════════════════════════
[ OK: 15 | SKIPPED: 0 | WARNINGS: 1 | FAILED: 0 ]
> 
> proc.time()
   user  system elapsed 
  6.889   0.208  11.679 
TPP2D.Rcheck/TPP2D-Ex.timings
| name | user | system | elapsed | |
| TPP_importCheckConfigTable | 0.036 | 0.000 | 0.036 | |
| annotateDataList | 0.867 | 0.004 | 0.871 | |
| bootstrapNull | 0.116 | 0.003 | 1.817 | |
| bootstrapNullAlternativeModel | 2.150 | 0.068 | 2.218 | |
| competeModels | 2.923 | 0.000 | 2.923 | |
| computeFStatFromParams | 7.974 | 0.000 | 7.974 | |
| computeFstat | 5.181 | 0.000 | 5.181 | |
| configWide2Long | 0.007 | 0.000 | 0.007 | |
| config_tab | 0.001 | 0.000 | 0.001 | |
| filterOutContaminants | 0.032 | 0.000 | 0.032 | |
| findHits | 2.007 | 0.020 | 5.491 | |
| fitAndEvalDataset | 6.095 | 0.004 | 6.100 | |
| fitH0Model | 0.242 | 0.000 | 0.242 | |
| fitH1Model | 1.277 | 0.000 | 1.276 | |
| getFDR | 1.325 | 0.033 | 6.877 | |
| getModelParamsDf | 8.871 | 0.004 | 8.876 | |
| getPEC504Temperature | 0.865 | 0.000 | 0.865 | |
| getPvalues | 1.197 | 0.013 | 4.901 | |
| gg_qq | 0.083 | 0.004 | 0.087 | |
| import2dDataset | 0.729 | 0.004 | 0.732 | |
| import2dMain | 0.289 | 0.000 | 0.289 | |
| plot2dTppFit | 0.322 | 0.004 | 0.325 | |
| plot2dTppProfile | 0.263 | 0.000 | 0.264 | |
| plot2dTppRelProfile | 0.279 | 0.000 | 0.280 | |
| raw_dat_list | 0.002 | 0.000 | 0.002 | |
| recomputeSignalFromRatios | 0.060 | 0.000 | 0.059 | |
| renameColumns | 0.848 | 0.000 | 0.849 | |
| resolveAmbiguousProteinNames | 0.028 | 0.000 | 0.029 | |
| runTPP2D | 1.723 | 0.020 | 1.743 | |
| simulated_cell_extract_df | 0.003 | 0.000 | 0.002 | |
| tpp2dExperiment-class | 0.001 | 0.000 | 0.000 | |