| Back to Multiple platform build/check report for BioC 3.11 |
|
This page was generated on 2020-10-17 11:59:48 -0400 (Sat, 17 Oct 2020).
| TO THE DEVELOPERS/MAINTAINERS OF THE TPP PACKAGE: Please make sure to use the following settings in order to reproduce any error or warning you see on this page. |
| Package 1817/1905 | Hostname | OS / Arch | INSTALL | BUILD | CHECK | BUILD BIN | ||||||
| TPP 3.16.5 Dorothee Childs
| malbec2 | Linux (Ubuntu 18.04.4 LTS) / x86_64 | OK | OK | OK | |||||||
| tokay2 | Windows Server 2012 R2 Standard / x64 | OK | OK | OK | NA | |||||||
| machv2 | macOS 10.14.6 Mojave / x86_64 | OK | OK | [ OK ] | OK |
| Package: TPP |
| Version: 3.16.5 |
| Command: /Library/Frameworks/R.framework/Versions/Current/Resources/bin/R CMD check --install=check:TPP.install-out.txt --library=/Library/Frameworks/R.framework/Versions/Current/Resources/library --no-vignettes --timings TPP_3.16.5.tar.gz |
| StartedAt: 2020-10-17 06:00:02 -0400 (Sat, 17 Oct 2020) |
| EndedAt: 2020-10-17 06:12:46 -0400 (Sat, 17 Oct 2020) |
| EllapsedTime: 763.5 seconds |
| RetCode: 0 |
| Status: OK |
| CheckDir: TPP.Rcheck |
| Warnings: 0 |
##############################################################################
##############################################################################
###
### Running command:
###
### /Library/Frameworks/R.framework/Versions/Current/Resources/bin/R CMD check --install=check:TPP.install-out.txt --library=/Library/Frameworks/R.framework/Versions/Current/Resources/library --no-vignettes --timings TPP_3.16.5.tar.gz
###
##############################################################################
##############################################################################
* using log directory ‘/Users/biocbuild/bbs-3.11-bioc/meat/TPP.Rcheck’
* using R version 4.0.3 (2020-10-10)
* using platform: x86_64-apple-darwin17.0 (64-bit)
* using session charset: UTF-8
* using option ‘--no-vignettes’
* checking for file ‘TPP/DESCRIPTION’ ... OK
* checking extension type ... Package
* this is package ‘TPP’ version ‘3.16.5’
* checking package namespace information ... OK
* checking package dependencies ... OK
* checking if this is a source package ... OK
* checking if there is a namespace ... OK
* checking for hidden files and directories ... OK
* checking for portable file names ... OK
* checking for sufficient/correct file permissions ... OK
* checking whether package ‘TPP’ can be installed ... OK
* checking installed package size ... NOTE
installed size is 12.8Mb
sub-directories of 1Mb or more:
data 1.9Mb
example_data 8.0Mb
test_data 1.9Mb
* checking package directory ... OK
* checking ‘build’ directory ... OK
* checking DESCRIPTION meta-information ... OK
* checking top-level files ... OK
* checking for left-over files ... OK
* checking index information ... OK
* checking package subdirectories ... OK
* checking R files for non-ASCII characters ... OK
* checking R files for syntax errors ... OK
* checking whether the package can be loaded ... OK
* checking whether the package can be loaded with stated dependencies ... OK
* checking whether the package can be unloaded cleanly ... OK
* checking whether the namespace can be loaded with stated dependencies ... OK
* checking whether the namespace can be unloaded cleanly ... OK
* checking dependencies in R code ... NOTE
Namespace in Imports field not imported from: ‘broom’
All declared Imports should be used.
Unexported objects imported by ':::' calls:
‘doParallel:::.options’ ‘mefa:::rep.data.frame’
See the note in ?`:::` about the use of this operator.
* checking S3 generic/method consistency ... OK
* checking replacement functions ... OK
* checking foreign function calls ... OK
* checking R code for possible problems ... NOTE
File ‘TPP/R/TPP.R’:
.onLoad calls:
packageStartupMessage(msgText, "\n")
See section ‘Good practice’ in '?.onAttach'.
fitSigmoidCCR: no visible global function definition for
‘capture.output’
modelSelector: no visible binding for global variable ‘testHypothesis’
modelSelector: no visible binding for global variable ‘fitMetric’
modelSelector: no visible binding for global variable ‘minMetric’
plot_fSta_distribution: no visible binding for global variable
‘..density..’
plot_pVal_distribution: no visible binding for global variable
‘..density..’
tpp2dCreateTPPTRreference: no visible binding for global variable
‘meltcurve_plot’
tpp2dCreateTPPTRreference: no visible binding for global variable
‘Protein_ID’
tpp2dExport: no visible binding for global variable ‘temperature’
tpp2dImport: no visible binding for global variable ‘temperature’
tpp2dNormalize: no visible binding for global variable ‘temperature’
Undefined global functions or variables:
..density.. Protein_ID capture.output fitMetric meltcurve_plot
minMetric temperature testHypothesis
Consider adding
importFrom("utils", "capture.output")
to your NAMESPACE file.
* checking Rd files ... OK
* checking Rd metadata ... OK
* checking Rd cross-references ... OK
* checking for missing documentation entries ... OK
* checking for code/documentation mismatches ... OK
* checking Rd \usage sections ... OK
* checking Rd contents ... OK
* checking for unstated dependencies in examples ... OK
* checking contents of ‘data’ directory ... OK
* checking data for non-ASCII characters ... OK
* checking data for ASCII and uncompressed saves ... OK
* checking sizes of PDF files under ‘inst/doc’ ... OK
* checking files in ‘vignettes’ ... OK
* checking examples ... OK
Examples with CPU (user + system) or elapsed time > 5s
user system elapsed
tpptrSplineFitAndTest 36.567 0.095 45.337
analyzeTPPTR 35.562 0.150 35.743
tpptrPlotSplines 21.229 0.053 27.244
tpptrFTest 20.187 0.055 20.290
tpp2dSplineFitAndTest 19.288 0.074 19.376
tpp2dCreateDRplots 16.706 0.164 16.890
tppQCPlotsCorrelateExperiments 15.923 0.137 16.083
tpp2dMerge2dRef 9.864 0.162 10.039
analyze2DTPP 9.713 0.192 9.913
tpp2dCurveFit 9.731 0.143 9.907
tppccrPlotCurves 8.636 0.057 8.702
analyzeTPPCCR 6.676 0.055 6.735
tppccrResultTable 6.374 0.046 6.426
tppccrCurveFit 6.232 0.041 6.279
* checking for unstated dependencies in ‘tests’ ... OK
* checking tests ...
Running ‘testthat.R’
OK
* checking for unstated dependencies in vignettes ... OK
* checking package vignettes in ‘inst/doc’ ... OK
* checking running R code from vignettes ... SKIPPED
* checking re-building of vignette outputs ... SKIPPED
* checking PDF version of manual ... OK
* DONE
Status: 3 NOTEs
See
‘/Users/biocbuild/bbs-3.11-bioc/meat/TPP.Rcheck/00check.log’
for details.
TPP.Rcheck/00install.out
############################################################################## ############################################################################## ### ### Running command: ### ### /Library/Frameworks/R.framework/Versions/Current/Resources/bin/R CMD INSTALL TPP ### ############################################################################## ############################################################################## * installing to library ‘/Library/Frameworks/R.framework/Versions/4.0/Resources/library’ * installing *source* package ‘TPP’ ... ** using staged installation ** R ** data ** inst ** byte-compile and prepare package for lazy loading ** help *** installing help indices ** building package indices ** installing vignettes ** testing if installed package can be loaded from temporary location ** testing if installed package can be loaded from final location ** testing if installed package keeps a record of temporary installation path * DONE (TPP)
TPP.Rcheck/tests/testthat.Rout
R version 4.0.3 (2020-10-10) -- "Bunny-Wunnies Freak Out"
Copyright (C) 2020 The R Foundation for Statistical Computing
Platform: x86_64-apple-darwin17.0 (64-bit)
R is free software and comes with ABSOLUTELY NO WARRANTY.
You are welcome to redistribute it under certain conditions.
Type 'license()' or 'licence()' for distribution details.
R is a collaborative project with many contributors.
Type 'contributors()' for more information and
'citation()' on how to cite R or R packages in publications.
Type 'demo()' for some demos, 'help()' for on-line help, or
'help.start()' for an HTML browser interface to help.
Type 'q()' to quit R.
> library(testthat)
> library(TPP)
Loading required package: Biobase
Loading required package: BiocGenerics
Loading required package: parallel
Attaching package: 'BiocGenerics'
The following objects are masked from 'package:parallel':
clusterApply, clusterApplyLB, clusterCall, clusterEvalQ,
clusterExport, clusterMap, parApply, parCapply, parLapply,
parLapplyLB, parRapply, parSapply, parSapplyLB
The following objects are masked from 'package:stats':
IQR, mad, sd, var, xtabs
The following objects are masked from 'package:base':
Filter, Find, Map, Position, Reduce, anyDuplicated, append,
as.data.frame, basename, cbind, colnames, dirname, do.call,
duplicated, eval, evalq, get, grep, grepl, intersect, is.unsorted,
lapply, mapply, match, mget, order, paste, pmax, pmax.int, pmin,
pmin.int, rank, rbind, rownames, sapply, setdiff, sort, table,
tapply, union, unique, unsplit, which, which.max, which.min
Welcome to Bioconductor
Vignettes contain introductory material; view with
'browseVignettes()'. To cite Bioconductor, see
'citation("Biobase")', and for packages 'citation("pkgname")'.
Loading required package: dplyr
Attaching package: 'dplyr'
The following object is masked from 'package:Biobase':
combine
The following objects are masked from 'package:BiocGenerics':
combine, intersect, setdiff, union
The following object is masked from 'package:testthat':
matches
The following objects are masked from 'package:stats':
filter, lag
The following objects are masked from 'package:base':
intersect, setdiff, setequal, union
Loading required package: magrittr
Attaching package: 'magrittr'
The following objects are masked from 'package:testthat':
equals, is_less_than, not
Loading required package: tidyr
Attaching package: 'tidyr'
The following object is masked from 'package:magrittr':
extract
The following object is masked from 'package:testthat':
matches
>
> test_check("TPP")
[[1]]
[[2]]
[[3]]
[[1]]
[[2]]
[[3]]
[[1]]
[[2]]
[[3]]
[[1]]
══ testthat results ═══════════════════════════════════════════════════════════
[ OK: 285 | SKIPPED: 0 | WARNINGS: 1 | FAILED: 0 ]
>
> proc.time()
user system elapsed
356.516 4.750 384.921
TPP.Rcheck/TPP-Ex.timings
| name | user | system | elapsed | |
| analyze2DTPP | 9.713 | 0.192 | 9.913 | |
| analyzeTPPCCR | 6.676 | 0.055 | 6.735 | |
| analyzeTPPTR | 35.562 | 0.150 | 35.743 | |
| tpp2dAddAdditionalInfo | 0.034 | 0.001 | 0.035 | |
| tpp2dCalcFractAbundance | 4.458 | 0.096 | 4.560 | |
| tpp2dComputeFoldChanges | 0.805 | 0.015 | 0.821 | |
| tpp2dCreateDRplots | 16.706 | 0.164 | 16.890 | |
| tpp2dCurveFit | 9.731 | 0.143 | 9.907 | |
| tpp2dExport | 0.056 | 0.005 | 0.061 | |
| tpp2dImport | 0.561 | 0.013 | 0.576 | |
| tpp2dMerge2dRef | 9.864 | 0.162 | 10.039 | |
| tpp2dNormalize | 1.192 | 0.021 | 1.212 | |
| tpp2dSplineFitAndTest | 19.288 | 0.074 | 19.376 | |
| tpp2dSplinePlot | 0.012 | 0.002 | 0.014 | |
| tpp2dTRReferenceObject | 0.031 | 0.003 | 0.034 | |
| tppDefaultTheme | 0.673 | 0.006 | 0.678 | |
| tppExport | 0.559 | 0.046 | 0.608 | |
| tppQCPlotsCorrelateExperiments | 15.923 | 0.137 | 16.083 | |
| tppccrCurveFit | 6.232 | 0.041 | 6.279 | |
| tppccrImport | 0.179 | 0.005 | 0.184 | |
| tppccrNormalize | 0.173 | 0.003 | 0.177 | |
| tppccrNormalizeToReference | 0.265 | 0.007 | 0.271 | |
| tppccrPlotCurves | 8.636 | 0.057 | 8.702 | |
| tppccrResultTable | 6.374 | 0.046 | 6.426 | |
| tppccrTransform | 0.291 | 0.007 | 0.328 | |
| tpptrAnalyzeMeltingCurves | 0.574 | 0.005 | 0.580 | |
| tpptrCurveFit | 1.291 | 0.019 | 1.312 | |
| tpptrDefaultNormReqs | 0.586 | 0.008 | 0.594 | |
| tpptrFTest | 20.187 | 0.055 | 20.290 | |
| tpptrFitSplines | 2.304 | 0.022 | 2.327 | |
| tpptrImport | 0.284 | 0.004 | 0.289 | |
| tpptrNormalize | 0.574 | 0.005 | 0.580 | |
| tpptrPlotSplines | 21.229 | 0.053 | 27.244 | |
| tpptrSplineFitAndTest | 36.567 | 0.095 | 45.337 | |
| tpptrTidyUpESets | 0.871 | 0.030 | 0.925 | |