| Back to Multiple platform build/check report for BioC 3.11 |
|
This page was generated on 2020-10-17 11:59:48 -0400 (Sat, 17 Oct 2020).
| TO THE DEVELOPERS/MAINTAINERS OF THE TPP PACKAGE: Please make sure to use the following settings in order to reproduce any error or warning you see on this page. |
| Package 1817/1905 | Hostname | OS / Arch | INSTALL | BUILD | CHECK | BUILD BIN | ||||||
| TPP 3.16.5 Dorothee Childs
| malbec2 | Linux (Ubuntu 18.04.4 LTS) / x86_64 | OK | OK | OK | |||||||
| tokay2 | Windows Server 2012 R2 Standard / x64 | OK | OK | OK | NA | |||||||
| machv2 | macOS 10.14.6 Mojave / x86_64 | OK | [ OK ] | OK | OK |
| Package: TPP |
| Version: 3.16.5 |
| Command: /Library/Frameworks/R.framework/Versions/Current/Resources/bin/R CMD build --keep-empty-dirs --no-resave-data TPP |
| StartedAt: 2020-10-16 21:37:37 -0400 (Fri, 16 Oct 2020) |
| EndedAt: 2020-10-16 21:39:41 -0400 (Fri, 16 Oct 2020) |
| EllapsedTime: 124.3 seconds |
| RetCode: 0 |
| Status: OK |
| PackageFile: TPP_3.16.5.tar.gz |
| PackageFileSize: 8.407 MiB |
############################################################################## ############################################################################## ### ### Running command: ### ### /Library/Frameworks/R.framework/Versions/Current/Resources/bin/R CMD build --keep-empty-dirs --no-resave-data TPP ### ############################################################################## ############################################################################## * checking for file ‘TPP/DESCRIPTION’ ... OK * preparing ‘TPP’: * checking DESCRIPTION meta-information ... OK * installing the package to build vignettes * creating vignettes ... OK * checking for LF line-endings in source and make files and shell scripts * checking for empty or unneeded directories * looking to see if a ‘data/datalist’ file should be added * building ‘TPP_3.16.5.tar.gz’