| Back to Multiple platform build/check report for BioC 3.11 | 
 | 
This page was generated on 2020-10-17 11:55:49 -0400 (Sat, 17 Oct 2020).
| TO THE DEVELOPERS/MAINTAINERS OF THE SpidermiR PACKAGE: Please make sure to use the following settings in order to reproduce any error or warning you see on this page. | 
| Package 1712/1905 | Hostname | OS / Arch | INSTALL | BUILD | CHECK | BUILD BIN | ||||||
| SpidermiR 1.18.2 Claudia Cava 
 | malbec2 | Linux (Ubuntu 18.04.4 LTS) / x86_64 | OK | [ OK ] | WARNINGS |  | ||||||
| tokay2 | Windows Server 2012 R2 Standard / x64 | OK | OK | WARNINGS | NA | |||||||
| machv2 | macOS 10.14.6 Mojave / x86_64 | OK | OK | WARNINGS | OK |  | 
| Package: SpidermiR | 
| Version: 1.18.2 | 
| Command: /home/biocbuild/bbs-3.11-bioc/R/bin/R CMD build --keep-empty-dirs --no-resave-data SpidermiR | 
| StartedAt: 2020-10-16 22:00:34 -0400 (Fri, 16 Oct 2020) | 
| EndedAt: 2020-10-16 22:02:16 -0400 (Fri, 16 Oct 2020) | 
| EllapsedTime: 101.9 seconds | 
| RetCode: 0 | 
| Status: OK | 
| PackageFile: SpidermiR_1.18.2.tar.gz | 
| PackageFileSize: 749.2 KiB | 
############################################################################## ############################################################################## ### ### Running command: ### ### /home/biocbuild/bbs-3.11-bioc/R/bin/R CMD build --keep-empty-dirs --no-resave-data SpidermiR ### ############################################################################## ############################################################################## * checking for file ‘SpidermiR/DESCRIPTION’ ... OK * preparing ‘SpidermiR’: * checking DESCRIPTION meta-information ... OK * installing the package to build vignettes * creating vignettes ... OK * checking for LF line-endings in source and make files and shell scripts * checking for empty or unneeded directories * building ‘SpidermiR_1.18.2.tar.gz’