| Back to Multiple platform build/check report for BioC 3.11 |
|
This page was generated on 2020-10-17 11:59:45 -0400 (Sat, 17 Oct 2020).
| TO THE DEVELOPERS/MAINTAINERS OF THE SWATH2stats PACKAGE: Please make sure to use the following settings in order to reproduce any error or warning you see on this page. |
| Package 1765/1905 | Hostname | OS / Arch | INSTALL | BUILD | CHECK | BUILD BIN | ||||||
| SWATH2stats 1.18.0 Peter Blattmann
| malbec2 | Linux (Ubuntu 18.04.4 LTS) / x86_64 | OK | OK | OK | |||||||
| tokay2 | Windows Server 2012 R2 Standard / x64 | OK | OK | OK | NA | |||||||
| machv2 | macOS 10.14.6 Mojave / x86_64 | OK | OK | [ OK ] | OK |
| Package: SWATH2stats |
| Version: 1.18.0 |
| Command: /Library/Frameworks/R.framework/Versions/Current/Resources/bin/R CMD check --install=check:SWATH2stats.install-out.txt --library=/Library/Frameworks/R.framework/Versions/Current/Resources/library --no-vignettes --timings SWATH2stats_1.18.0.tar.gz |
| StartedAt: 2020-10-17 05:46:40 -0400 (Sat, 17 Oct 2020) |
| EndedAt: 2020-10-17 05:50:56 -0400 (Sat, 17 Oct 2020) |
| EllapsedTime: 256.6 seconds |
| RetCode: 0 |
| Status: OK |
| CheckDir: SWATH2stats.Rcheck |
| Warnings: 0 |
##############################################################################
##############################################################################
###
### Running command:
###
### /Library/Frameworks/R.framework/Versions/Current/Resources/bin/R CMD check --install=check:SWATH2stats.install-out.txt --library=/Library/Frameworks/R.framework/Versions/Current/Resources/library --no-vignettes --timings SWATH2stats_1.18.0.tar.gz
###
##############################################################################
##############################################################################
* using log directory ‘/Users/biocbuild/bbs-3.11-bioc/meat/SWATH2stats.Rcheck’
* using R version 4.0.3 (2020-10-10)
* using platform: x86_64-apple-darwin17.0 (64-bit)
* using session charset: UTF-8
* using option ‘--no-vignettes’
* checking for file ‘SWATH2stats/DESCRIPTION’ ... OK
* checking extension type ... Package
* this is package ‘SWATH2stats’ version ‘1.18.0’
* checking package namespace information ... OK
* checking package dependencies ... NOTE
Packages which this enhances but not available for checking:
'imsbInfer', 'aLFQ'
* checking if this is a source package ... OK
* checking if there is a namespace ... OK
* checking for hidden files and directories ... OK
* checking for portable file names ... OK
* checking for sufficient/correct file permissions ... OK
* checking whether package ‘SWATH2stats’ can be installed ... OK
* checking installed package size ... OK
* checking package directory ... OK
* checking ‘build’ directory ... OK
* checking DESCRIPTION meta-information ... OK
* checking top-level files ... OK
* checking for left-over files ... OK
* checking index information ... OK
* checking package subdirectories ... OK
* checking R files for non-ASCII characters ... OK
* checking R files for syntax errors ... OK
* checking whether the package can be loaded ... OK
* checking whether the package can be loaded with stated dependencies ... OK
* checking whether the package can be unloaded cleanly ... OK
* checking whether the namespace can be loaded with stated dependencies ... OK
* checking whether the namespace can be unloaded cleanly ... OK
* checking dependencies in R code ... OK
* checking S3 generic/method consistency ... OK
* checking replacement functions ... OK
* checking foreign function calls ... OK
* checking R code for possible problems ... OK
* checking Rd files ... OK
* checking Rd metadata ... OK
* checking Rd cross-references ... OK
* checking for missing documentation entries ... OK
* checking for code/documentation mismatches ... OK
* checking Rd \usage sections ... OK
* checking Rd contents ... OK
* checking for unstated dependencies in examples ... OK
* checking contents of ‘data’ directory ... OK
* checking data for non-ASCII characters ... OK
* checking data for ASCII and uncompressed saves ... OK
* checking sizes of PDF files under ‘inst/doc’ ... OK
* checking files in ‘vignettes’ ... OK
* checking examples ... OK
Examples with CPU (user + system) or elapsed time > 5s
user system elapsed
convert_protein_ids 5.155 0.055 9.887
load_mart 4.309 0.031 8.979
* checking for unstated dependencies in ‘tests’ ... OK
* checking tests ...
Running ‘test-all.R’
OK
* checking for unstated dependencies in vignettes ... OK
* checking package vignettes in ‘inst/doc’ ... OK
* checking running R code from vignettes ... SKIPPED
* checking re-building of vignette outputs ... SKIPPED
* checking PDF version of manual ... OK
* DONE
Status: 1 NOTE
See
‘/Users/biocbuild/bbs-3.11-bioc/meat/SWATH2stats.Rcheck/00check.log’
for details.
SWATH2stats.Rcheck/00install.out
############################################################################## ############################################################################## ### ### Running command: ### ### /Library/Frameworks/R.framework/Versions/Current/Resources/bin/R CMD INSTALL SWATH2stats ### ############################################################################## ############################################################################## * installing to library ‘/Library/Frameworks/R.framework/Versions/4.0/Resources/library’ * installing *source* package ‘SWATH2stats’ ... ** using staged installation ** R ** data ** inst ** byte-compile and prepare package for lazy loading ** help *** installing help indices ** building package indices ** installing vignettes ** testing if installed package can be loaded from temporary location ** testing if installed package can be loaded from final location ** testing if installed package keeps a record of temporary installation path * DONE (SWATH2stats)
SWATH2stats.Rcheck/tests/test-all.Rout
R version 4.0.3 (2020-10-10) -- "Bunny-Wunnies Freak Out"
Copyright (C) 2020 The R Foundation for Statistical Computing
Platform: x86_64-apple-darwin17.0 (64-bit)
R is free software and comes with ABSOLUTELY NO WARRANTY.
You are welcome to redistribute it under certain conditions.
Type 'license()' or 'licence()' for distribution details.
R is a collaborative project with many contributors.
Type 'contributors()' for more information and
'citation()' on how to cite R or R packages in publications.
Type 'demo()' for some demos, 'help()' for on-line help, or
'help.start()' for an HTML browser interface to help.
Type 'q()' to quit R.
> library(testthat)
> test_check("SWATH2stats")
Loading required package: SWATH2stats
[1] "peterb_J131223_054"
[1] "peterb_L150425_011_SW"
[1] "peterb_L150514_002_SW"
══ testthat results ═══════════════════════════════════════════════════════════
[ OK: 113 | SKIPPED: 0 | WARNINGS: 13 | FAILED: 0 ]
>
> proc.time()
user system elapsed
23.036 0.685 31.236
SWATH2stats.Rcheck/SWATH2stats-Ex.timings
| name | user | system | elapsed | |
| JPP_update | 0.203 | 0.007 | 0.210 | |
| add_genesymbol | 0.014 | 0.002 | 0.015 | |
| assess_decoy_rate | 0.159 | 0.003 | 0.163 | |
| assess_fdr_byrun | 0.309 | 0.009 | 0.319 | |
| assess_fdr_overall | 0.194 | 0.011 | 0.206 | |
| convert4MSstats | 0.958 | 0.025 | 0.984 | |
| convert4PECA | 0.254 | 0.003 | 0.258 | |
| convert4aLFQ | 0.881 | 0.017 | 0.900 | |
| convert4mapDIA | 0.827 | 0.022 | 0.852 | |
| convert4pythonscript | 0.229 | 0.004 | 0.233 | |
| convert_protein_ids | 5.155 | 0.055 | 9.887 | |
| count_analytes | 0.235 | 0.005 | 0.240 | |
| disaggregate | 1.009 | 0.022 | 1.032 | |
| filter_all_peptides | 0.230 | 0.006 | 0.236 | |
| filter_mscore_all | 0.288 | 0.004 | 0.292 | |
| filter_mscore_fdr | 0.682 | 0.038 | 0.721 | |
| filter_on_max_peptides | 0.286 | 0.003 | 0.290 | |
| filter_on_min_peptides | 0.267 | 0.008 | 0.276 | |
| filter_proteotypic_peptides | 0.210 | 0.007 | 0.217 | |
| import_data | 0.737 | 0.028 | 0.765 | |
| load_mart | 4.309 | 0.031 | 8.979 | |
| mscore4assayfdr | 0.546 | 0.015 | 0.561 | |
| mscore4pepfdr | 0.473 | 0.011 | 0.485 | |
| mscore4protfdr | 0.333 | 0.011 | 0.343 | |
| plot.fdr_cube | 0.253 | 0.003 | 0.258 | |
| plot.fdr_table | 0.232 | 0.008 | 0.241 | |
| plot_correlation_between_samples | 0.570 | 0.012 | 0.583 | |
| plot_variation | 0.766 | 0.068 | 0.834 | |
| plot_variation_vs_total | 0.780 | 0.060 | 0.842 | |
| reduce_OpenSWATH_output | 0.169 | 0.002 | 0.171 | |
| removeDecoyProteins | 0.211 | 0.004 | 0.214 | |
| sample_annotation | 0.206 | 0.002 | 0.209 | |
| transform_MSstats_OpenSWATH | 0.008 | 0.002 | 0.010 | |
| unifyProteinGroupLabels | 0.193 | 0.002 | 0.196 | |
| write_matrix_peptides | 0.201 | 0.023 | 0.224 | |
| write_matrix_proteins | 0.219 | 0.007 | 0.226 | |