| Back to Multiple platform build/check report for BioC 3.11 |
|
This page was generated on 2020-10-17 11:59:45 -0400 (Sat, 17 Oct 2020).
| TO THE DEVELOPERS/MAINTAINERS OF THE SWATH2stats PACKAGE: Please make sure to use the following settings in order to reproduce any error or warning you see on this page. |
| Package 1765/1905 | Hostname | OS / Arch | INSTALL | BUILD | CHECK | BUILD BIN | ||||||
| SWATH2stats 1.18.0 Peter Blattmann
| malbec2 | Linux (Ubuntu 18.04.4 LTS) / x86_64 | OK | OK | OK | |||||||
| tokay2 | Windows Server 2012 R2 Standard / x64 | OK | OK | OK | NA | |||||||
| machv2 | macOS 10.14.6 Mojave / x86_64 | OK | OK | OK | [ OK ] |
| Package: SWATH2stats |
| Version: 1.18.0 |
| Command: rm -rf SWATH2stats.buildbin-libdir && mkdir SWATH2stats.buildbin-libdir && /Users/biocbuild/BBS/utils/build-universal.sh SWATH2stats_1.18.0.tar.gz /Library/Frameworks/R.framework/Versions/Current/Resources/bin/R SWATH2stats.buildbin-libdir |
| StartedAt: 2020-10-17 08:05:05 -0400 (Sat, 17 Oct 2020) |
| EndedAt: 2020-10-17 08:05:40 -0400 (Sat, 17 Oct 2020) |
| EllapsedTime: 34.8 seconds |
| RetCode: 0 |
| Status: OK |
| PackageFile: SWATH2stats_1.18.0.tgz |
| PackageFileSize: 3.092 MiB |
############################################################################## ############################################################################## ### ### Running command: ### ### rm -rf SWATH2stats.buildbin-libdir && mkdir SWATH2stats.buildbin-libdir && /Users/biocbuild/BBS/utils/build-universal.sh SWATH2stats_1.18.0.tar.gz /Library/Frameworks/R.framework/Versions/Current/Resources/bin/R SWATH2stats.buildbin-libdir ### ############################################################################## ############################################################################## >>>>>>> >>>>>>> INSTALLATION WITH 'R CMD INSTALL --preclean --no-multiarch --library=SWATH2stats.buildbin-libdir SWATH2stats_1.18.0.tar.gz' >>>>>>> * installing *source* package ‘SWATH2stats’ ... ** using staged installation ** R ** data ** inst ** byte-compile and prepare package for lazy loading ** help *** installing help indices ** building package indices ** installing vignettes ** testing if installed package can be loaded from temporary location ** testing if installed package can be loaded from final location ** testing if installed package keeps a record of temporary installation path * DONE (SWATH2stats)