| Back to Multiple platform build/check report for BioC 3.11 | 
  | 
This page was generated on 2020-10-17 11:57:39 -0400 (Sat, 17 Oct 2020).
| TO THE DEVELOPERS/MAINTAINERS OF THE Rmagpie PACKAGE: Please make sure to use the following settings in order to reproduce any error or warning you see on this page. | 
| Package 1499/1905 | Hostname | OS / Arch | INSTALL | BUILD | CHECK | BUILD BIN | ||||||
| Rmagpie 1.44.0 Camille Maumet 
  | malbec2 | Linux (Ubuntu 18.04.4 LTS) / x86_64 | OK | OK | OK | |||||||
| tokay2 | Windows Server 2012 R2 Standard / x64 | OK | OK | OK | [ OK ] | |||||||
| machv2 | macOS 10.14.6 Mojave / x86_64 | OK | OK | OK | OK | 
| Package: Rmagpie | 
| Version: 1.44.0 | 
| Command: rm -rf Rmagpie.buildbin-libdir && mkdir Rmagpie.buildbin-libdir && C:\Users\biocbuild\bbs-3.11-bioc\R\bin\R.exe CMD INSTALL --merge-multiarch --build --library=Rmagpie.buildbin-libdir Rmagpie_1.44.0.tar.gz | 
| StartedAt: 2020-10-17 11:29:18 -0400 (Sat, 17 Oct 2020) | 
| EndedAt: 2020-10-17 11:29:39 -0400 (Sat, 17 Oct 2020) | 
| EllapsedTime: 20.7 seconds | 
| RetCode: 0 | 
| Status: OK | 
| PackageFile: Rmagpie_1.44.0.zip | 
| PackageFileSize: 733.7 KiB | 
##############################################################################
##############################################################################
###
### Running command:
###
###   rm -rf Rmagpie.buildbin-libdir && mkdir Rmagpie.buildbin-libdir && C:\Users\biocbuild\bbs-3.11-bioc\R\bin\R.exe CMD INSTALL --merge-multiarch --build --library=Rmagpie.buildbin-libdir Rmagpie_1.44.0.tar.gz
###
##############################################################################
##############################################################################
install for i386
* installing *source* package 'Rmagpie' ...
** using staged installation
** R
** data
** demo
** inst
** byte-compile and prepare package for lazy loading
** help
*** installing help indices
  converting help for package 'Rmagpie'
    finding HTML links ... done
    classifyNewSamples-methods              html  
    experiment-class                        html  
    featureSelectionOptions-class           html  
    finalClassifier-class                   html  
    findFinalClassifier-methods             html  
    geneSubsets-class                       html  
    getDataset-methods                      html  
    getFeatureSelectionOptions-methods      html  
    getFinalClassifier                      html  
    getResults-methods                      html  
    initialize-methods                      html  
    plotErrorsFoldTwoLayerCV-methods        html  
    plotErrorsRepeatedOneLayerCV            html  
    plotErrorsSummaryOneLayerCV-methods     html  
    rankedGenesImg-methods                  html  
    runOneLayerExtCV-methods                html  
    runTwoLayerExtCV-methods                html  
    setDataset-methods                      html  
    setFeatureSelectionOptions-methods      html  
    show-methods                            html  
    thresholds-class                        html  
    vV70genes                               html  
** building package indices
** installing vignettes
** testing if installed package can be loaded from temporary location
** testing if installed package can be loaded from final location
** testing if installed package keeps a record of temporary installation path
install for x64
* installing *source* package 'Rmagpie' ...
** testing if installed package can be loaded
* MD5 sums
packaged installation of 'Rmagpie' as Rmagpie_1.44.0.zip
* DONE (Rmagpie)