| Back to Multiple platform build/check report for BioC 3.11 |
|
This page was generated on 2020-10-17 11:59:25 -0400 (Sat, 17 Oct 2020).
| TO THE DEVELOPERS/MAINTAINERS OF THE Rmagpie PACKAGE: Please make sure to use the following settings in order to reproduce any error or warning you see on this page. |
| Package 1499/1905 | Hostname | OS / Arch | INSTALL | BUILD | CHECK | BUILD BIN | ||||||
| Rmagpie 1.44.0 Camille Maumet
| malbec2 | Linux (Ubuntu 18.04.4 LTS) / x86_64 | OK | OK | OK | |||||||
| tokay2 | Windows Server 2012 R2 Standard / x64 | OK | OK | OK | OK | |||||||
| machv2 | macOS 10.14.6 Mojave / x86_64 | OK | OK | OK | [ OK ] |
| Package: Rmagpie |
| Version: 1.44.0 |
| Command: rm -rf Rmagpie.buildbin-libdir && mkdir Rmagpie.buildbin-libdir && /Users/biocbuild/BBS/utils/build-universal.sh Rmagpie_1.44.0.tar.gz /Library/Frameworks/R.framework/Versions/Current/Resources/bin/R Rmagpie.buildbin-libdir |
| StartedAt: 2020-10-17 07:50:28 -0400 (Sat, 17 Oct 2020) |
| EndedAt: 2020-10-17 07:50:48 -0400 (Sat, 17 Oct 2020) |
| EllapsedTime: 19.5 seconds |
| RetCode: 0 |
| Status: OK |
| PackageFile: Rmagpie_1.44.0.tgz |
| PackageFileSize: 724.8 KiB |
############################################################################## ############################################################################## ### ### Running command: ### ### rm -rf Rmagpie.buildbin-libdir && mkdir Rmagpie.buildbin-libdir && /Users/biocbuild/BBS/utils/build-universal.sh Rmagpie_1.44.0.tar.gz /Library/Frameworks/R.framework/Versions/Current/Resources/bin/R Rmagpie.buildbin-libdir ### ############################################################################## ############################################################################## >>>>>>> >>>>>>> INSTALLATION WITH 'R CMD INSTALL --preclean --no-multiarch --library=Rmagpie.buildbin-libdir Rmagpie_1.44.0.tar.gz' >>>>>>> * installing *source* package ‘Rmagpie’ ... ** using staged installation ** R ** data ** demo ** inst ** byte-compile and prepare package for lazy loading ** help *** installing help indices ** building package indices ** installing vignettes ** testing if installed package can be loaded from temporary location ** testing if installed package can be loaded from final location ** testing if installed package keeps a record of temporary installation path * DONE (Rmagpie)