Back to Multiple platform build/check report for BioC 3.11
ABCDEFGHIJKLMNOPQ[R]STUVWXYZ

BUILD BIN report for Rariant on machv2

This page was generated on 2020-05-29 15:04:49 -0400 (Fri, 29 May 2020).

TO THE DEVELOPERS/MAINTAINERS OF THE Rariant PACKAGE: Please make sure to use the following settings in order to reproduce any error or warning you see on this page.
Package 1419/1905HostnameOS / ArchINSTALLBUILDCHECKBUILD BIN
Rariant 1.24.0
Julian Gehring
Snapshot Date: 2020-05-28 16:50:23 -0400 (Thu, 28 May 2020)
URL: https://git.bioconductor.org/packages/Rariant
Branch: RELEASE_3_11
Last Commit: f187b1f
Last Changed Date: 2020-04-27 14:39:42 -0400 (Mon, 27 Apr 2020)
malbec2 Linux (Ubuntu 18.04.4 LTS) / x86_64  OK  OK  WARNINGS UNNEEDED, same version exists in internal repository
tokay2 Windows Server 2012 R2 Standard / x64  OK  OK  WARNINGS  OK UNNEEDED, same version exists in internal repository
machv2 macOS 10.14.6 Mojave / x86_64  OK  OK  WARNINGS [ OK ]UNNEEDED, same version exists in internal repository

Summary

Package: Rariant
Version: 1.24.0
Command: rm -rf Rariant.buildbin-libdir && mkdir Rariant.buildbin-libdir && /Users/biocbuild/BBS/utils/build-universal.sh Rariant_1.24.0.tar.gz /Library/Frameworks/R.framework/Versions/Current/Resources/bin/R Rariant.buildbin-libdir
StartedAt: 2020-05-29 09:01:07 -0400 (Fri, 29 May 2020)
EndedAt: 2020-05-29 09:02:12 -0400 (Fri, 29 May 2020)
EllapsedTime: 65.1 seconds
RetCode: 0
Status:  OK 
PackageFile: Rariant_1.24.0.tgz
PackageFileSize: 5.782 MiB

Command output

##############################################################################
##############################################################################
###
### Running command:
###
###   rm -rf Rariant.buildbin-libdir && mkdir Rariant.buildbin-libdir && /Users/biocbuild/BBS/utils/build-universal.sh Rariant_1.24.0.tar.gz /Library/Frameworks/R.framework/Versions/Current/Resources/bin/R Rariant.buildbin-libdir
###
##############################################################################
##############################################################################


>>>>>>> 
>>>>>>> INSTALLATION WITH 'R CMD INSTALL --preclean --no-multiarch --library=Rariant.buildbin-libdir Rariant_1.24.0.tar.gz'
>>>>>>> 

* installing *source* package ‘Rariant’ ...
** using staged installation
** R
** inst
** byte-compile and prepare package for lazy loading
** help
*** installing help indices
** building package indices
** installing vignettes
** testing if installed package can be loaded from temporary location
** testing if installed package can be loaded from final location
** testing if installed package keeps a record of temporary installation path
* DONE (Rariant)