| Back to Multiple platform build/check report for BioC 3.11 |
|
This page was generated on 2020-10-17 11:57:33 -0400 (Sat, 17 Oct 2020).
| TO THE DEVELOPERS/MAINTAINERS OF THE Rariant PACKAGE: Please make sure to use the following settings in order to reproduce any error or warning you see on this page. |
| Package 1419/1905 | Hostname | OS / Arch | INSTALL | BUILD | CHECK | BUILD BIN | ||||||
| Rariant 1.24.0 Julian Gehring
| malbec2 | Linux (Ubuntu 18.04.4 LTS) / x86_64 | ERROR | ERROR | skipped | |||||||
| tokay2 | Windows Server 2012 R2 Standard / x64 | [ ERROR ] | ERROR | skipped | skipped | |||||||
| machv2 | macOS 10.14.6 Mojave / x86_64 | ERROR | ERROR | skipped | skipped |
| Package: Rariant |
| Version: 1.24.0 |
| Command: C:\cygwin\bin\curl.exe -O https://malbec2.bioconductor.org/BBS/3.11/bioc/src/contrib/Rariant_1.24.0.tar.gz && rm -rf Rariant.buildbin-libdir && mkdir Rariant.buildbin-libdir && C:\Users\biocbuild\bbs-3.11-bioc\R\bin\R.exe CMD INSTALL --merge-multiarch --build --library=Rariant.buildbin-libdir Rariant_1.24.0.tar.gz && C:\Users\biocbuild\bbs-3.11-bioc\R\bin\R.exe CMD INSTALL Rariant_1.24.0.zip && rm Rariant_1.24.0.tar.gz Rariant_1.24.0.zip |
| StartedAt: 2020-10-16 19:35:44 -0400 (Fri, 16 Oct 2020) |
| EndedAt: 2020-10-16 19:36:07 -0400 (Fri, 16 Oct 2020) |
| EllapsedTime: 23.0 seconds |
| RetCode: 1 |
| Status: ERROR |
##############################################################################
##############################################################################
###
### Running command:
###
### C:\cygwin\bin\curl.exe -O https://malbec2.bioconductor.org/BBS/3.11/bioc/src/contrib/Rariant_1.24.0.tar.gz && rm -rf Rariant.buildbin-libdir && mkdir Rariant.buildbin-libdir && C:\Users\biocbuild\bbs-3.11-bioc\R\bin\R.exe CMD INSTALL --merge-multiarch --build --library=Rariant.buildbin-libdir Rariant_1.24.0.tar.gz && C:\Users\biocbuild\bbs-3.11-bioc\R\bin\R.exe CMD INSTALL Rariant_1.24.0.zip && rm Rariant_1.24.0.tar.gz Rariant_1.24.0.zip
###
##############################################################################
##############################################################################
% Total % Received % Xferd Average Speed Time Time Time Current
Dload Upload Total Spent Left Speed
0 0 0 0 0 0 0 0 --:--:-- --:--:-- --:--:-- 0
100 5500k 100 5500k 0 0 53.7M 0 --:--:-- --:--:-- --:--:-- 57.1M
install for i386
* installing *source* package 'Rariant' ...
** using staged installation
** R
** inst
** byte-compile and prepare package for lazy loading
Error: object 'rbind_all' is not exported by 'namespace:dplyr'
Execution halted
ERROR: lazy loading failed for package 'Rariant'
* removing 'C:/Users/biocbuild/bbs-3.11-bioc/meat/Rariant.buildbin-libdir/Rariant'