| Back to Multiple platform build/check report for BioC 3.11 |
|
This page was generated on 2020-10-17 11:57:42 -0400 (Sat, 17 Oct 2020).
| TO THE DEVELOPERS/MAINTAINERS OF THE RTCGA PACKAGE: Please make sure to use the following settings in order to reproduce any error or warning you see on this page. |
| Package 1548/1905 | Hostname | OS / Arch | INSTALL | BUILD | CHECK | BUILD BIN | ||||||
| RTCGA 1.18.0 Marcin Kosinski
| malbec2 | Linux (Ubuntu 18.04.4 LTS) / x86_64 | OK | OK | OK | |||||||
| tokay2 | Windows Server 2012 R2 Standard / x64 | [ OK ] | OK | WARNINGS | OK | |||||||
| machv2 | macOS 10.14.6 Mojave / x86_64 | OK | OK | OK | OK |
| Package: RTCGA |
| Version: 1.18.0 |
| Command: C:\cygwin\bin\curl.exe -O https://malbec2.bioconductor.org/BBS/3.11/bioc/src/contrib/RTCGA_1.18.0.tar.gz && rm -rf RTCGA.buildbin-libdir && mkdir RTCGA.buildbin-libdir && C:\Users\biocbuild\bbs-3.11-bioc\R\bin\R.exe CMD INSTALL --merge-multiarch --build --library=RTCGA.buildbin-libdir RTCGA_1.18.0.tar.gz && C:\Users\biocbuild\bbs-3.11-bioc\R\bin\R.exe CMD INSTALL RTCGA_1.18.0.zip && rm RTCGA_1.18.0.tar.gz RTCGA_1.18.0.zip |
| StartedAt: 2020-10-16 17:47:19 -0400 (Fri, 16 Oct 2020) |
| EndedAt: 2020-10-16 17:48:21 -0400 (Fri, 16 Oct 2020) |
| EllapsedTime: 62.2 seconds |
| RetCode: 0 |
| Status: OK |
##############################################################################
##############################################################################
###
### Running command:
###
### C:\cygwin\bin\curl.exe -O https://malbec2.bioconductor.org/BBS/3.11/bioc/src/contrib/RTCGA_1.18.0.tar.gz && rm -rf RTCGA.buildbin-libdir && mkdir RTCGA.buildbin-libdir && C:\Users\biocbuild\bbs-3.11-bioc\R\bin\R.exe CMD INSTALL --merge-multiarch --build --library=RTCGA.buildbin-libdir RTCGA_1.18.0.tar.gz && C:\Users\biocbuild\bbs-3.11-bioc\R\bin\R.exe CMD INSTALL RTCGA_1.18.0.zip && rm RTCGA_1.18.0.tar.gz RTCGA_1.18.0.zip
###
##############################################################################
##############################################################################
% Total % Received % Xferd Average Speed Time Time Time Current
Dload Upload Total Spent Left Speed
0 0 0 0 0 0 0 0 --:--:-- --:--:-- --:--:-- 0
100 2434k 100 2434k 0 0 25.5M 0 --:--:-- --:--:-- --:--:-- 27.6M
install for i386
* installing *source* package 'RTCGA' ...
** using staged installation
** R
** byte-compile and prepare package for lazy loading
** help
*** installing help indices
converting help for package 'RTCGA'
finding HTML links ... done
RTCGA-package html
boxplotTCGA html
finding level-2 HTML links ... done
checkTCGA html
convertTCGA html
Rd warning: C:/Users/biocbuild/bbs-3.11-bioc/tmpdir/Rtmp0EU041/R.INSTALLf3092f7dcb/RTCGA/man/convertTCGA.Rd:23: file link 'ExpressionSet' in package 'Biobase' does not exist and so has been treated as a topic
Rd warning: C:/Users/biocbuild/bbs-3.11-bioc/tmpdir/Rtmp0EU041/R.INSTALLf3092f7dcb/RTCGA/man/convertTCGA.Rd:23: file link 'GRanges' in package 'GenomicRanges' does not exist and so has been treated as a topic
Rd warning: C:/Users/biocbuild/bbs-3.11-bioc/tmpdir/Rtmp0EU041/R.INSTALLf3092f7dcb/RTCGA/man/convertTCGA.Rd:13: file link 'ExpressionSet' in package 'Biobase' does not exist and so has been treated as a topic
Rd warning: C:/Users/biocbuild/bbs-3.11-bioc/tmpdir/Rtmp0EU041/R.INSTALLf3092f7dcb/RTCGA/man/convertTCGA.Rd:13: file link 'GRanges' in package 'GenomicRanges' does not exist and so has been treated as a topic
Rd warning: C:/Users/biocbuild/bbs-3.11-bioc/tmpdir/Rtmp0EU041/R.INSTALLf3092f7dcb/RTCGA/man/convertTCGA.Rd:18: file link 'ExpressionSet' in package 'Biobase' does not exist and so has been treated as a topic
Rd warning: C:/Users/biocbuild/bbs-3.11-bioc/tmpdir/Rtmp0EU041/R.INSTALLf3092f7dcb/RTCGA/man/convertTCGA.Rd:18: file link 'GRanges' in package 'GenomicRanges' does not exist and so has been treated as a topic
datasetsTCGA html
downloadTCGA html
expressionsTCGA html
heatmapTCGA html
infoTCGA html
installTCGA html
Rd warning: C:/Users/biocbuild/bbs-3.11-bioc/tmpdir/Rtmp0EU041/R.INSTALLf3092f7dcb/RTCGA/man/installTCGA.Rd:16: file link 'install_github' in package 'devtools' does not exist and so has been treated as a topic
kmTCGA html
mutationsTCGA html
pcaTCGA html
readTCGA html
survivalTCGA html
theme_RTCGA html
** building package indices
** installing vignettes
** testing if installed package can be loaded from temporary location
** testing if installed package can be loaded from final location
** testing if installed package keeps a record of temporary installation path
install for x64
* installing *source* package 'RTCGA' ...
** testing if installed package can be loaded
* MD5 sums
packaged installation of 'RTCGA' as RTCGA_1.18.0.zip
* DONE (RTCGA)
* installing to library 'C:/Users/biocbuild/bbs-3.11-bioc/R/library'
package 'RTCGA' successfully unpacked and MD5 sums checked