| Back to Multiple platform build/check report for BioC 3.11 |
|
This page was generated on 2020-10-17 11:57:35 -0400 (Sat, 17 Oct 2020).
| TO THE DEVELOPERS/MAINTAINERS OF THE REDseq PACKAGE: Please make sure to use the following settings in order to reproduce any error or warning you see on this page. |
| Package 1456/1905 | Hostname | OS / Arch | INSTALL | BUILD | CHECK | BUILD BIN | ||||||
| REDseq 1.34.0 Lihua Julie Zhu
| malbec2 | Linux (Ubuntu 18.04.4 LTS) / x86_64 | OK | OK | OK | |||||||
| tokay2 | Windows Server 2012 R2 Standard / x64 | OK | OK | OK | [ OK ] | |||||||
| machv2 | macOS 10.14.6 Mojave / x86_64 | OK | OK | OK | OK |
| Package: REDseq |
| Version: 1.34.0 |
| Command: rm -rf REDseq.buildbin-libdir && mkdir REDseq.buildbin-libdir && C:\Users\biocbuild\bbs-3.11-bioc\R\bin\R.exe CMD INSTALL --merge-multiarch --build --library=REDseq.buildbin-libdir REDseq_1.34.0.tar.gz |
| StartedAt: 2020-10-17 11:26:20 -0400 (Sat, 17 Oct 2020) |
| EndedAt: 2020-10-17 11:27:30 -0400 (Sat, 17 Oct 2020) |
| EllapsedTime: 70.3 seconds |
| RetCode: 0 |
| Status: OK |
| PackageFile: REDseq_1.34.0.zip |
| PackageFileSize: 241.4 KiB |
##############################################################################
##############################################################################
###
### Running command:
###
### rm -rf REDseq.buildbin-libdir && mkdir REDseq.buildbin-libdir && C:\Users\biocbuild\bbs-3.11-bioc\R\bin\R.exe CMD INSTALL --merge-multiarch --build --library=REDseq.buildbin-libdir REDseq_1.34.0.tar.gz
###
##############################################################################
##############################################################################
install for i386
* installing *source* package 'REDseq' ...
** using staged installation
** R
** data
** inst
** byte-compile and prepare package for lazy loading
No methods found in package 'IRanges' for requests: '%in%', 'rep.int' when loading 'REDseq'
** help
*** installing help indices
converting help for package 'REDseq'
finding HTML links ... done
REDseq-package html
assignSeq2REsite html
binom.test.REDseq html
buildREmap html
compareREDseq html
distanceHistSeq2RE html
example.REDseq html
example.assignedREDseq html
example.map html
plotCutDistribution html
searchPattern html
summarizeByRE html
summarizeBySeq html
writeHits html
** building package indices
** installing vignettes
** testing if installed package can be loaded from temporary location
No methods found in package 'IRanges' for requests: '%in%', 'rep.int' when loading 'REDseq'
** testing if installed package can be loaded from final location
No methods found in package 'IRanges' for requests: '%in%', 'rep.int' when loading 'REDseq'
** testing if installed package keeps a record of temporary installation path
install for x64
* installing *source* package 'REDseq' ...
** testing if installed package can be loaded
No methods found in package 'IRanges' for requests: '%in%', 'rep.int' when loading 'REDseq'
* MD5 sums
packaged installation of 'REDseq' as REDseq_1.34.0.zip
* DONE (REDseq)