| Back to Multiple platform build/check report for BioC 3.11 |
|
This page was generated on 2020-10-17 11:57:32 -0400 (Sat, 17 Oct 2020).
| TO THE DEVELOPERS/MAINTAINERS OF THE R3CPET PACKAGE: Please make sure to use the following settings in order to reproduce any error or warning you see on this page. |
| Package 1406/1905 | Hostname | OS / Arch | INSTALL | BUILD | CHECK | BUILD BIN | ||||||
| R3CPET 1.20.0 Mohamed Nadhir Djekidel
| malbec2 | Linux (Ubuntu 18.04.4 LTS) / x86_64 | ERROR | ERROR | skipped | |||||||
| tokay2 | Windows Server 2012 R2 Standard / x64 | [ ERROR ] | ERROR | skipped | skipped | |||||||
| machv2 | macOS 10.14.6 Mojave / x86_64 | ERROR | ERROR | skipped | skipped |
| Package: R3CPET |
| Version: 1.20.0 |
| Command: C:\cygwin\bin\curl.exe -O https://malbec2.bioconductor.org/BBS/3.11/bioc/src/contrib/R3CPET_1.20.0.tar.gz && rm -rf R3CPET.buildbin-libdir && mkdir R3CPET.buildbin-libdir && C:\Users\biocbuild\bbs-3.11-bioc\R\bin\R.exe CMD INSTALL --merge-multiarch --build --library=R3CPET.buildbin-libdir R3CPET_1.20.0.tar.gz && C:\Users\biocbuild\bbs-3.11-bioc\R\bin\R.exe CMD INSTALL R3CPET_1.20.0.zip && rm R3CPET_1.20.0.tar.gz R3CPET_1.20.0.zip |
| StartedAt: 2020-10-16 19:44:08 -0400 (Fri, 16 Oct 2020) |
| EndedAt: 2020-10-16 19:44:10 -0400 (Fri, 16 Oct 2020) |
| EllapsedTime: 2.3 seconds |
| RetCode: 1 |
| Status: ERROR |
##############################################################################
##############################################################################
###
### Running command:
###
### C:\cygwin\bin\curl.exe -O https://malbec2.bioconductor.org/BBS/3.11/bioc/src/contrib/R3CPET_1.20.0.tar.gz && rm -rf R3CPET.buildbin-libdir && mkdir R3CPET.buildbin-libdir && C:\Users\biocbuild\bbs-3.11-bioc\R\bin\R.exe CMD INSTALL --merge-multiarch --build --library=R3CPET.buildbin-libdir R3CPET_1.20.0.tar.gz && C:\Users\biocbuild\bbs-3.11-bioc\R\bin\R.exe CMD INSTALL R3CPET_1.20.0.zip && rm R3CPET_1.20.0.tar.gz R3CPET_1.20.0.zip
###
##############################################################################
##############################################################################
% Total % Received % Xferd Average Speed Time Time Time Current
Dload Upload Total Spent Left Speed
0 0 0 0 0 0 0 0 --:--:-- --:--:-- --:--:-- 0
100 5377k 100 5377k 0 0 26.0M 0 --:--:-- --:--:-- --:--:-- 26.7M
install for i386
ERROR: dependency 'clues' is not available for package 'R3CPET'
* removing 'C:/Users/biocbuild/bbs-3.11-bioc/meat/R3CPET.buildbin-libdir/R3CPET'