| Back to Multiple platform build/check report for BioC 3.11 | 
 | 
This page was generated on 2020-10-17 11:57:20 -0400 (Sat, 17 Oct 2020).
| TO THE DEVELOPERS/MAINTAINERS OF THE OrderedList PACKAGE: Please make sure to use the following settings in order to reproduce any error or warning you see on this page. | 
| Package 1245/1905 | Hostname | OS / Arch | INSTALL | BUILD | CHECK | BUILD BIN | ||||||
| OrderedList 1.60.1 Claudio Lottaz 
 | malbec2 | Linux (Ubuntu 18.04.4 LTS) / x86_64 | OK | OK | OK |  | ||||||
| tokay2 | Windows Server 2012 R2 Standard / x64 | OK | OK | OK | [ OK ] |  | ||||||
| machv2 | macOS 10.14.6 Mojave / x86_64 | OK | OK | OK | OK |  | 
| Package: OrderedList | 
| Version: 1.60.1 | 
| Command: rm -rf OrderedList.buildbin-libdir && mkdir OrderedList.buildbin-libdir && C:\Users\biocbuild\bbs-3.11-bioc\R\bin\R.exe CMD INSTALL --merge-multiarch --build --library=OrderedList.buildbin-libdir OrderedList_1.60.1.tar.gz | 
| StartedAt: 2020-10-17 11:12:09 -0400 (Sat, 17 Oct 2020) | 
| EndedAt: 2020-10-17 11:12:51 -0400 (Sat, 17 Oct 2020) | 
| EllapsedTime: 41.7 seconds | 
| RetCode: 0 | 
| Status: OK | 
| PackageFile: OrderedList_1.60.1.zip | 
| PackageFileSize: 924.3 KiB | 
##############################################################################
##############################################################################
###
### Running command:
###
###   rm -rf OrderedList.buildbin-libdir && mkdir OrderedList.buildbin-libdir && C:\Users\biocbuild\bbs-3.11-bioc\R\bin\R.exe CMD INSTALL --merge-multiarch --build --library=OrderedList.buildbin-libdir OrderedList_1.60.1.tar.gz
###
##############################################################################
##############################################################################
install for i386
* installing *source* package 'OrderedList' ...
** using staged installation
** R
** data
** inst
** byte-compile and prepare package for lazy loading
** help
*** installing help indices
  converting help for package 'OrderedList'
    finding HTML links ... done
    OL.data                                 html  
    OL.result                               html  
    OrderedList                             html  
    check.test.args                         html  
    compareLists                            html  
    getOverlap                              html  
    overlap                                 html  
    plot.OrderedList                        html  
    prepareData                             html  
    preparePermutations                     html  
    print.OrderedList                       html  
    scoreOrderComparison                    html  
    scoreRankings                           html  
    shuffledRandomScores                    html  
** building package indices
** installing vignettes
** testing if installed package can be loaded from temporary location
** testing if installed package can be loaded from final location
** testing if installed package keeps a record of temporary installation path
install for x64
* installing *source* package 'OrderedList' ...
** testing if installed package can be loaded
* MD5 sums
packaged installation of 'OrderedList' as OrderedList_1.60.1.zip
* DONE (OrderedList)