| Back to Multiple platform build/check report for BioC 3.11 | 
 | 
This page was generated on 2020-10-17 11:55:19 -0400 (Sat, 17 Oct 2020).
| TO THE DEVELOPERS/MAINTAINERS OF THE OrderedList PACKAGE: Please make sure to use the following settings in order to reproduce any error or warning you see on this page. | 
| Package 1245/1905 | Hostname | OS / Arch | INSTALL | BUILD | CHECK | BUILD BIN | ||||||
| OrderedList 1.60.1 Claudio Lottaz 
 | malbec2 | Linux (Ubuntu 18.04.4 LTS) / x86_64 | OK | [ OK ] | OK |  | ||||||
| tokay2 | Windows Server 2012 R2 Standard / x64 | OK | OK | OK | OK |  | ||||||
| machv2 | macOS 10.14.6 Mojave / x86_64 | OK | OK | OK | OK |  | 
| Package: OrderedList | 
| Version: 1.60.1 | 
| Command: /home/biocbuild/bbs-3.11-bioc/R/bin/R CMD build --keep-empty-dirs --no-resave-data OrderedList | 
| StartedAt: 2020-10-16 20:47:11 -0400 (Fri, 16 Oct 2020) | 
| EndedAt: 2020-10-16 20:48:49 -0400 (Fri, 16 Oct 2020) | 
| EllapsedTime: 98.3 seconds | 
| RetCode: 0 | 
| Status: OK | 
| PackageFile: OrderedList_1.60.1.tar.gz | 
| PackageFileSize: 834.9 KiB | 
############################################################################## ############################################################################## ### ### Running command: ### ### /home/biocbuild/bbs-3.11-bioc/R/bin/R CMD build --keep-empty-dirs --no-resave-data OrderedList ### ############################################################################## ############################################################################## * checking for file ‘OrderedList/DESCRIPTION’ ... OK * preparing ‘OrderedList’: * checking DESCRIPTION meta-information ... OK * installing the package to build vignettes * creating vignettes ... OK * checking for LF line-endings in source and make files and shell scripts * checking for empty or unneeded directories * looking to see if a ‘data/datalist’ file should be added * building ‘OrderedList_1.60.1.tar.gz’