| Back to Multiple platform build/check report for BioC 3.11 |
|
This page was generated on 2020-10-17 11:55:13 -0400 (Sat, 17 Oct 2020).
| TO THE DEVELOPERS/MAINTAINERS OF THE MultiDataSet PACKAGE: Please make sure to use the following settings in order to reproduce any error or warning you see on this page. |
| Package 1153/1905 | Hostname | OS / Arch | INSTALL | BUILD | CHECK | BUILD BIN | ||||||
| MultiDataSet 1.16.0 Carlos Ruiz-Arenas
| malbec2 | Linux (Ubuntu 18.04.4 LTS) / x86_64 | OK | OK | [ OK ] | |||||||
| tokay2 | Windows Server 2012 R2 Standard / x64 | OK | OK | OK | OK | |||||||
| machv2 | macOS 10.14.6 Mojave / x86_64 | OK | OK | OK | OK |
| Package: MultiDataSet |
| Version: 1.16.0 |
| Command: /home/biocbuild/bbs-3.11-bioc/R/bin/R CMD check --install=check:MultiDataSet.install-out.txt --library=/home/biocbuild/bbs-3.11-bioc/R/library --no-vignettes --timings MultiDataSet_1.16.0.tar.gz |
| StartedAt: 2020-10-17 03:31:20 -0400 (Sat, 17 Oct 2020) |
| EndedAt: 2020-10-17 03:34:32 -0400 (Sat, 17 Oct 2020) |
| EllapsedTime: 192.4 seconds |
| RetCode: 0 |
| Status: OK |
| CheckDir: MultiDataSet.Rcheck |
| Warnings: 0 |
##############################################################################
##############################################################################
###
### Running command:
###
### /home/biocbuild/bbs-3.11-bioc/R/bin/R CMD check --install=check:MultiDataSet.install-out.txt --library=/home/biocbuild/bbs-3.11-bioc/R/library --no-vignettes --timings MultiDataSet_1.16.0.tar.gz
###
##############################################################################
##############################################################################
* using log directory ‘/home/biocbuild/bbs-3.11-bioc/meat/MultiDataSet.Rcheck’
* using R version 4.0.3 (2020-10-10)
* using platform: x86_64-pc-linux-gnu (64-bit)
* using session charset: UTF-8
* using option ‘--no-vignettes’
* checking for file ‘MultiDataSet/DESCRIPTION’ ... OK
* checking extension type ... Package
* this is package ‘MultiDataSet’ version ‘1.16.0’
* checking package namespace information ... OK
* checking package dependencies ... OK
* checking if this is a source package ... OK
* checking if there is a namespace ... OK
* checking for hidden files and directories ... OK
* checking for portable file names ... OK
* checking for sufficient/correct file permissions ... OK
* checking whether package ‘MultiDataSet’ can be installed ... OK
* checking installed package size ... OK
* checking package directory ... OK
* checking ‘build’ directory ... OK
* checking DESCRIPTION meta-information ... OK
* checking top-level files ... OK
* checking for left-over files ... OK
* checking index information ... OK
* checking package subdirectories ... OK
* checking R files for non-ASCII characters ... OK
* checking R files for syntax errors ... OK
* checking whether the package can be loaded ... OK
* checking whether the package can be loaded with stated dependencies ... OK
* checking whether the package can be unloaded cleanly ... OK
* checking whether the namespace can be loaded with stated dependencies ... OK
* checking whether the namespace can be unloaded cleanly ... OK
* checking dependencies in R code ... NOTE
Unexported objects imported by ':::' calls:
‘Biobase:::assayDataEnvLock’ ‘Biobase:::assayDataStorageMode’
See the note in ?`:::` about the use of this operator.
* checking S3 generic/method consistency ... OK
* checking replacement functions ... OK
* checking foreign function calls ... OK
* checking R code for possible problems ... NOTE
downloadGEO : <anonymous>: no visible global function definition for
‘methylationSet’
lambdaClayton: no visible global function definition for ‘qnorm’
lambdaClayton: no visible global function definition for ‘qchisq’
qq_plot: no visible global function definition for ‘qbeta’
Undefined global functions or variables:
methylationSet qbeta qchisq qnorm
Consider adding
importFrom("stats", "qbeta", "qchisq", "qnorm")
to your NAMESPACE file.
* checking Rd files ... OK
* checking Rd metadata ... OK
* checking Rd cross-references ... OK
* checking for missing documentation entries ... OK
* checking for code/documentation mismatches ... OK
* checking Rd \usage sections ... OK
* checking Rd contents ... OK
* checking for unstated dependencies in examples ... OK
* checking contents of ‘data’ directory ... OK
* checking data for non-ASCII characters ... OK
* checking data for ASCII and uncompressed saves ... OK
* checking files in ‘vignettes’ ... OK
* checking examples ... OK
Examples with CPU (user + system) or elapsed time > 5s
user system elapsed
add_methy 20.176 0.801 24.813
* checking for unstated dependencies in vignettes ... OK
* checking package vignettes in ‘inst/doc’ ... OK
* checking running R code from vignettes ... SKIPPED
* checking re-building of vignette outputs ... SKIPPED
* checking PDF version of manual ... OK
* DONE
Status: 2 NOTEs
See
‘/home/biocbuild/bbs-3.11-bioc/meat/MultiDataSet.Rcheck/00check.log’
for details.
MultiDataSet.Rcheck/00install.out
############################################################################## ############################################################################## ### ### Running command: ### ### /home/biocbuild/bbs-3.11-bioc/R/bin/R CMD INSTALL MultiDataSet ### ############################################################################## ############################################################################## * installing to library ‘/home/biocbuild/bbs-3.11-bioc/R/library’ * installing *source* package ‘MultiDataSet’ ... ** using staged installation ** R ** data *** moving datasets to lazyload DB ** inst ** byte-compile and prepare package for lazy loading in method for ‘add_methy’ with signature ‘"MultiDataSet","GenomicRatioSet"’: no definition for class “GenomicRatioSet” ** help *** installing help indices ** building package indices ** installing vignettes ** testing if installed package can be loaded from temporary location ** testing if installed package can be loaded from final location ** testing if installed package keeps a record of temporary installation path * DONE (MultiDataSet)
MultiDataSet.Rcheck/MultiDataSet-Ex.timings
| name | user | system | elapsed | |
| MultiDataSet-class | 0.000 | 0.000 | 0.001 | |
| ResultSet-class | 0.001 | 0.000 | 0.002 | |
| add_eset | 0.085 | 0.000 | 0.086 | |
| add_genexp | 0.114 | 0.000 | 0.114 | |
| add_methy | 20.176 | 0.801 | 24.813 | |
| add_rnaseq-methods | 0.148 | 0.000 | 0.148 | |
| add_rse | 0.171 | 0.012 | 0.183 | |
| add_se | 0.042 | 0.005 | 0.047 | |
| add_snps | 0.045 | 0.012 | 0.056 | |
| add_table | 0.009 | 0.000 | 0.009 | |
| chrNumToChar | 0.001 | 0.000 | 0.000 | |
| commonIds | 0.119 | 0.004 | 0.122 | |
| commonSamples | 0.108 | 0.032 | 0.139 | |
| getAssociation-methods | 0.017 | 0.012 | 0.029 | |
| lambdaClayton | 0.001 | 0.000 | 0.002 | |
| opt-methods | 0.000 | 0.001 | 0.002 | |
| qq_plot | 0.253 | 0.042 | 0.295 | |
| rowRangesElements | 0.090 | 0.008 | 0.098 | |
| volcano_plot | 0.130 | 0.011 | 0.142 | |