| Back to Multiple platform build/check report for BioC 3.11 |
|
This page was generated on 2020-10-17 11:59:01 -0400 (Sat, 17 Oct 2020).
| TO THE DEVELOPERS/MAINTAINERS OF THE MultiDataSet PACKAGE: Please make sure to use the following settings in order to reproduce any error or warning you see on this page. |
| Package 1153/1905 | Hostname | OS / Arch | INSTALL | BUILD | CHECK | BUILD BIN | ||||||
| MultiDataSet 1.16.0 Carlos Ruiz-Arenas
| malbec2 | Linux (Ubuntu 18.04.4 LTS) / x86_64 | OK | OK | OK | |||||||
| tokay2 | Windows Server 2012 R2 Standard / x64 | OK | OK | OK | OK | |||||||
| machv2 | macOS 10.14.6 Mojave / x86_64 | OK | OK | [ OK ] | OK |
| Package: MultiDataSet |
| Version: 1.16.0 |
| Command: /Library/Frameworks/R.framework/Versions/Current/Resources/bin/R CMD check --install=check:MultiDataSet.install-out.txt --library=/Library/Frameworks/R.framework/Versions/Current/Resources/library --no-vignettes --timings MultiDataSet_1.16.0.tar.gz |
| StartedAt: 2020-10-17 03:21:42 -0400 (Sat, 17 Oct 2020) |
| EndedAt: 2020-10-17 03:25:40 -0400 (Sat, 17 Oct 2020) |
| EllapsedTime: 237.2 seconds |
| RetCode: 0 |
| Status: OK |
| CheckDir: MultiDataSet.Rcheck |
| Warnings: 0 |
##############################################################################
##############################################################################
###
### Running command:
###
### /Library/Frameworks/R.framework/Versions/Current/Resources/bin/R CMD check --install=check:MultiDataSet.install-out.txt --library=/Library/Frameworks/R.framework/Versions/Current/Resources/library --no-vignettes --timings MultiDataSet_1.16.0.tar.gz
###
##############################################################################
##############################################################################
* using log directory ‘/Users/biocbuild/bbs-3.11-bioc/meat/MultiDataSet.Rcheck’
* using R version 4.0.3 (2020-10-10)
* using platform: x86_64-apple-darwin17.0 (64-bit)
* using session charset: UTF-8
* using option ‘--no-vignettes’
* checking for file ‘MultiDataSet/DESCRIPTION’ ... OK
* checking extension type ... Package
* this is package ‘MultiDataSet’ version ‘1.16.0’
* checking package namespace information ... OK
* checking package dependencies ... OK
* checking if this is a source package ... OK
* checking if there is a namespace ... OK
* checking for hidden files and directories ... OK
* checking for portable file names ... OK
* checking for sufficient/correct file permissions ... OK
* checking whether package ‘MultiDataSet’ can be installed ... OK
* checking installed package size ... OK
* checking package directory ... OK
* checking ‘build’ directory ... OK
* checking DESCRIPTION meta-information ... OK
* checking top-level files ... OK
* checking for left-over files ... OK
* checking index information ... OK
* checking package subdirectories ... OK
* checking R files for non-ASCII characters ... OK
* checking R files for syntax errors ... OK
* checking whether the package can be loaded ... OK
* checking whether the package can be loaded with stated dependencies ... OK
* checking whether the package can be unloaded cleanly ... OK
* checking whether the namespace can be loaded with stated dependencies ... OK
* checking whether the namespace can be unloaded cleanly ... OK
* checking dependencies in R code ... NOTE
Unexported objects imported by ':::' calls:
‘Biobase:::assayDataEnvLock’ ‘Biobase:::assayDataStorageMode’
See the note in ?`:::` about the use of this operator.
* checking S3 generic/method consistency ... OK
* checking replacement functions ... OK
* checking foreign function calls ... OK
* checking R code for possible problems ... NOTE
downloadGEO : <anonymous>: no visible global function definition for
‘methylationSet’
lambdaClayton: no visible global function definition for ‘qnorm’
lambdaClayton: no visible global function definition for ‘qchisq’
qq_plot: no visible global function definition for ‘qbeta’
Undefined global functions or variables:
methylationSet qbeta qchisq qnorm
Consider adding
importFrom("stats", "qbeta", "qchisq", "qnorm")
to your NAMESPACE file.
* checking Rd files ... OK
* checking Rd metadata ... OK
* checking Rd cross-references ... OK
* checking for missing documentation entries ... OK
* checking for code/documentation mismatches ... OK
* checking Rd \usage sections ... OK
* checking Rd contents ... OK
* checking for unstated dependencies in examples ... OK
* checking contents of ‘data’ directory ... OK
* checking data for non-ASCII characters ... OK
* checking data for ASCII and uncompressed saves ... OK
* checking files in ‘vignettes’ ... OK
* checking examples ... OK
Examples with CPU (user + system) or elapsed time > 5s
user system elapsed
add_methy 20.331 0.985 24.101
* checking for unstated dependencies in vignettes ... OK
* checking package vignettes in ‘inst/doc’ ... OK
* checking running R code from vignettes ... SKIPPED
* checking re-building of vignette outputs ... SKIPPED
* checking PDF version of manual ... OK
* DONE
Status: 2 NOTEs
See
‘/Users/biocbuild/bbs-3.11-bioc/meat/MultiDataSet.Rcheck/00check.log’
for details.
MultiDataSet.Rcheck/00install.out
############################################################################## ############################################################################## ### ### Running command: ### ### /Library/Frameworks/R.framework/Versions/Current/Resources/bin/R CMD INSTALL MultiDataSet ### ############################################################################## ############################################################################## * installing to library ‘/Library/Frameworks/R.framework/Versions/4.0/Resources/library’ * installing *source* package ‘MultiDataSet’ ... ** using staged installation ** R ** data *** moving datasets to lazyload DB ** inst ** byte-compile and prepare package for lazy loading in method for ‘add_methy’ with signature ‘"MultiDataSet","GenomicRatioSet"’: no definition for class “GenomicRatioSet” ** help *** installing help indices ** building package indices ** installing vignettes ** testing if installed package can be loaded from temporary location ** testing if installed package can be loaded from final location ** testing if installed package keeps a record of temporary installation path * DONE (MultiDataSet)
MultiDataSet.Rcheck/MultiDataSet-Ex.timings
| name | user | system | elapsed | |
| MultiDataSet-class | 0.001 | 0.000 | 0.001 | |
| ResultSet-class | 0.002 | 0.000 | 0.003 | |
| add_eset | 0.145 | 0.002 | 0.146 | |
| add_genexp | 0.656 | 0.003 | 0.659 | |
| add_methy | 20.331 | 0.985 | 24.101 | |
| add_rnaseq-methods | 0.181 | 0.003 | 0.184 | |
| add_rse | 0.349 | 0.015 | 0.367 | |
| add_se | 0.083 | 0.008 | 0.091 | |
| add_snps | 0.090 | 0.009 | 0.099 | |
| add_table | 0.015 | 0.001 | 0.017 | |
| chrNumToChar | 0.001 | 0.001 | 0.001 | |
| commonIds | 0.188 | 0.020 | 0.208 | |
| commonSamples | 0.223 | 0.023 | 0.245 | |
| getAssociation-methods | 0.055 | 0.030 | 0.086 | |
| lambdaClayton | 0.003 | 0.001 | 0.003 | |
| opt-methods | 0.002 | 0.002 | 0.004 | |
| qq_plot | 0.473 | 0.057 | 0.531 | |
| rowRangesElements | 0.151 | 0.017 | 0.169 | |
| volcano_plot | 0.229 | 0.028 | 0.259 | |