| Back to Multiple platform build/check report for BioC 3.11 |
|
This page was generated on 2020-10-17 11:57:11 -0400 (Sat, 17 Oct 2020).
| TO THE DEVELOPERS/MAINTAINERS OF THE MoPS PACKAGE: Please make sure to use the following settings in order to reproduce any error or warning you see on this page. |
| Package 1121/1905 | Hostname | OS / Arch | INSTALL | BUILD | CHECK | BUILD BIN | ||||||
Philipp Eser
| malbec2 | Linux (Ubuntu 18.04.4 LTS) / x86_64 | OK | ERROR | skipped | |||||||
| tokay2 | Windows Server 2012 R2 Standard / x64 | [ OK ] | ERROR | skipped | skipped | |||||||
| machv2 | macOS 10.14.6 Mojave / x86_64 | OK | ERROR | skipped | skipped |
| Package: MoPS |
| Version: 1.22.0 |
| Command: C:\cygwin\bin\curl.exe -O https://malbec2.bioconductor.org/BBS/3.11/bioc/src/contrib/MoPS_1.22.0.tar.gz && rm -rf MoPS.buildbin-libdir && mkdir MoPS.buildbin-libdir && C:\Users\biocbuild\bbs-3.11-bioc\R\bin\R.exe CMD INSTALL --merge-multiarch --build --library=MoPS.buildbin-libdir MoPS_1.22.0.tar.gz && C:\Users\biocbuild\bbs-3.11-bioc\R\bin\R.exe CMD INSTALL MoPS_1.22.0.zip && rm MoPS_1.22.0.tar.gz MoPS_1.22.0.zip |
| StartedAt: 2020-10-16 16:55:01 -0400 (Fri, 16 Oct 2020) |
| EndedAt: 2020-10-16 16:55:49 -0400 (Fri, 16 Oct 2020) |
| EllapsedTime: 48.5 seconds |
| RetCode: 0 |
| Status: OK |
##############################################################################
##############################################################################
###
### Running command:
###
### C:\cygwin\bin\curl.exe -O https://malbec2.bioconductor.org/BBS/3.11/bioc/src/contrib/MoPS_1.22.0.tar.gz && rm -rf MoPS.buildbin-libdir && mkdir MoPS.buildbin-libdir && C:\Users\biocbuild\bbs-3.11-bioc\R\bin\R.exe CMD INSTALL --merge-multiarch --build --library=MoPS.buildbin-libdir MoPS_1.22.0.tar.gz && C:\Users\biocbuild\bbs-3.11-bioc\R\bin\R.exe CMD INSTALL MoPS_1.22.0.zip && rm MoPS_1.22.0.tar.gz MoPS_1.22.0.zip
###
##############################################################################
##############################################################################
% Total % Received % Xferd Average Speed Time Time Time Current
Dload Upload Total Spent Left Speed
0 0 0 0 0 0 0 0 --:--:-- --:--:-- --:--:-- 0
100 1468k 100 1468k 0 0 10.4M 0 --:--:-- --:--:-- --:--:-- 11.0M
install for i386
* installing *source* package 'MoPS' ...
** using staged installation
** R
** data
** byte-compile and prepare package for lazy loading
** help
*** installing help indices
converting help for package 'MoPS'
finding HTML links ... done
MoPS-internal html
MoPS-package html
basic html
ccycle html
fit.periodic html
predictTimecourses html
result.as.dataframe html
** building package indices
** installing vignettes
** testing if installed package can be loaded from temporary location
Warning: Package 'MoPS' is deprecated and will be removed from Bioconductor
version 3.12
** testing if installed package can be loaded from final location
Warning: Package 'MoPS' is deprecated and will be removed from Bioconductor
version 3.12
** testing if installed package keeps a record of temporary installation path
install for x64
* installing *source* package 'MoPS' ...
** testing if installed package can be loaded
Warning: Package 'MoPS' is deprecated and will be removed from Bioconductor
version 3.12
* MD5 sums
packaged installation of 'MoPS' as MoPS_1.22.0.zip
* DONE (MoPS)
* installing to library 'C:/Users/biocbuild/bbs-3.11-bioc/R/library'
package 'MoPS' successfully unpacked and MD5 sums checked