| Back to Multiple platform build/check report for BioC 3.11 |
|
This page was generated on 2020-03-12 14:02:17 -0400 (Thu, 12 Mar 2020).
| Package 1089/1838 | Hostname | OS / Arch | INSTALL | BUILD | CHECK | BUILD BIN | ||||||
| MoPS 1.21.0 Philipp Eser
| malbec2 | Linux (Ubuntu 18.04.4 LTS) / x86_64 | OK | OK | ERROR | |||||||
| tokay2 | Windows Server 2012 R2 Standard / x64 | OK | OK | ERROR | [ OK ] |
| Package: MoPS |
| Version: 1.21.0 |
| Command: rm -rf MoPS.buildbin-libdir && mkdir MoPS.buildbin-libdir && C:\Users\biocbuild\bbs-3.11-bioc\R\bin\R.exe CMD INSTALL --merge-multiarch --build --library=MoPS.buildbin-libdir MoPS_1.21.0.tar.gz |
| StartedAt: 2020-03-12 12:13:27 -0400 (Thu, 12 Mar 2020) |
| EndedAt: 2020-03-12 12:13:46 -0400 (Thu, 12 Mar 2020) |
| EllapsedTime: 18.8 seconds |
| RetCode: 0 |
| Status: OK |
| PackageFile: MoPS_1.21.0.zip |
| PackageFileSize: 871.1 KiB |
##############################################################################
##############################################################################
###
### Running command:
###
### rm -rf MoPS.buildbin-libdir && mkdir MoPS.buildbin-libdir && C:\Users\biocbuild\bbs-3.11-bioc\R\bin\R.exe CMD INSTALL --merge-multiarch --build --library=MoPS.buildbin-libdir MoPS_1.21.0.tar.gz
###
##############################################################################
##############################################################################
install for i386
* installing *source* package 'MoPS' ...
** using staged installation
** R
** data
** inst
** byte-compile and prepare package for lazy loading
** help
*** installing help indices
converting help for package 'MoPS'
finding HTML links ... done
MoPS-internal html
MoPS-package html
basic html
ccycle html
fit.periodic html
predictTimecourses html
result.as.dataframe html
** building package indices
** installing vignettes
** testing if installed package can be loaded from temporary location
** testing if installed package can be loaded from final location
** testing if installed package keeps a record of temporary installation path
install for x64
* installing *source* package 'MoPS' ...
** testing if installed package can be loaded
* MD5 sums
packaged installation of 'MoPS' as MoPS_1.21.0.zip
* DONE (MoPS)