| Back to Multiple platform build/check report for BioC 3.11 |
|
This page was generated on 2020-10-17 11:55:09 -0400 (Sat, 17 Oct 2020).
| TO THE DEVELOPERS/MAINTAINERS OF THE MicrobiotaProcess PACKAGE: Please make sure to use the following settings in order to reproduce any error or warning you see on this page. |
| Package 1078/1905 | Hostname | OS / Arch | INSTALL | BUILD | CHECK | BUILD BIN | ||||||
| MicrobiotaProcess 1.0.5 Shuangbin Xu
| malbec2 | Linux (Ubuntu 18.04.4 LTS) / x86_64 | OK | OK | [ OK ] | |||||||
| tokay2 | Windows Server 2012 R2 Standard / x64 | OK | OK | OK | OK | |||||||
| machv2 | macOS 10.14.6 Mojave / x86_64 | OK | OK | OK | OK |
| Package: MicrobiotaProcess |
| Version: 1.0.5 |
| Command: /home/biocbuild/bbs-3.11-bioc/R/bin/R CMD check --install=check:MicrobiotaProcess.install-out.txt --library=/home/biocbuild/bbs-3.11-bioc/R/library --no-vignettes --timings MicrobiotaProcess_1.0.5.tar.gz |
| StartedAt: 2020-10-17 03:12:37 -0400 (Sat, 17 Oct 2020) |
| EndedAt: 2020-10-17 03:17:39 -0400 (Sat, 17 Oct 2020) |
| EllapsedTime: 302.3 seconds |
| RetCode: 0 |
| Status: OK |
| CheckDir: MicrobiotaProcess.Rcheck |
| Warnings: 0 |
##############################################################################
##############################################################################
###
### Running command:
###
### /home/biocbuild/bbs-3.11-bioc/R/bin/R CMD check --install=check:MicrobiotaProcess.install-out.txt --library=/home/biocbuild/bbs-3.11-bioc/R/library --no-vignettes --timings MicrobiotaProcess_1.0.5.tar.gz
###
##############################################################################
##############################################################################
* using log directory ‘/home/biocbuild/bbs-3.11-bioc/meat/MicrobiotaProcess.Rcheck’
* using R version 4.0.3 (2020-10-10)
* using platform: x86_64-pc-linux-gnu (64-bit)
* using session charset: UTF-8
* using option ‘--no-vignettes’
* checking for file ‘MicrobiotaProcess/DESCRIPTION’ ... OK
* checking extension type ... Package
* this is package ‘MicrobiotaProcess’ version ‘1.0.5’
* package encoding: UTF-8
* checking package namespace information ... OK
* checking package dependencies ... OK
* checking if this is a source package ... OK
* checking if there is a namespace ... OK
* checking for hidden files and directories ... OK
* checking for portable file names ... OK
* checking for sufficient/correct file permissions ... OK
* checking whether package ‘MicrobiotaProcess’ can be installed ... OK
* checking installed package size ... OK
* checking package directory ... OK
* checking ‘build’ directory ... OK
* checking DESCRIPTION meta-information ... OK
* checking top-level files ... OK
* checking for left-over files ... OK
* checking index information ... OK
* checking package subdirectories ... OK
* checking R files for non-ASCII characters ... OK
* checking R files for syntax errors ... OK
* checking whether the package can be loaded ... OK
* checking whether the package can be loaded with stated dependencies ... OK
* checking whether the package can be unloaded cleanly ... OK
* checking whether the namespace can be loaded with stated dependencies ... OK
* checking whether the namespace can be unloaded cleanly ... OK
* checking dependencies in R code ... OK
* checking S3 generic/method consistency ... OK
* checking replacement functions ... OK
* checking foreign function calls ... OK
* checking R code for possible problems ... OK
* checking Rd files ... OK
* checking Rd metadata ... OK
* checking Rd cross-references ... OK
* checking for missing documentation entries ... OK
* checking for code/documentation mismatches ... OK
* checking Rd \usage sections ... OK
* checking Rd contents ... OK
* checking for unstated dependencies in examples ... OK
* checking contents of ‘data’ directory ... OK
* checking data for non-ASCII characters ... OK
* checking data for ASCII and uncompressed saves ... OK
* checking files in ‘vignettes’ ... OK
* checking examples ... OK
Examples with CPU (user + system) or elapsed time > 5s
user system elapsed
ggrarecurve 13.845 0.000 13.849
ggdiffbox 13.797 0.016 13.817
ggdiffclade 13.675 0.040 13.720
as.data.frame 12.572 0.064 12.643
diff_analysis 11.826 0.052 11.879
convert_to_treedata 6.046 0.008 6.055
mapply_retrieve_seq 0.223 0.000 7.113
* checking for unstated dependencies in ‘tests’ ... OK
* checking tests ...
Running ‘testthat.R’
OK
* checking for unstated dependencies in vignettes ... OK
* checking package vignettes in ‘inst/doc’ ... OK
* checking running R code from vignettes ... SKIPPED
* checking re-building of vignette outputs ... SKIPPED
* checking PDF version of manual ... OK
* DONE
Status: OK
MicrobiotaProcess.Rcheck/00install.out
############################################################################## ############################################################################## ### ### Running command: ### ### /home/biocbuild/bbs-3.11-bioc/R/bin/R CMD INSTALL MicrobiotaProcess ### ############################################################################## ############################################################################## * installing to library ‘/home/biocbuild/bbs-3.11-bioc/R/library’ * installing *source* package ‘MicrobiotaProcess’ ... ** using staged installation ** R ** data ** inst ** byte-compile and prepare package for lazy loading ** help *** installing help indices ** building package indices ** installing vignettes ** testing if installed package can be loaded from temporary location ** testing if installed package can be loaded from final location ** testing if installed package keeps a record of temporary installation path * DONE (MicrobiotaProcess)
MicrobiotaProcess.Rcheck/tests/testthat.Rout
R version 4.0.3 (2020-10-10) -- "Bunny-Wunnies Freak Out"
Copyright (C) 2020 The R Foundation for Statistical Computing
Platform: x86_64-pc-linux-gnu (64-bit)
R is free software and comes with ABSOLUTELY NO WARRANTY.
You are welcome to redistribute it under certain conditions.
Type 'license()' or 'licence()' for distribution details.
R is a collaborative project with many contributors.
Type 'contributors()' for more information and
'citation()' on how to cite R or R packages in publications.
Type 'demo()' for some demos, 'help()' for on-line help, or
'help.start()' for an HTML browser interface to help.
Type 'q()' to quit R.
> library("testthat")
> library("MicrobiotaProcess")
> test_check("MicrobiotaProcess")
Processing map file...
Processing otu/tax file...
Reading file into memory prior to parsing...
Detecting first header line...
Header is on line 2
Converting input file to a table...
Defining OTU table...
Parsing taxonomy table...
══ testthat results ═══════════════════════════════════════════════════════════
[ OK: 11 | SKIPPED: 0 | WARNINGS: 0 | FAILED: 0 ]
>
> proc.time()
user system elapsed
31.797 0.417 32.216
MicrobiotaProcess.Rcheck/MicrobiotaProcess-Ex.timings
| name | user | system | elapsed | |
| as.data.frame | 12.572 | 0.064 | 12.643 | |
| build_tree | 0.003 | 0.000 | 0.014 | |
| convert_to_treedata | 6.046 | 0.008 | 6.055 | |
| data-hmp_aerobiosis_small | 0.009 | 0.000 | 0.010 | |
| data-kostic2012crc | 0.127 | 0.024 | 0.151 | |
| data-test_otu_data | 0.002 | 0.000 | 0.001 | |
| diff_analysis | 11.826 | 0.052 | 11.879 | |
| drop_taxa | 0.237 | 0.000 | 0.252 | |
| generalizedFC | 0.003 | 0.000 | 0.004 | |
| get_alltaxadf | 0.736 | 0.000 | 0.737 | |
| get_alphaindex | 1.106 | 0.001 | 1.181 | |
| get_clust | 0 | 0 | 0 | |
| get_coord | 0.005 | 0.000 | 0.006 | |
| get_count | 0.025 | 0.000 | 0.025 | |
| get_dist | 0.223 | 0.000 | 0.223 | |
| get_mean_median | 0.118 | 0.000 | 0.117 | |
| get_pca | 0.001 | 0.000 | 0.000 | |
| get_pcoa | 0.275 | 0.012 | 0.286 | |
| get_pvalue | 0.057 | 0.000 | 0.064 | |
| get_sampledflist | 0.025 | 0.000 | 0.025 | |
| get_taxadf | 0.779 | 0.000 | 0.779 | |
| get_upset | 0.263 | 0.000 | 0.263 | |
| get_varct | 0.245 | 0.007 | 0.254 | |
| get_vennlist | 0.262 | 0.004 | 0.265 | |
| ggbartax | 0.240 | 0.000 | 0.239 | |
| ggbox | 0.354 | 0.000 | 0.355 | |
| ggclust | 0 | 0 | 0 | |
| ggdiffbox | 13.797 | 0.016 | 13.817 | |
| ggdiffclade | 13.675 | 0.040 | 13.720 | |
| ggdifftaxbar | 0.405 | 0.040 | 0.445 | |
| ggeffectsize | 0.480 | 0.032 | 0.512 | |
| ggordpoint | 0 | 0 | 0 | |
| ggrarecurve | 13.845 | 0.000 | 13.849 | |
| import_dada2 | 0.117 | 0.000 | 0.127 | |
| import_qiime2 | 2.927 | 0.000 | 3.313 | |
| mapply_retrieve_seq | 0.223 | 0.000 | 7.113 | |
| multi_compare | 0.015 | 0.000 | 0.016 | |
| read_qza | 0.157 | 0.000 | 0.156 | |
| retrieve_seq | 0.005 | 0.000 | 0.005 | |
| show-methods | 0.001 | 0.000 | 0.000 | |
| split_data | 0.002 | 0.000 | 0.003 | |
| split_str_to_list | 0.01 | 0.00 | 0.01 | |
| theme_taxbar | 0.227 | 0.000 | 0.227 | |