| Back to Multiple platform build/check report for BioC 3.11 |
|
This page was generated on 2020-10-17 11:58:57 -0400 (Sat, 17 Oct 2020).
| TO THE DEVELOPERS/MAINTAINERS OF THE MicrobiotaProcess PACKAGE: Please make sure to use the following settings in order to reproduce any error or warning you see on this page. |
| Package 1078/1905 | Hostname | OS / Arch | INSTALL | BUILD | CHECK | BUILD BIN | ||||||
| MicrobiotaProcess 1.0.5 Shuangbin Xu
| malbec2 | Linux (Ubuntu 18.04.4 LTS) / x86_64 | OK | OK | OK | |||||||
| tokay2 | Windows Server 2012 R2 Standard / x64 | OK | OK | OK | OK | |||||||
| machv2 | macOS 10.14.6 Mojave / x86_64 | OK | OK | [ OK ] | OK |
| Package: MicrobiotaProcess |
| Version: 1.0.5 |
| Command: /Library/Frameworks/R.framework/Versions/Current/Resources/bin/R CMD check --install=check:MicrobiotaProcess.install-out.txt --library=/Library/Frameworks/R.framework/Versions/Current/Resources/library --no-vignettes --timings MicrobiotaProcess_1.0.5.tar.gz |
| StartedAt: 2020-10-17 03:01:33 -0400 (Sat, 17 Oct 2020) |
| EndedAt: 2020-10-17 03:09:00 -0400 (Sat, 17 Oct 2020) |
| EllapsedTime: 447.3 seconds |
| RetCode: 0 |
| Status: OK |
| CheckDir: MicrobiotaProcess.Rcheck |
| Warnings: 0 |
##############################################################################
##############################################################################
###
### Running command:
###
### /Library/Frameworks/R.framework/Versions/Current/Resources/bin/R CMD check --install=check:MicrobiotaProcess.install-out.txt --library=/Library/Frameworks/R.framework/Versions/Current/Resources/library --no-vignettes --timings MicrobiotaProcess_1.0.5.tar.gz
###
##############################################################################
##############################################################################
* using log directory ‘/Users/biocbuild/bbs-3.11-bioc/meat/MicrobiotaProcess.Rcheck’
* using R version 4.0.3 (2020-10-10)
* using platform: x86_64-apple-darwin17.0 (64-bit)
* using session charset: UTF-8
* using option ‘--no-vignettes’
* checking for file ‘MicrobiotaProcess/DESCRIPTION’ ... OK
* checking extension type ... Package
* this is package ‘MicrobiotaProcess’ version ‘1.0.5’
* package encoding: UTF-8
* checking package namespace information ... OK
* checking package dependencies ... OK
* checking if this is a source package ... OK
* checking if there is a namespace ... OK
* checking for hidden files and directories ... OK
* checking for portable file names ... OK
* checking for sufficient/correct file permissions ... OK
* checking whether package ‘MicrobiotaProcess’ can be installed ... OK
* checking installed package size ... OK
* checking package directory ... OK
* checking ‘build’ directory ... OK
* checking DESCRIPTION meta-information ... OK
* checking top-level files ... OK
* checking for left-over files ... OK
* checking index information ... OK
* checking package subdirectories ... OK
* checking R files for non-ASCII characters ... OK
* checking R files for syntax errors ... OK
* checking whether the package can be loaded ... OK
* checking whether the package can be loaded with stated dependencies ... OK
* checking whether the package can be unloaded cleanly ... OK
* checking whether the namespace can be loaded with stated dependencies ... OK
* checking whether the namespace can be unloaded cleanly ... OK
* checking dependencies in R code ... OK
* checking S3 generic/method consistency ... OK
* checking replacement functions ... OK
* checking foreign function calls ... OK
* checking R code for possible problems ... OK
* checking Rd files ... OK
* checking Rd metadata ... OK
* checking Rd cross-references ... OK
* checking for missing documentation entries ... OK
* checking for code/documentation mismatches ... OK
* checking Rd \usage sections ... OK
* checking Rd contents ... OK
* checking for unstated dependencies in examples ... OK
* checking contents of ‘data’ directory ... OK
* checking data for non-ASCII characters ... OK
* checking data for ASCII and uncompressed saves ... OK
* checking files in ‘vignettes’ ... OK
* checking examples ... OK
Examples with CPU (user + system) or elapsed time > 5s
user system elapsed
as.data.frame 19.773 0.208 19.995
ggdiffbox 19.628 0.077 19.788
diff_analysis 18.645 0.108 18.776
ggdiffclade 17.977 0.076 18.069
ggrarecurve 17.854 0.050 17.923
convert_to_treedata 8.257 0.134 8.402
mapply_retrieve_seq 0.129 0.010 7.369
* checking for unstated dependencies in ‘tests’ ... OK
* checking tests ...
Running ‘testthat.R’
OK
* checking for unstated dependencies in vignettes ... OK
* checking package vignettes in ‘inst/doc’ ... OK
* checking running R code from vignettes ... SKIPPED
* checking re-building of vignette outputs ... SKIPPED
* checking PDF version of manual ... OK
* DONE
Status: OK
MicrobiotaProcess.Rcheck/00install.out
############################################################################## ############################################################################## ### ### Running command: ### ### /Library/Frameworks/R.framework/Versions/Current/Resources/bin/R CMD INSTALL MicrobiotaProcess ### ############################################################################## ############################################################################## * installing to library ‘/Library/Frameworks/R.framework/Versions/4.0/Resources/library’ * installing *source* package ‘MicrobiotaProcess’ ... ** using staged installation ** R ** data ** inst ** byte-compile and prepare package for lazy loading ** help *** installing help indices ** building package indices ** installing vignettes ** testing if installed package can be loaded from temporary location ** testing if installed package can be loaded from final location ** testing if installed package keeps a record of temporary installation path * DONE (MicrobiotaProcess)
MicrobiotaProcess.Rcheck/tests/testthat.Rout
R version 4.0.3 (2020-10-10) -- "Bunny-Wunnies Freak Out"
Copyright (C) 2020 The R Foundation for Statistical Computing
Platform: x86_64-apple-darwin17.0 (64-bit)
R is free software and comes with ABSOLUTELY NO WARRANTY.
You are welcome to redistribute it under certain conditions.
Type 'license()' or 'licence()' for distribution details.
R is a collaborative project with many contributors.
Type 'contributors()' for more information and
'citation()' on how to cite R or R packages in publications.
Type 'demo()' for some demos, 'help()' for on-line help, or
'help.start()' for an HTML browser interface to help.
Type 'q()' to quit R.
> library("testthat")
> library("MicrobiotaProcess")
> test_check("MicrobiotaProcess")
Processing map file...
Processing otu/tax file...
Reading file into memory prior to parsing...
Detecting first header line...
Header is on line 2
Converting input file to a table...
Defining OTU table...
Parsing taxonomy table...
══ testthat results ═══════════════════════════════════════════════════════════
[ OK: 11 | SKIPPED: 0 | WARNINGS: 0 | FAILED: 0 ]
>
> proc.time()
user system elapsed
42.050 0.851 42.920
MicrobiotaProcess.Rcheck/MicrobiotaProcess-Ex.timings
| name | user | system | elapsed | |
| as.data.frame | 19.773 | 0.208 | 19.995 | |
| build_tree | 0.002 | 0.001 | 0.004 | |
| convert_to_treedata | 8.257 | 0.134 | 8.402 | |
| data-hmp_aerobiosis_small | 0.010 | 0.001 | 0.011 | |
| data-kostic2012crc | 0.130 | 0.008 | 0.138 | |
| data-test_otu_data | 0.002 | 0.001 | 0.004 | |
| diff_analysis | 18.645 | 0.108 | 18.776 | |
| drop_taxa | 0.455 | 0.006 | 0.462 | |
| generalizedFC | 0.005 | 0.001 | 0.007 | |
| get_alltaxadf | 1.296 | 0.008 | 1.308 | |
| get_alphaindex | 2.059 | 0.042 | 2.109 | |
| get_clust | 0.000 | 0.001 | 0.000 | |
| get_coord | 0.011 | 0.002 | 0.012 | |
| get_count | 0.052 | 0.002 | 0.054 | |
| get_dist | 0.436 | 0.003 | 0.440 | |
| get_mean_median | 0.184 | 0.003 | 0.187 | |
| get_pca | 0.000 | 0.000 | 0.001 | |
| get_pcoa | 0.462 | 0.015 | 0.480 | |
| get_pvalue | 0.142 | 0.004 | 0.148 | |
| get_sampledflist | 0.045 | 0.002 | 0.048 | |
| get_taxadf | 1.413 | 0.008 | 1.423 | |
| get_upset | 0.532 | 0.004 | 0.536 | |
| get_varct | 0.449 | 0.011 | 0.461 | |
| get_vennlist | 0.359 | 0.005 | 0.365 | |
| ggbartax | 0.381 | 0.002 | 0.383 | |
| ggbox | 0.681 | 0.007 | 0.689 | |
| ggclust | 0.000 | 0.001 | 0.001 | |
| ggdiffbox | 19.628 | 0.077 | 19.788 | |
| ggdiffclade | 17.977 | 0.076 | 18.069 | |
| ggdifftaxbar | 1.124 | 0.024 | 1.151 | |
| ggeffectsize | 0.534 | 0.018 | 0.555 | |
| ggordpoint | 0.000 | 0.000 | 0.001 | |
| ggrarecurve | 17.854 | 0.050 | 17.923 | |
| import_dada2 | 0.100 | 0.002 | 0.102 | |
| import_qiime2 | 3.137 | 0.027 | 3.172 | |
| mapply_retrieve_seq | 0.129 | 0.010 | 7.369 | |
| multi_compare | 0.043 | 0.003 | 0.046 | |
| read_qza | 0.178 | 0.018 | 0.198 | |
| retrieve_seq | 0.007 | 0.001 | 0.008 | |
| show-methods | 0.001 | 0.001 | 0.001 | |
| split_data | 0.003 | 0.003 | 0.006 | |
| split_str_to_list | 0.020 | 0.002 | 0.021 | |
| theme_taxbar | 0.405 | 0.004 | 0.411 | |