| Back to Multiple platform build/check report for BioC 3.11 |
|
This page was generated on 2020-10-17 11:55:05 -0400 (Sat, 17 Oct 2020).
| TO THE DEVELOPERS/MAINTAINERS OF THE Mergeomics PACKAGE: Please make sure to use the following settings in order to reproduce any error or warning you see on this page. |
| Package 1024/1905 | Hostname | OS / Arch | INSTALL | BUILD | CHECK | BUILD BIN | ||||||
| Mergeomics 1.16.0 Zeyneb Kurt
| malbec2 | Linux (Ubuntu 18.04.4 LTS) / x86_64 | OK | OK | [ OK ] | |||||||
| tokay2 | Windows Server 2012 R2 Standard / x64 | OK | OK | OK | OK | |||||||
| machv2 | macOS 10.14.6 Mojave / x86_64 | OK | OK | OK | OK |
| Package: Mergeomics |
| Version: 1.16.0 |
| Command: /home/biocbuild/bbs-3.11-bioc/R/bin/R CMD check --install=check:Mergeomics.install-out.txt --library=/home/biocbuild/bbs-3.11-bioc/R/library --no-vignettes --timings Mergeomics_1.16.0.tar.gz |
| StartedAt: 2020-10-17 02:54:36 -0400 (Sat, 17 Oct 2020) |
| EndedAt: 2020-10-17 03:04:07 -0400 (Sat, 17 Oct 2020) |
| EllapsedTime: 570.9 seconds |
| RetCode: 0 |
| Status: OK |
| CheckDir: Mergeomics.Rcheck |
| Warnings: 0 |
##############################################################################
##############################################################################
###
### Running command:
###
### /home/biocbuild/bbs-3.11-bioc/R/bin/R CMD check --install=check:Mergeomics.install-out.txt --library=/home/biocbuild/bbs-3.11-bioc/R/library --no-vignettes --timings Mergeomics_1.16.0.tar.gz
###
##############################################################################
##############################################################################
* using log directory ‘/home/biocbuild/bbs-3.11-bioc/meat/Mergeomics.Rcheck’
* using R version 4.0.3 (2020-10-10)
* using platform: x86_64-pc-linux-gnu (64-bit)
* using session charset: UTF-8
* using option ‘--no-vignettes’
* checking for file ‘Mergeomics/DESCRIPTION’ ... OK
* checking extension type ... Package
* this is package ‘Mergeomics’ version ‘1.16.0’
* checking package namespace information ... OK
* checking package dependencies ... OK
* checking if this is a source package ... OK
* checking if there is a namespace ... OK
* checking for hidden files and directories ... OK
* checking for portable file names ... OK
* checking for sufficient/correct file permissions ... OK
* checking whether package ‘Mergeomics’ can be installed ... OK
* checking installed package size ... NOTE
installed size is 8.4Mb
sub-directories of 1Mb or more:
extdata 7.5Mb
* checking package directory ... OK
* checking ‘build’ directory ... OK
* checking DESCRIPTION meta-information ... OK
* checking top-level files ... OK
* checking for left-over files ... OK
* checking index information ... OK
* checking package subdirectories ... OK
* checking R files for non-ASCII characters ... OK
* checking R files for syntax errors ... OK
* checking whether the package can be loaded ... OK
* checking whether the package can be loaded with stated dependencies ... OK
* checking whether the package can be unloaded cleanly ... OK
* checking whether the namespace can be loaded with stated dependencies ... OK
* checking whether the namespace can be unloaded cleanly ... OK
* checking dependencies in R code ... OK
* checking S3 generic/method consistency ... OK
* checking replacement functions ... OK
* checking foreign function calls ... OK
* checking R code for possible problems ... NOTE
kda.analyze: no visible global function definition for ‘p.adjust’
kda.analyze.exec: no visible global function definition for ‘pnorm’
kda.analyze.simulate: no visible global function definition for ‘rnorm’
kda.prepare: no visible global function definition for ‘quantile’
kda.prepare: no visible global function definition for ‘object.size’
kda.prepare.screen: no visible global function definition for
‘quantile’
kda.prepare.screen: no visible global function definition for ‘median’
kda.start: no visible global function definition for ‘object.size’
kda2cytoscape: no visible global function definition for ‘write.table’
kda2cytoscape.colormap: no visible global function definition for
‘rainbow’
kda2cytoscape.colormap: no visible global function definition for
‘col2rgb’
kda2himmeli: no visible global function definition for ‘quantile’
kda2himmeli: no visible global function definition for ‘write.table’
kda2himmeli.colormap: no visible global function definition for
‘rainbow’
kda2himmeli.colormap: no visible global function definition for
‘col2rgb’
ssea.analyze: no visible global function definition for ‘qnorm’
ssea.analyze: no visible global function definition for ‘approx’
ssea.analyze: no visible global function definition for ‘pnorm’
ssea.analyze.simulate: no visible global function definition for
‘quantile’
ssea.control: no visible global function definition for ‘median’
ssea.control: no visible global function definition for ‘object.size’
ssea.meta: no visible global function definition for ‘qnorm’
ssea.meta: no visible global function definition for ‘quantile’
ssea.meta: no visible global function definition for ‘pnorm’
ssea.meta: no visible global function definition for ‘median’
ssea.meta: no visible global function definition for ‘na.omit’
ssea.prepare: no visible global function definition for ‘median’
ssea.prepare: no visible global function definition for ‘object.size’
ssea.start: no visible global function definition for ‘na.omit’
ssea.start: no visible global function definition for ‘object.size’
ssea.start.configure: no visible global function definition for
‘write.table’
ssea2kda: no visible global function definition for ‘na.omit’
ssea2kda.import: no visible global function definition for ‘na.omit’
tool.aggregate: no visible global function definition for ‘na.omit’
tool.cluster: no visible global function definition for ‘as.dist’
tool.cluster: no visible global function definition for ‘hclust’
tool.fdr.bh: no visible global function definition for ‘qnorm’
tool.fdr.bh: no visible global function definition for ‘p.adjust’
tool.fdr.bh: no visible global function definition for ‘approx’
tool.fdr.empirical: no visible global function definition for ‘qnorm’
tool.fdr.empirical: no visible global function definition for ‘approx’
tool.metap: no visible global function definition for ‘qnorm’
tool.metap: no visible global function definition for ‘pnorm’
tool.normalize: no visible global function definition for ‘sd’
tool.normalize: no visible global function definition for ‘median’
tool.normalize: no visible global function definition for ‘optim’
tool.normalize: no visible global function definition for ‘ks.test’
tool.normalize.quality: no visible global function definition for ‘sd’
tool.normalize.quality: no visible global function definition for
‘ks.test’
tool.overlap: no visible global function definition for ‘phyper’
tool.read: no visible global function definition for ‘read.delim’
tool.read: no visible global function definition for ‘na.omit’
tool.save: no visible global function definition for ‘write.table’
tool.unify: no visible global function definition for ‘sd’
tool.unify: no visible global function definition for ‘quantile’
tool.unify: no visible global function definition for ‘approx’
Undefined global functions or variables:
approx as.dist col2rgb hclust ks.test median na.omit object.size
optim p.adjust phyper pnorm qnorm quantile rainbow read.delim rnorm
sd write.table
Consider adding
importFrom("grDevices", "col2rgb", "rainbow")
importFrom("stats", "approx", "as.dist", "hclust", "ks.test", "median",
"na.omit", "optim", "p.adjust", "phyper", "pnorm", "qnorm",
"quantile", "rnorm", "sd")
importFrom("utils", "object.size", "read.delim", "write.table")
to your NAMESPACE file.
* checking Rd files ... OK
* checking Rd metadata ... OK
* checking Rd cross-references ... OK
* checking for missing documentation entries ... OK
* checking for code/documentation mismatches ... OK
* checking Rd \usage sections ... OK
* checking Rd contents ... OK
* checking for unstated dependencies in examples ... OK
* checking contents of ‘data’ directory ... OK
* checking data for non-ASCII characters ... OK
* checking data for ASCII and uncompressed saves ... OK
* checking files in ‘vignettes’ ... OK
* checking examples ... OK
Examples with CPU (user + system) or elapsed time > 5s
user system elapsed
kda.prepare 10.987 0.012 11.001
kda.analyze.exec 10.269 0.024 10.296
kda.analyze.simulate 9.190 0.012 9.202
ssea2kda 8.130 0.012 8.166
kda.analyze.test 7.160 0.004 7.164
ssea2kda.analyze 7.092 0.032 7.124
ssea.finish.fdr 5.664 0.012 5.677
ssea.meta 5.566 0.008 5.574
ssea.analyze 5.396 0.020 5.444
ssea.finish.genes 5.194 0.004 5.197
ssea.finish.details 5.055 0.008 5.064
* checking for unstated dependencies in ‘tests’ ... OK
* checking tests ...
Running ‘runTests.R’
OK
* checking for unstated dependencies in vignettes ... OK
* checking package vignettes in ‘inst/doc’ ... OK
* checking running R code from vignettes ... SKIPPED
* checking re-building of vignette outputs ... SKIPPED
* checking PDF version of manual ... OK
* DONE
Status: 2 NOTEs
See
‘/home/biocbuild/bbs-3.11-bioc/meat/Mergeomics.Rcheck/00check.log’
for details.
Mergeomics.Rcheck/00install.out
############################################################################## ############################################################################## ### ### Running command: ### ### /home/biocbuild/bbs-3.11-bioc/R/bin/R CMD INSTALL Mergeomics ### ############################################################################## ############################################################################## * installing to library ‘/home/biocbuild/bbs-3.11-bioc/R/library’ * installing *source* package ‘Mergeomics’ ... ** using staged installation ** R ** data ** inst ** byte-compile and prepare package for lazy loading ** help *** installing help indices ** building package indices ** installing vignettes ** testing if installed package can be loaded from temporary location ** testing if installed package can be loaded from final location ** testing if installed package keeps a record of temporary installation path * DONE (Mergeomics)
Mergeomics.Rcheck/tests/runTests.Rout
R version 4.0.3 (2020-10-10) -- "Bunny-Wunnies Freak Out"
Copyright (C) 2020 The R Foundation for Statistical Computing
Platform: x86_64-pc-linux-gnu (64-bit)
R is free software and comes with ABSOLUTELY NO WARRANTY.
You are welcome to redistribute it under certain conditions.
Type 'license()' or 'licence()' for distribution details.
R is a collaborative project with many contributors.
Type 'contributors()' for more information and
'citation()' on how to cite R or R packages in publications.
Type 'demo()' for some demos, 'help()' for on-line help, or
'help.start()' for an HTML browser interface to help.
Type 'q()' to quit R.
> BiocGenerics:::testPackage("Mergeomics")
KDA Version:12.7.2015
Parameters:
Search depth: 1
Search direction: 1
Maximum overlap: 0.33
Minimum module size: 20
Minimum degree: automatic
Maximum degree: automatic
Edge factor: 0
Random seed: 1
Importing edges...
TAIL HEAD WEIGHT
Length:140663 Length:140663 Min. :1
Class :character Class :character 1st Qu.:1
Mode :character Mode :character Median :1
Mean :1
3rd Qu.:1
Max. :1
Importing modules...
MODULE NODE
Length:1643 Length:1643
Class :character Class :character
Mode :character Mode :character
Graph: 7.694687 Mb
Minimum degree set to 20
Maximum degree set to 278
Collecting hubs...
4876 hubs (25.21%)
Graph: 13.28496 Mb
Analyzing network...
6675: Dhcr7, n=114, p=2.24e-17
6648: Cit, n=20, p=7.89e-01
6643: Pbx4, n=23, p=2.32e-05
5582: Sypl, n=319, p=2.02e-02
4746: Tcf7l2, n=73, p=2.63e-02
4708: Tpte, n=86, p=5.05e-02
4511: Pzp, n=160, p=8.85e-03
4464: Tsc22d3, n=487, p=4.28e-13
4407: Dntt, n=93, p=2.40e-20
4360: Amica1, n=132, p=1.06e-06
4588,..: Lrg1, n=86, p=5.76e-12
MSEA Version:01.04.2016
Parameters:
Permutation type: gene
Permutations: 100
Random seed: 1
Minimum gene count: 10
Maximum gene count: 500
Maximum overlap between genes: 0.33
Importing modules...
MODULE DESCR
Length:20 Length:20
Class :character Class :character
Mode :character Mode :character
MODULE GENE
Length:2906 Length:2906
Class :character Class :character
Mode :character Mode :character
Importing marker values...
MARKER VALUE
Length:76866 Min. : 0.8094
Class :character 1st Qu.: 0.9450
Mode :character Median : 1.1374
Mean : 1.3944
3rd Qu.: 1.4688
Max. :323.0100
Importing mapping data...
GENE MARKER
Length:132705 Length:132705
Class :character Class :character
Mode :character Mode :character
Merging genes containing shared markers...
WARNING! Limited overlap analysis due to large number of groups.
145189/1673535
268036/1673535
387200/1673535
530926/1673535
681123/1673535
855541/1673535
1001023/1673535
1167826/1673535
1294474/1673535
1455402/1673535
1594615/1673535
1673535 comparisons
21115 comparisons
13861 comparisons
12880 comparisons
Job: 11.66891 Mb
Preparing data structures...
Job: 17.11776 Mb
Adding positive controls...
Job: 17.42039 Mb
Estimating enrichment...
100/100 cycles
Normalizing scores...
RUNIT TEST PROTOCOL -- Sat Oct 17 03:04:01 2020
***********************************************
Number of test functions: 2
Number of errors: 0
Number of failures: 0
1 Test Suite :
Mergeomics RUnit Tests - 2 test functions, 0 errors, 0 failures
Number of test functions: 2
Number of errors: 0
Number of failures: 0
>
> proc.time()
user system elapsed
399.347 0.324 399.755
Mergeomics.Rcheck/Mergeomics-Ex.timings
| name | user | system | elapsed | |
| MSEA.KDA.onestep | 0.002 | 0.000 | 0.003 | |
| job.kda | 0.022 | 0.000 | 0.022 | |
| kda.analyze | 0.020 | 0.000 | 0.031 | |
| kda.analyze.exec | 10.269 | 0.024 | 10.296 | |
| kda.analyze.simulate | 9.190 | 0.012 | 9.202 | |
| kda.analyze.test | 7.160 | 0.004 | 7.164 | |
| kda.configure | 0 | 0 | 0 | |
| kda.finish | 0.113 | 0.007 | 0.120 | |
| kda.finish.estimate | 0.112 | 0.000 | 0.112 | |
| kda.finish.save | 0.127 | 0.004 | 0.131 | |
| kda.finish.summarize | 0.139 | 0.000 | 0.139 | |
| kda.finish.trim | 0.127 | 0.004 | 0.131 | |
| kda.prepare | 10.987 | 0.012 | 11.001 | |
| kda.prepare.overlap | 0.001 | 0.000 | 0.001 | |
| kda.prepare.screen | 0.000 | 0.000 | 0.001 | |
| kda.start | 1.807 | 0.016 | 1.823 | |
| kda.start.edges | 0.002 | 0.000 | 0.002 | |
| kda.start.identify | 0.008 | 0.000 | 0.007 | |
| kda.start.modules | 0.003 | 0.000 | 0.002 | |
| kda2cytoscape | 0.531 | 0.000 | 0.530 | |
| kda2cytoscape.colorize | 0 | 0 | 0 | |
| kda2cytoscape.colormap | 0.000 | 0.000 | 0.001 | |
| kda2cytoscape.drivers | 0.199 | 0.004 | 0.202 | |
| kda2cytoscape.edges | 0.188 | 0.004 | 0.192 | |
| kda2cytoscape.exec | 0.234 | 0.004 | 0.238 | |
| kda2cytoscape.identify | 0.006 | 0.000 | 0.006 | |
| kda2himmeli | 0.576 | 0.004 | 0.798 | |
| kda2himmeli.colorize | 0 | 0 | 0 | |
| kda2himmeli.colormap | 0.000 | 0.001 | 0.001 | |
| kda2himmeli.drivers | 0.232 | 0.010 | 0.241 | |
| kda2himmeli.edges | 0.181 | 0.004 | 0.185 | |
| kda2himmeli.exec | 0.205 | 0.000 | 0.206 | |
| kda2himmeli.identify | 0.003 | 0.000 | 0.004 | |
| ssea.analyze | 5.396 | 0.020 | 5.444 | |
| ssea.analyze.observe | 3.254 | 0.004 | 3.258 | |
| ssea.analyze.randgenes | 4.090 | 0.012 | 4.101 | |
| ssea.analyze.randloci | 3.727 | 0.008 | 3.736 | |
| ssea.analyze.simulate | 4.186 | 0.004 | 4.191 | |
| ssea.analyze.statistic | 0 | 0 | 0 | |
| ssea.control | 4.452 | 0.014 | 4.467 | |
| ssea.finish | 4.912 | 0.004 | 4.915 | |
| ssea.finish.details | 5.055 | 0.008 | 5.064 | |
| ssea.finish.fdr | 5.664 | 0.012 | 5.677 | |
| ssea.finish.genes | 5.194 | 0.004 | 5.197 | |
| ssea.meta | 5.566 | 0.008 | 5.574 | |
| ssea.prepare | 4.044 | 0.000 | 4.043 | |
| ssea.prepare.counts | 2.871 | 0.000 | 2.870 | |
| ssea.prepare.structure | 4.875 | 0.000 | 4.874 | |
| ssea.start | 3.565 | 0.000 | 3.566 | |
| ssea.start.configure | 0.422 | 0.000 | 0.422 | |
| ssea.start.identify | 0.004 | 0.000 | 0.004 | |
| ssea.start.relabel | 2.941 | 0.004 | 2.945 | |
| ssea2kda | 8.130 | 0.012 | 8.166 | |
| ssea2kda.analyze | 7.092 | 0.032 | 7.124 | |
| ssea2kda.import | 4.811 | 0.000 | 4.811 | |
| tool.aggregate | 0.001 | 0.000 | 0.002 | |
| tool.cluster | 0.021 | 0.000 | 0.021 | |
| tool.cluster.static | 0.001 | 0.000 | 0.000 | |
| tool.coalesce | 0.075 | 0.000 | 0.075 | |
| tool.coalesce.exec | 0.127 | 0.000 | 0.127 | |
| tool.coalesce.find | 0.106 | 0.004 | 0.110 | |
| tool.coalesce.merge | 0.103 | 0.000 | 0.103 | |
| tool.fdr | 0.001 | 0.000 | 0.000 | |
| tool.fdr.bh | 0.001 | 0.000 | 0.000 | |
| tool.fdr.empirical | 0.001 | 0.000 | 0.001 | |
| tool.graph | 1.204 | 0.004 | 1.208 | |
| tool.graph.degree | 1.564 | 0.008 | 1.572 | |
| tool.graph.list | 1.861 | 0.012 | 1.873 | |
| tool.metap | 0.005 | 0.000 | 0.005 | |
| tool.normalize | 0.022 | 0.000 | 0.021 | |
| tool.normalize.quality | 0.017 | 0.000 | 0.017 | |
| tool.overlap | 0.01 | 0.00 | 0.01 | |
| tool.read | 0.341 | 0.000 | 0.341 | |
| tool.save | 0.002 | 0.000 | 0.001 | |
| tool.subgraph | 0.134 | 0.004 | 0.137 | |
| tool.subgraph.find | 0.136 | 0.000 | 0.137 | |
| tool.subgraph.search | 0.129 | 0.004 | 0.133 | |
| tool.subgraph.stats | 0.172 | 0.004 | 0.176 | |
| tool.translate | 0.056 | 0.000 | 0.056 | |
| tool.unify | 0.002 | 0.000 | 0.002 | |