| Back to Multiple platform build/check report for BioC 3.11 |
|
This page was generated on 2020-10-17 11:58:53 -0400 (Sat, 17 Oct 2020).
| TO THE DEVELOPERS/MAINTAINERS OF THE Mergeomics PACKAGE: Please make sure to use the following settings in order to reproduce any error or warning you see on this page. |
| Package 1024/1905 | Hostname | OS / Arch | INSTALL | BUILD | CHECK | BUILD BIN | ||||||
| Mergeomics 1.16.0 Zeyneb Kurt
| malbec2 | Linux (Ubuntu 18.04.4 LTS) / x86_64 | OK | OK | OK | |||||||
| tokay2 | Windows Server 2012 R2 Standard / x64 | OK | OK | OK | OK | |||||||
| machv2 | macOS 10.14.6 Mojave / x86_64 | OK | OK | [ OK ] | OK |
| Package: Mergeomics |
| Version: 1.16.0 |
| Command: /Library/Frameworks/R.framework/Versions/Current/Resources/bin/R CMD check --install=check:Mergeomics.install-out.txt --library=/Library/Frameworks/R.framework/Versions/Current/Resources/library --no-vignettes --timings Mergeomics_1.16.0.tar.gz |
| StartedAt: 2020-10-17 02:45:01 -0400 (Sat, 17 Oct 2020) |
| EndedAt: 2020-10-17 02:59:12 -0400 (Sat, 17 Oct 2020) |
| EllapsedTime: 851.0 seconds |
| RetCode: 0 |
| Status: OK |
| CheckDir: Mergeomics.Rcheck |
| Warnings: 0 |
##############################################################################
##############################################################################
###
### Running command:
###
### /Library/Frameworks/R.framework/Versions/Current/Resources/bin/R CMD check --install=check:Mergeomics.install-out.txt --library=/Library/Frameworks/R.framework/Versions/Current/Resources/library --no-vignettes --timings Mergeomics_1.16.0.tar.gz
###
##############################################################################
##############################################################################
* using log directory ‘/Users/biocbuild/bbs-3.11-bioc/meat/Mergeomics.Rcheck’
* using R version 4.0.3 (2020-10-10)
* using platform: x86_64-apple-darwin17.0 (64-bit)
* using session charset: UTF-8
* using option ‘--no-vignettes’
* checking for file ‘Mergeomics/DESCRIPTION’ ... OK
* checking extension type ... Package
* this is package ‘Mergeomics’ version ‘1.16.0’
* checking package namespace information ... OK
* checking package dependencies ... OK
* checking if this is a source package ... OK
* checking if there is a namespace ... OK
* checking for hidden files and directories ... OK
* checking for portable file names ... OK
* checking for sufficient/correct file permissions ... OK
* checking whether package ‘Mergeomics’ can be installed ... OK
* checking installed package size ... NOTE
installed size is 8.4Mb
sub-directories of 1Mb or more:
extdata 7.5Mb
* checking package directory ... OK
* checking ‘build’ directory ... OK
* checking DESCRIPTION meta-information ... OK
* checking top-level files ... OK
* checking for left-over files ... OK
* checking index information ... OK
* checking package subdirectories ... OK
* checking R files for non-ASCII characters ... OK
* checking R files for syntax errors ... OK
* checking whether the package can be loaded ... OK
* checking whether the package can be loaded with stated dependencies ... OK
* checking whether the package can be unloaded cleanly ... OK
* checking whether the namespace can be loaded with stated dependencies ... OK
* checking whether the namespace can be unloaded cleanly ... OK
* checking dependencies in R code ... OK
* checking S3 generic/method consistency ... OK
* checking replacement functions ... OK
* checking foreign function calls ... OK
* checking R code for possible problems ... NOTE
kda.analyze: no visible global function definition for ‘p.adjust’
kda.analyze.exec: no visible global function definition for ‘pnorm’
kda.analyze.simulate: no visible global function definition for ‘rnorm’
kda.prepare: no visible global function definition for ‘quantile’
kda.prepare: no visible global function definition for ‘object.size’
kda.prepare.screen: no visible global function definition for
‘quantile’
kda.prepare.screen: no visible global function definition for ‘median’
kda.start: no visible global function definition for ‘object.size’
kda2cytoscape: no visible global function definition for ‘write.table’
kda2cytoscape.colormap: no visible global function definition for
‘rainbow’
kda2cytoscape.colormap: no visible global function definition for
‘col2rgb’
kda2himmeli: no visible global function definition for ‘quantile’
kda2himmeli: no visible global function definition for ‘write.table’
kda2himmeli.colormap: no visible global function definition for
‘rainbow’
kda2himmeli.colormap: no visible global function definition for
‘col2rgb’
ssea.analyze: no visible global function definition for ‘qnorm’
ssea.analyze: no visible global function definition for ‘approx’
ssea.analyze: no visible global function definition for ‘pnorm’
ssea.analyze.simulate: no visible global function definition for
‘quantile’
ssea.control: no visible global function definition for ‘median’
ssea.control: no visible global function definition for ‘object.size’
ssea.meta: no visible global function definition for ‘qnorm’
ssea.meta: no visible global function definition for ‘quantile’
ssea.meta: no visible global function definition for ‘pnorm’
ssea.meta: no visible global function definition for ‘median’
ssea.meta: no visible global function definition for ‘na.omit’
ssea.prepare: no visible global function definition for ‘median’
ssea.prepare: no visible global function definition for ‘object.size’
ssea.start: no visible global function definition for ‘na.omit’
ssea.start: no visible global function definition for ‘object.size’
ssea.start.configure: no visible global function definition for
‘write.table’
ssea2kda: no visible global function definition for ‘na.omit’
ssea2kda.import: no visible global function definition for ‘na.omit’
tool.aggregate: no visible global function definition for ‘na.omit’
tool.cluster: no visible global function definition for ‘as.dist’
tool.cluster: no visible global function definition for ‘hclust’
tool.fdr.bh: no visible global function definition for ‘qnorm’
tool.fdr.bh: no visible global function definition for ‘p.adjust’
tool.fdr.bh: no visible global function definition for ‘approx’
tool.fdr.empirical: no visible global function definition for ‘qnorm’
tool.fdr.empirical: no visible global function definition for ‘approx’
tool.metap: no visible global function definition for ‘qnorm’
tool.metap: no visible global function definition for ‘pnorm’
tool.normalize: no visible global function definition for ‘sd’
tool.normalize: no visible global function definition for ‘median’
tool.normalize: no visible global function definition for ‘optim’
tool.normalize: no visible global function definition for ‘ks.test’
tool.normalize.quality: no visible global function definition for ‘sd’
tool.normalize.quality: no visible global function definition for
‘ks.test’
tool.overlap: no visible global function definition for ‘phyper’
tool.read: no visible global function definition for ‘read.delim’
tool.read: no visible global function definition for ‘na.omit’
tool.save: no visible global function definition for ‘write.table’
tool.unify: no visible global function definition for ‘sd’
tool.unify: no visible global function definition for ‘quantile’
tool.unify: no visible global function definition for ‘approx’
Undefined global functions or variables:
approx as.dist col2rgb hclust ks.test median na.omit object.size
optim p.adjust phyper pnorm qnorm quantile rainbow read.delim rnorm
sd write.table
Consider adding
importFrom("grDevices", "col2rgb", "rainbow")
importFrom("stats", "approx", "as.dist", "hclust", "ks.test", "median",
"na.omit", "optim", "p.adjust", "phyper", "pnorm", "qnorm",
"quantile", "rnorm", "sd")
importFrom("utils", "object.size", "read.delim", "write.table")
to your NAMESPACE file.
* checking Rd files ... OK
* checking Rd metadata ... OK
* checking Rd cross-references ... OK
* checking for missing documentation entries ... OK
* checking for code/documentation mismatches ... OK
* checking Rd \usage sections ... OK
* checking Rd contents ... OK
* checking for unstated dependencies in examples ... OK
* checking contents of ‘data’ directory ... OK
* checking data for non-ASCII characters ... OK
* checking data for ASCII and uncompressed saves ... OK
* checking sizes of PDF files under ‘inst/doc’ ... OK
* checking files in ‘vignettes’ ... OK
* checking examples ... OK
Examples with CPU (user + system) or elapsed time > 5s
user system elapsed
kda.analyze.exec 12.822 0.316 13.148
kda.analyze.test 12.815 0.251 13.075
kda.analyze.simulate 12.273 0.215 12.497
kda.prepare 12.136 0.217 12.378
ssea2kda.analyze 8.984 0.298 9.286
ssea2kda 8.821 0.265 9.095
ssea.finish.fdr 7.605 0.195 7.845
ssea.meta 7.569 0.142 7.721
ssea.analyze 7.452 0.224 7.681
ssea2kda.import 7.394 0.180 7.578
ssea.finish.genes 7.364 0.173 7.541
ssea.finish 7.307 0.152 7.465
ssea.finish.details 7.157 0.173 7.336
ssea.analyze.simulate 6.987 0.211 7.206
ssea.analyze.randgenes 5.372 0.038 5.412
ssea.prepare.counts 5.305 0.035 5.348
ssea.analyze.randloci 5.247 0.032 5.283
ssea.analyze.observe 5.239 0.033 5.275
ssea.prepare.structure 5.235 0.035 5.276
ssea.control 5.048 0.038 5.088
ssea.start.relabel 5.001 0.039 5.044
* checking for unstated dependencies in ‘tests’ ... OK
* checking tests ...
Running ‘runTests.R’
OK
* checking for unstated dependencies in vignettes ... OK
* checking package vignettes in ‘inst/doc’ ... OK
* checking running R code from vignettes ... SKIPPED
* checking re-building of vignette outputs ... SKIPPED
* checking PDF version of manual ... OK
* DONE
Status: 2 NOTEs
See
‘/Users/biocbuild/bbs-3.11-bioc/meat/Mergeomics.Rcheck/00check.log’
for details.
Mergeomics.Rcheck/00install.out
############################################################################## ############################################################################## ### ### Running command: ### ### /Library/Frameworks/R.framework/Versions/Current/Resources/bin/R CMD INSTALL Mergeomics ### ############################################################################## ############################################################################## * installing to library ‘/Library/Frameworks/R.framework/Versions/4.0/Resources/library’ * installing *source* package ‘Mergeomics’ ... ** using staged installation ** R ** data ** inst ** byte-compile and prepare package for lazy loading ** help *** installing help indices ** building package indices ** installing vignettes ** testing if installed package can be loaded from temporary location ** testing if installed package can be loaded from final location ** testing if installed package keeps a record of temporary installation path * DONE (Mergeomics)
Mergeomics.Rcheck/tests/runTests.Rout
R version 4.0.3 (2020-10-10) -- "Bunny-Wunnies Freak Out"
Copyright (C) 2020 The R Foundation for Statistical Computing
Platform: x86_64-apple-darwin17.0 (64-bit)
R is free software and comes with ABSOLUTELY NO WARRANTY.
You are welcome to redistribute it under certain conditions.
Type 'license()' or 'licence()' for distribution details.
R is a collaborative project with many contributors.
Type 'contributors()' for more information and
'citation()' on how to cite R or R packages in publications.
Type 'demo()' for some demos, 'help()' for on-line help, or
'help.start()' for an HTML browser interface to help.
Type 'q()' to quit R.
> BiocGenerics:::testPackage("Mergeomics")
KDA Version:12.7.2015
Parameters:
Search depth: 1
Search direction: 1
Maximum overlap: 0.33
Minimum module size: 20
Minimum degree: automatic
Maximum degree: automatic
Edge factor: 0
Random seed: 1
Importing edges...
TAIL HEAD WEIGHT
Length:140663 Length:140663 Min. :1
Class :character Class :character 1st Qu.:1
Mode :character Mode :character Median :1
Mean :1
3rd Qu.:1
Max. :1
Importing modules...
MODULE NODE
Length:1643 Length:1643
Class :character Class :character
Mode :character Mode :character
Graph: 7.694687 Mb
Minimum degree set to 20
Maximum degree set to 278
Collecting hubs...
4876 hubs (25.21%)
Graph: 13.28496 Mb
Analyzing network...
6675: Dhcr7, n=114, p=2.24e-17
6648: Cit, n=20, p=7.89e-01
6643: Pbx4, n=23, p=2.32e-05
5582: Sypl, n=319, p=2.02e-02
4746: Tcf7l2, n=73, p=2.63e-02
4708: Tpte, n=86, p=5.05e-02
4511: Pzp, n=160, p=8.85e-03
4464: Tsc22d3, n=487, p=4.28e-13
4407: Dntt, n=93, p=2.40e-20
4360: Amica1, n=132, p=1.06e-06
4588,..: Lrg1, n=86, p=5.76e-12
MSEA Version:01.04.2016
Parameters:
Permutation type: gene
Permutations: 100
Random seed: 1
Minimum gene count: 10
Maximum gene count: 500
Maximum overlap between genes: 0.33
Importing modules...
MODULE DESCR
Length:20 Length:20
Class :character Class :character
Mode :character Mode :character
MODULE GENE
Length:2906 Length:2906
Class :character Class :character
Mode :character Mode :character
Importing marker values...
MARKER VALUE
Length:76866 Min. : 0.8094
Class :character 1st Qu.: 0.9450
Mode :character Median : 1.1374
Mean : 1.3944
3rd Qu.: 1.4688
Max. :323.0100
Importing mapping data...
GENE MARKER
Length:132705 Length:132705
Class :character Class :character
Mode :character Mode :character
Merging genes containing shared markers...
WARNING! Limited overlap analysis due to large number of groups.
86405/1673535
175492/1673535
263198/1673535
351717/1673535
437214/1673535
523459/1673535
614530/1673535
705520/1673535
791020/1673535
875729/1673535
964073/1673535
1052257/1673535
1139729/1673535
1225954/1673535
1317119/1673535
1405396/1673535
1497022/1673535
1585996/1673535
1673535 comparisons
21115 comparisons
13861 comparisons
12880 comparisons
Job: 11.66891 Mb
Preparing data structures...
Job: 17.11776 Mb
Adding positive controls...
Job: 17.42039 Mb
Estimating enrichment...
100/100 cycles
Normalizing scores...
RUNIT TEST PROTOCOL -- Sat Oct 17 02:58:59 2020
***********************************************
Number of test functions: 2
Number of errors: 0
Number of failures: 0
1 Test Suite :
Mergeomics RUnit Tests - 2 test functions, 0 errors, 0 failures
Number of test functions: 2
Number of errors: 0
Number of failures: 0
>
> proc.time()
user system elapsed
597.045 13.571 611.053
Mergeomics.Rcheck/Mergeomics-Ex.timings
| name | user | system | elapsed | |
| MSEA.KDA.onestep | 0.002 | 0.001 | 0.004 | |
| job.kda | 0.024 | 0.005 | 0.030 | |
| kda.analyze | 0.018 | 0.004 | 0.022 | |
| kda.analyze.exec | 12.822 | 0.316 | 13.148 | |
| kda.analyze.simulate | 12.273 | 0.215 | 12.497 | |
| kda.analyze.test | 12.815 | 0.251 | 13.075 | |
| kda.configure | 0.002 | 0.001 | 0.002 | |
| kda.finish | 0.208 | 0.021 | 0.229 | |
| kda.finish.estimate | 0.128 | 0.002 | 0.131 | |
| kda.finish.save | 0.131 | 0.002 | 0.133 | |
| kda.finish.summarize | 0.135 | 0.002 | 0.137 | |
| kda.finish.trim | 0.135 | 0.002 | 0.138 | |
| kda.prepare | 12.136 | 0.217 | 12.378 | |
| kda.prepare.overlap | 0.000 | 0.001 | 0.001 | |
| kda.prepare.screen | 0.000 | 0.001 | 0.001 | |
| kda.start | 1.718 | 0.053 | 1.774 | |
| kda.start.edges | 0.003 | 0.001 | 0.005 | |
| kda.start.identify | 0.006 | 0.001 | 0.007 | |
| kda.start.modules | 0.003 | 0.002 | 0.004 | |
| kda2cytoscape | 0.542 | 0.014 | 0.556 | |
| kda2cytoscape.colorize | 0.000 | 0.001 | 0.000 | |
| kda2cytoscape.colormap | 0.001 | 0.000 | 0.000 | |
| kda2cytoscape.drivers | 0.211 | 0.006 | 0.219 | |
| kda2cytoscape.edges | 0.194 | 0.007 | 0.202 | |
| kda2cytoscape.exec | 0.245 | 0.012 | 0.258 | |
| kda2cytoscape.identify | 0.006 | 0.001 | 0.006 | |
| kda2himmeli | 0.446 | 0.010 | 0.456 | |
| kda2himmeli.colorize | 0.000 | 0.000 | 0.001 | |
| kda2himmeli.colormap | 0.001 | 0.000 | 0.001 | |
| kda2himmeli.drivers | 0.196 | 0.007 | 0.203 | |
| kda2himmeli.edges | 0.204 | 0.007 | 0.211 | |
| kda2himmeli.exec | 0.296 | 0.008 | 0.305 | |
| kda2himmeli.identify | 0.006 | 0.001 | 0.007 | |
| ssea.analyze | 7.452 | 0.224 | 7.681 | |
| ssea.analyze.observe | 5.239 | 0.033 | 5.275 | |
| ssea.analyze.randgenes | 5.372 | 0.038 | 5.412 | |
| ssea.analyze.randloci | 5.247 | 0.032 | 5.283 | |
| ssea.analyze.simulate | 6.987 | 0.211 | 7.206 | |
| ssea.analyze.statistic | 0.000 | 0.000 | 0.001 | |
| ssea.control | 5.048 | 0.038 | 5.088 | |
| ssea.finish | 7.307 | 0.152 | 7.465 | |
| ssea.finish.details | 7.157 | 0.173 | 7.336 | |
| ssea.finish.fdr | 7.605 | 0.195 | 7.845 | |
| ssea.finish.genes | 7.364 | 0.173 | 7.541 | |
| ssea.meta | 7.569 | 0.142 | 7.721 | |
| ssea.prepare | 4.900 | 0.030 | 4.961 | |
| ssea.prepare.counts | 5.305 | 0.035 | 5.348 | |
| ssea.prepare.structure | 5.235 | 0.035 | 5.276 | |
| ssea.start | 4.710 | 0.030 | 4.743 | |
| ssea.start.configure | 0.551 | 0.017 | 0.569 | |
| ssea.start.identify | 0.005 | 0.000 | 0.006 | |
| ssea.start.relabel | 5.001 | 0.039 | 5.044 | |
| ssea2kda | 8.821 | 0.265 | 9.095 | |
| ssea2kda.analyze | 8.984 | 0.298 | 9.286 | |
| ssea2kda.import | 7.394 | 0.180 | 7.578 | |
| tool.aggregate | 0.002 | 0.002 | 0.004 | |
| tool.cluster | 0.019 | 0.001 | 0.020 | |
| tool.cluster.static | 0.001 | 0.000 | 0.001 | |
| tool.coalesce | 0.072 | 0.001 | 0.073 | |
| tool.coalesce.exec | 0.137 | 0.002 | 0.140 | |
| tool.coalesce.find | 0.119 | 0.000 | 0.120 | |
| tool.coalesce.merge | 0.126 | 0.001 | 0.128 | |
| tool.fdr | 0.001 | 0.000 | 0.001 | |
| tool.fdr.bh | 0.001 | 0.000 | 0.001 | |
| tool.fdr.empirical | 0.001 | 0.000 | 0.001 | |
| tool.graph | 1.582 | 0.036 | 1.619 | |
| tool.graph.degree | 2.031 | 0.043 | 2.075 | |
| tool.graph.list | 1.972 | 0.058 | 2.034 | |
| tool.metap | 0.006 | 0.002 | 0.007 | |
| tool.normalize | 0.023 | 0.001 | 0.024 | |
| tool.normalize.quality | 0.019 | 0.001 | 0.019 | |
| tool.overlap | 0.011 | 0.001 | 0.012 | |
| tool.read | 0.347 | 0.005 | 0.352 | |
| tool.save | 0.002 | 0.001 | 0.003 | |
| tool.subgraph | 0.146 | 0.008 | 0.154 | |
| tool.subgraph.find | 0.123 | 0.003 | 0.126 | |
| tool.subgraph.search | 0.131 | 0.003 | 0.134 | |
| tool.subgraph.stats | 0.149 | 0.003 | 0.153 | |
| tool.translate | 0.054 | 0.002 | 0.055 | |
| tool.unify | 0.002 | 0.001 | 0.002 | |