| Back to Multiple platform build/check report for BioC 3.11 |
|
This page was generated on 2020-10-17 11:57:01 -0400 (Sat, 17 Oct 2020).
| TO THE DEVELOPERS/MAINTAINERS OF THE MBttest PACKAGE: Please make sure to use the following settings in order to reproduce any error or warning you see on this page. |
| Package 1006/1905 | Hostname | OS / Arch | INSTALL | BUILD | CHECK | BUILD BIN | ||||||
| MBttest 1.16.0 Yuan-De Tan
| malbec2 | Linux (Ubuntu 18.04.4 LTS) / x86_64 | OK | OK | OK | |||||||
| tokay2 | Windows Server 2012 R2 Standard / x64 | OK | OK | OK | [ OK ] | |||||||
| machv2 | macOS 10.14.6 Mojave / x86_64 | OK | OK | OK | OK |
| Package: MBttest |
| Version: 1.16.0 |
| Command: rm -rf MBttest.buildbin-libdir && mkdir MBttest.buildbin-libdir && C:\Users\biocbuild\bbs-3.11-bioc\R\bin\R.exe CMD INSTALL --merge-multiarch --build --library=MBttest.buildbin-libdir MBttest_1.16.0.tar.gz |
| StartedAt: 2020-10-17 10:57:00 -0400 (Sat, 17 Oct 2020) |
| EndedAt: 2020-10-17 10:57:43 -0400 (Sat, 17 Oct 2020) |
| EllapsedTime: 42.7 seconds |
| RetCode: 0 |
| Status: OK |
| PackageFile: MBttest_1.16.0.zip |
| PackageFileSize: 2.613 MiB |
##############################################################################
##############################################################################
###
### Running command:
###
### rm -rf MBttest.buildbin-libdir && mkdir MBttest.buildbin-libdir && C:\Users\biocbuild\bbs-3.11-bioc\R\bin\R.exe CMD INSTALL --merge-multiarch --build --library=MBttest.buildbin-libdir MBttest_1.16.0.tar.gz
###
##############################################################################
##############################################################################
install for i386
* installing *source* package 'MBttest' ...
** using staged installation
** R
** data
** inst
** byte-compile and prepare package for lazy loading
** help
*** installing help indices
converting help for package 'MBttest'
finding HTML links ... done
MBttest-package html
betaparametVP html
betaparametab html
betaparametw html
betattest html
dat html
jkttcell html
maplot html
mbetattest html
mtprocedure html
mtpvadjust html
myheatmap html
oddratio html
pratio html
simulat html
skjt html
smbetattest html
** building package indices
** installing vignettes
** testing if installed package can be loaded from temporary location
** testing if installed package can be loaded from final location
** testing if installed package keeps a record of temporary installation path
install for x64
* installing *source* package 'MBttest' ...
** testing if installed package can be loaded
* MD5 sums
packaged installation of 'MBttest' as MBttest_1.16.0.zip
* DONE (MBttest)