| Back to Multiple platform build/check report for BioC 3.11 | 
 | 
This page was generated on 2020-10-17 11:56:57 -0400 (Sat, 17 Oct 2020).
| TO THE DEVELOPERS/MAINTAINERS OF THE LINC PACKAGE: Please make sure to use the following settings in order to reproduce any error or warning you see on this page. | 
| Package 938/1905 | Hostname | OS / Arch | INSTALL | BUILD | CHECK | BUILD BIN | ||||||
| LINC 1.16.0 Manuel Goepferich 
 | malbec2 | Linux (Ubuntu 18.04.4 LTS) / x86_64 | OK | OK | ERROR | |||||||
| tokay2 | Windows Server 2012 R2 Standard / x64 | OK | [ OK ] | ERROR | OK | |||||||
| machv2 | macOS 10.14.6 Mojave / x86_64 | OK | OK | ERROR | OK | 
| Package: LINC | 
| Version: 1.16.0 | 
| Command: chmod a+r LINC -R && C:\Users\biocbuild\bbs-3.11-bioc\R\bin\R.exe CMD build --keep-empty-dirs --no-resave-data LINC | 
| StartedAt: 2020-10-16 22:28:47 -0400 (Fri, 16 Oct 2020) | 
| EndedAt: 2020-10-16 22:33:19 -0400 (Fri, 16 Oct 2020) | 
| EllapsedTime: 271.5 seconds | 
| RetCode: 0 | 
| Status: OK | 
| PackageFile: LINC_1.16.0.tar.gz | 
| PackageFileSize: 3.38 MiB | 
############################################################################## ############################################################################## ### ### Running command: ### ### chmod a+r LINC -R && C:\Users\biocbuild\bbs-3.11-bioc\R\bin\R.exe CMD build --keep-empty-dirs --no-resave-data LINC ### ############################################################################## ############################################################################## * checking for file 'LINC/DESCRIPTION' ... OK * preparing 'LINC': * checking DESCRIPTION meta-information ... OK * cleaning src * installing the package to build vignettes * creating vignettes ... OK * cleaning src * checking for LF line-endings in source and make files and shell scripts * checking for empty or unneeded directories * looking to see if a 'data/datalist' file should be added * building 'LINC_1.16.0.tar.gz'