| Back to Multiple platform build/check report for BioC 3.11 |
|
This page was generated on 2020-10-17 11:56:57 -0400 (Sat, 17 Oct 2020).
| TO THE DEVELOPERS/MAINTAINERS OF THE LINC PACKAGE: Please make sure to use the following settings in order to reproduce any error or warning you see on this page. |
| Package 938/1905 | Hostname | OS / Arch | INSTALL | BUILD | CHECK | BUILD BIN | ||||||
| LINC 1.16.0 Manuel Goepferich
| malbec2 | Linux (Ubuntu 18.04.4 LTS) / x86_64 | OK | OK | ERROR | |||||||
| tokay2 | Windows Server 2012 R2 Standard / x64 | OK | OK | ERROR | [ OK ] | |||||||
| machv2 | macOS 10.14.6 Mojave / x86_64 | OK | OK | ERROR | OK |
| Package: LINC |
| Version: 1.16.0 |
| Command: rm -rf LINC.buildbin-libdir && mkdir LINC.buildbin-libdir && C:\Users\biocbuild\bbs-3.11-bioc\R\bin\R.exe CMD INSTALL --merge-multiarch --build --library=LINC.buildbin-libdir LINC_1.16.0.tar.gz |
| StartedAt: 2020-10-17 10:52:43 -0400 (Sat, 17 Oct 2020) |
| EndedAt: 2020-10-17 10:54:15 -0400 (Sat, 17 Oct 2020) |
| EllapsedTime: 91.4 seconds |
| RetCode: 0 |
| Status: OK |
| PackageFile: LINC_1.16.0.zip |
| PackageFileSize: 4.459 MiB |
##############################################################################
##############################################################################
###
### Running command:
###
### rm -rf LINC.buildbin-libdir && mkdir LINC.buildbin-libdir && C:\Users\biocbuild\bbs-3.11-bioc\R\bin\R.exe CMD INSTALL --merge-multiarch --build --library=LINC.buildbin-libdir LINC_1.16.0.tar.gz
###
##############################################################################
##############################################################################
install for i386
* installing *source* package 'LINC' ...
** using staged installation
** libs
"C:/rtools40/mingw32/bin/"g++ -std=gnu++11 -I"C:/Users/BIOCBU~1/BBS-3~1.11-/R/include" -DNDEBUG -I'C:/Users/biocbuild/bbs-3.11-bioc/R/library/Rcpp/include' -I"C:/extsoft/include" -O2 -Wall -mfpmath=sse -msse2 -mstackrealign -c Cppspear.cpp -o Cppspear.o
Cppspear.cpp: In function 'Rcpp::NumericMatrix Cppspear(Rcpp::NumericMatrix, Rcpp::NumericMatrix)':
Cppspear.cpp:78:14: warning: unused variable 'qspear' [-Wunused-variable]
double qspear;double nfraction;
^~~~~~
"C:/rtools40/mingw32/bin/"gcc -I"C:/Users/BIOCBU~1/BBS-3~1.11-/R/include" -DNDEBUG -I'C:/Users/biocbuild/bbs-3.11-bioc/R/library/Rcpp/include' -I"C:/extsoft/include" -O2 -Wall -std=gnu99 -mfpmath=sse -msse2 -mstackrealign -c LINC_init.c -o LINC_init.o
"C:/rtools40/mingw32/bin/"g++ -std=gnu++11 -I"C:/Users/BIOCBU~1/BBS-3~1.11-/R/include" -DNDEBUG -I'C:/Users/biocbuild/bbs-3.11-bioc/R/library/Rcpp/include' -I"C:/extsoft/include" -O2 -Wall -mfpmath=sse -msse2 -mstackrealign -c RcppExports.cpp -o RcppExports.o
"C:/rtools40/mingw32/bin/"g++ -std=gnu++11 -I"C:/Users/BIOCBU~1/BBS-3~1.11-/R/include" -DNDEBUG -I'C:/Users/biocbuild/bbs-3.11-bioc/R/library/Rcpp/include' -I"C:/extsoft/include" -O2 -Wall -mfpmath=sse -msse2 -mstackrealign -c docdd.cpp -o docdd.o
"C:/rtools40/mingw32/bin/"g++ -std=gnu++11 -I"C:/Users/BIOCBU~1/BBS-3~1.11-/R/include" -DNDEBUG -I'C:/Users/biocbuild/bbs-3.11-bioc/R/library/Rcpp/include' -I"C:/extsoft/include" -O2 -Wall -mfpmath=sse -msse2 -mstackrealign -c doesd.cpp -o doesd.o
C:/rtools40/mingw32/bin/g++ -std=gnu++11 -shared -s -static-libgcc -o LINC.dll tmp.def Cppspear.o LINC_init.o RcppExports.o docdd.o doesd.o -LC:/extsoft/lib/i386 -LC:/extsoft/lib -LC:/Users/BIOCBU~1/BBS-3~1.11-/R/bin/i386 -lR
installing to C:/Users/biocbuild/bbs-3.11-bioc/meat/LINC.buildbin-libdir/00LOCK-LINC/00new/LINC/libs/i386
** R
** data
** inst
** byte-compile and prepare package for lazy loading
Creating a new generic function for 'history' in package 'LINC'
** help
*** installing help indices
converting help for package 'LINC'
finding HTML links ... done
Arith-methods html
BRAIN_EXPR html
LINCbio-class html
LINCcluster-class html
LINCfeature-class html
LINCmatrix-class html
LINCsingle-class html
assignment-methods html
changeOrgDb html
clusterlinc-methods html
correlation-methods html
express-methods html
feature html
getbio-methods html
getcoexpr html
getlinc-methods html
history-methods html
justlinc-methods html
linCenvir-methods html
linc-methods html
linctable-methods html
plotlinc-methods html
querycluster html
results-methods html
singlelinc-methods html
** building package indices
** installing vignettes
** testing if installed package can be loaded from temporary location
** testing if installed package can be loaded from final location
** testing if installed package keeps a record of temporary installation path
install for x64
* installing *source* package 'LINC' ...
** libs
"C:/rtools40/mingw64/bin/"g++ -std=gnu++11 -I"C:/Users/BIOCBU~1/BBS-3~1.11-/R/include" -DNDEBUG -I'C:/Users/biocbuild/bbs-3.11-bioc/R/library/Rcpp/include' -I"C:/extsoft/include" -O2 -Wall -mfpmath=sse -msse2 -mstackrealign -c Cppspear.cpp -o Cppspear.o
Cppspear.cpp: In function 'Rcpp::NumericMatrix Cppspear(Rcpp::NumericMatrix, Rcpp::NumericMatrix)':
Cppspear.cpp:78:14: warning: unused variable 'qspear' [-Wunused-variable]
double qspear;double nfraction;
^~~~~~
"C:/rtools40/mingw64/bin/"gcc -I"C:/Users/BIOCBU~1/BBS-3~1.11-/R/include" -DNDEBUG -I'C:/Users/biocbuild/bbs-3.11-bioc/R/library/Rcpp/include' -I"C:/extsoft/include" -O2 -Wall -std=gnu99 -mfpmath=sse -msse2 -mstackrealign -c LINC_init.c -o LINC_init.o
"C:/rtools40/mingw64/bin/"g++ -std=gnu++11 -I"C:/Users/BIOCBU~1/BBS-3~1.11-/R/include" -DNDEBUG -I'C:/Users/biocbuild/bbs-3.11-bioc/R/library/Rcpp/include' -I"C:/extsoft/include" -O2 -Wall -mfpmath=sse -msse2 -mstackrealign -c RcppExports.cpp -o RcppExports.o
"C:/rtools40/mingw64/bin/"g++ -std=gnu++11 -I"C:/Users/BIOCBU~1/BBS-3~1.11-/R/include" -DNDEBUG -I'C:/Users/biocbuild/bbs-3.11-bioc/R/library/Rcpp/include' -I"C:/extsoft/include" -O2 -Wall -mfpmath=sse -msse2 -mstackrealign -c docdd.cpp -o docdd.o
"C:/rtools40/mingw64/bin/"g++ -std=gnu++11 -I"C:/Users/BIOCBU~1/BBS-3~1.11-/R/include" -DNDEBUG -I'C:/Users/biocbuild/bbs-3.11-bioc/R/library/Rcpp/include' -I"C:/extsoft/include" -O2 -Wall -mfpmath=sse -msse2 -mstackrealign -c doesd.cpp -o doesd.o
C:/rtools40/mingw64/bin/g++ -std=gnu++11 -shared -s -static-libgcc -o LINC.dll tmp.def Cppspear.o LINC_init.o RcppExports.o docdd.o doesd.o -LC:/extsoft/lib/x64 -LC:/extsoft/lib -LC:/Users/BIOCBU~1/BBS-3~1.11-/R/bin/x64 -lR
installing to C:/Users/biocbuild/bbs-3.11-bioc/meat/LINC.buildbin-libdir/LINC/libs/x64
** testing if installed package can be loaded
* MD5 sums
packaged installation of 'LINC' as LINC_1.16.0.zip
* DONE (LINC)