| Back to Multiple platform build/check report for BioC 3.11 | 
 | 
This page was generated on 2020-10-17 11:55:00 -0400 (Sat, 17 Oct 2020).
| TO THE DEVELOPERS/MAINTAINERS OF THE IVAS PACKAGE: Please make sure to use the following settings in order to reproduce any error or warning you see on this page. | 
| Package 910/1905 | Hostname | OS / Arch | INSTALL | BUILD | CHECK | BUILD BIN | ||||||
| IVAS 2.8.0 Seonggyun Han 
 | malbec2 | Linux (Ubuntu 18.04.4 LTS) / x86_64 | OK | [ OK ] | WARNINGS |  | ||||||
| tokay2 | Windows Server 2012 R2 Standard / x64 | OK | OK | WARNINGS | OK |  | ||||||
| machv2 | macOS 10.14.6 Mojave / x86_64 | OK | OK | WARNINGS | OK |  | 
| Package: IVAS | 
| Version: 2.8.0 | 
| Command: /home/biocbuild/bbs-3.11-bioc/R/bin/R CMD build --keep-empty-dirs --no-resave-data IVAS | 
| StartedAt: 2020-10-16 19:58:38 -0400 (Fri, 16 Oct 2020) | 
| EndedAt: 2020-10-16 19:59:50 -0400 (Fri, 16 Oct 2020) | 
| EllapsedTime: 72.1 seconds | 
| RetCode: 0 | 
| Status: OK | 
| PackageFile: IVAS_2.8.0.tar.gz | 
| PackageFileSize: 248.2 KiB | 
############################################################################## ############################################################################## ### ### Running command: ### ### /home/biocbuild/bbs-3.11-bioc/R/bin/R CMD build --keep-empty-dirs --no-resave-data IVAS ### ############################################################################## ############################################################################## * checking for file ‘IVAS/DESCRIPTION’ ... OK * preparing ‘IVAS’: * checking DESCRIPTION meta-information ... OK * installing the package to build vignettes * creating vignettes ... OK * checking for LF line-endings in source and make files and shell scripts * checking for empty or unneeded directories * looking to see if a ‘data/datalist’ file should be added * building ‘IVAS_2.8.0.tar.gz’