| Back to Multiple platform build/check report for BioC 3.11 |
|
This page was generated on 2020-10-17 11:56:49 -0400 (Sat, 17 Oct 2020).
| TO THE DEVELOPERS/MAINTAINERS OF THE HilbertVisGUI PACKAGE: Please make sure to use the following settings in order to reproduce any error or warning you see on this page. |
| Package 821/1905 | Hostname | OS / Arch | INSTALL | BUILD | CHECK | BUILD BIN | ||||||
| HilbertVisGUI 1.46.0 Simon Anders
| malbec2 | Linux (Ubuntu 18.04.4 LTS) / x86_64 | OK | OK | WARNINGS | |||||||
| tokay2 | Windows Server 2012 R2 Standard / x64 | ERROR | [ ERROR ] | skipped | skipped | |||||||
| machv2 | macOS 10.14.6 Mojave / x86_64 | ...NOT SUPPORTED... | ||||||||||
| Package: HilbertVisGUI |
| Version: 1.46.0 |
| Command: chmod a+r HilbertVisGUI -R && C:\Users\biocbuild\bbs-3.11-bioc\R\bin\R.exe --arch x64 CMD build --keep-empty-dirs --no-resave-data HilbertVisGUI |
| StartedAt: 2020-10-16 22:15:14 -0400 (Fri, 16 Oct 2020) |
| EndedAt: 2020-10-16 22:15:37 -0400 (Fri, 16 Oct 2020) |
| EllapsedTime: 23.3 seconds |
| RetCode: 1 |
| Status: ERROR |
| PackageFile: None |
| PackageFileSize: NA |
##############################################################################
##############################################################################
###
### Running command:
###
### chmod a+r HilbertVisGUI -R && C:\Users\biocbuild\bbs-3.11-bioc\R\bin\R.exe --arch x64 CMD build --keep-empty-dirs --no-resave-data HilbertVisGUI
###
##############################################################################
##############################################################################
* checking for file 'HilbertVisGUI/DESCRIPTION' ... OK
* preparing 'HilbertVisGUI':
* checking DESCRIPTION meta-information ... OK
* cleaning src
* installing the package to build vignettes
-----------------------------------
* installing *source* package 'HilbertVisGUI' ...
** using staged installation
**********************************************
WARNING: this package has a configure script
It probably needs manual configuration
**********************************************
** libs
Package gtkmm-2.4 was not found in the pkg-config search path.
Perhaps you should add the directory containing `gtkmm-2.4.pc'
to the PKG_CONFIG_PATH environment variable
No package 'gtkmm-2.4' found
Package gtkmm-2.4 was not found in the pkg-config search path.
Perhaps you should add the directory containing `gtkmm-2.4.pc'
to the PKG_CONFIG_PATH environment variable
No package 'gtkmm-2.4' found
"C:/rtools40/mingw64/bin/"gcc -I"C:/Users/BIOCBU~1/BBS-3~1.11-/R/include" -DNDEBUG -DSO_NAME=HilbertVisGUI -DMSWINDOWS -I"C:/extsoft/include" -DSO_NAME=HilbertVisGUI -DMSWINDOWS -O2 -Wall -std=gnu99 -mfpmath=sse -msse2 -mstackrealign -c R_env_prot.c -o R_env_prot.o
"C:/rtools40/mingw64/bin/"g++ -std=gnu++11 -I"C:/Users/BIOCBU~1/BBS-3~1.11-/R/include" -DNDEBUG -DSO_NAME=HilbertVisGUI -DMSWINDOWS -I"C:/extsoft/include" -O2 -Wall -mfpmath=sse -msse2 -mstackrealign -c R_interface.cc -o R_interface.o
In file included from R_interface.cc:8:
display.h:7:10: fatal error: gtkmm.h: No such file or directory
#include <gtkmm.h>
^~~~~~~~~
compilation terminated.
make: *** [C:/Users/BIOCBU~1/BBS-3~1.11-/R/etc/x64/Makeconf:227: R_interface.o] Error 1
ERROR: compilation failed for package 'HilbertVisGUI'
* removing 'C:/Users/biocbuild/bbs-3.11-bioc/tmpdir/RtmpQFEX60/Rinst1f3c7d227732/HilbertVisGUI'
-----------------------------------
ERROR: package installation failed