| Back to Multiple platform build/check report for BioC 3.11 |
|
This page was generated on 2020-10-17 11:54:56 -0400 (Sat, 17 Oct 2020).
| TO THE DEVELOPERS/MAINTAINERS OF THE HilbertVisGUI PACKAGE: Please make sure to use the following settings in order to reproduce any error or warning you see on this page. |
| Package 821/1905 | Hostname | OS / Arch | INSTALL | BUILD | CHECK | BUILD BIN | ||||||
| HilbertVisGUI 1.46.0 Simon Anders
| malbec2 | Linux (Ubuntu 18.04.4 LTS) / x86_64 | OK | [ OK ] | WARNINGS | |||||||
| tokay2 | Windows Server 2012 R2 Standard / x64 | ERROR | ERROR | skipped | skipped | |||||||
| machv2 | macOS 10.14.6 Mojave / x86_64 | ...NOT SUPPORTED... | ||||||||||
| Package: HilbertVisGUI |
| Version: 1.46.0 |
| Command: /home/biocbuild/bbs-3.11-bioc/R/bin/R CMD build --keep-empty-dirs --no-resave-data HilbertVisGUI |
| StartedAt: 2020-10-16 19:45:13 -0400 (Fri, 16 Oct 2020) |
| EndedAt: 2020-10-16 19:45:38 -0400 (Fri, 16 Oct 2020) |
| EllapsedTime: 25.2 seconds |
| RetCode: 0 |
| Status: OK |
| PackageFile: HilbertVisGUI_1.46.0.tar.gz |
| PackageFileSize: 105 KiB |
############################################################################## ############################################################################## ### ### Running command: ### ### /home/biocbuild/bbs-3.11-bioc/R/bin/R CMD build --keep-empty-dirs --no-resave-data HilbertVisGUI ### ############################################################################## ############################################################################## * checking for file ‘HilbertVisGUI/DESCRIPTION’ ... OK * preparing ‘HilbertVisGUI’: * checking DESCRIPTION meta-information ... OK * cleaning src * installing the package to build vignettes * creating vignettes ... OK * cleaning src * checking for LF line-endings in source and make files and shell scripts * checking for empty or unneeded directories * building ‘HilbertVisGUI_1.46.0.tar.gz’