| Back to Multiple platform build/check report for BioC 3.11 |
|
This page was generated on 2020-10-17 11:58:32 -0400 (Sat, 17 Oct 2020).
| TO THE DEVELOPERS/MAINTAINERS OF THE GeneAnswers PACKAGE: Please make sure to use the following settings in order to reproduce any error or warning you see on this page. |
| Package 674/1905 | Hostname | OS / Arch | INSTALL | BUILD | CHECK | BUILD BIN | ||||||
| GeneAnswers 2.30.0 Lei Huang
| malbec2 | Linux (Ubuntu 18.04.4 LTS) / x86_64 | OK | OK | WARNINGS | |||||||
| tokay2 | Windows Server 2012 R2 Standard / x64 | OK | OK | WARNINGS | OK | |||||||
| machv2 | macOS 10.14.6 Mojave / x86_64 | OK | OK | WARNINGS | [ OK ] |
| Package: GeneAnswers |
| Version: 2.30.0 |
| Command: rm -rf GeneAnswers.buildbin-libdir && mkdir GeneAnswers.buildbin-libdir && /Users/biocbuild/BBS/utils/build-universal.sh GeneAnswers_2.30.0.tar.gz /Library/Frameworks/R.framework/Versions/Current/Resources/bin/R GeneAnswers.buildbin-libdir |
| StartedAt: 2020-10-17 07:07:49 -0400 (Sat, 17 Oct 2020) |
| EndedAt: 2020-10-17 07:08:27 -0400 (Sat, 17 Oct 2020) |
| EllapsedTime: 38.6 seconds |
| RetCode: 0 |
| Status: OK |
| PackageFile: GeneAnswers_2.30.0.tgz |
| PackageFileSize: 33.25 MiB |
############################################################################## ############################################################################## ### ### Running command: ### ### rm -rf GeneAnswers.buildbin-libdir && mkdir GeneAnswers.buildbin-libdir && /Users/biocbuild/BBS/utils/build-universal.sh GeneAnswers_2.30.0.tar.gz /Library/Frameworks/R.framework/Versions/Current/Resources/bin/R GeneAnswers.buildbin-libdir ### ############################################################################## ############################################################################## >>>>>>> >>>>>>> INSTALLATION WITH 'R CMD INSTALL --preclean --no-multiarch --library=GeneAnswers.buildbin-libdir GeneAnswers_2.30.0.tar.gz' >>>>>>> * installing *source* package ‘GeneAnswers’ ... ** using staged installation ** R ** data ** inst ** byte-compile and prepare package for lazy loading Warning: replacing previous import ‘stats::decompose’ by ‘igraph::decompose’ when loading ‘GeneAnswers’ Warning: replacing previous import ‘stats::spectrum’ by ‘igraph::spectrum’ when loading ‘GeneAnswers’ ** help *** installing help indices ** building package indices ** installing vignettes ** testing if installed package can be loaded from temporary location Warning: replacing previous import ‘stats::decompose’ by ‘igraph::decompose’ when loading ‘GeneAnswers’ Warning: replacing previous import ‘stats::spectrum’ by ‘igraph::spectrum’ when loading ‘GeneAnswers’ ** testing if installed package can be loaded from final location Warning: replacing previous import ‘stats::decompose’ by ‘igraph::decompose’ when loading ‘GeneAnswers’ Warning: replacing previous import ‘stats::spectrum’ by ‘igraph::spectrum’ when loading ‘GeneAnswers’ ** testing if installed package keeps a record of temporary installation path * DONE (GeneAnswers)