| Back to Multiple platform build/check report for BioC 3.11 |
|
This page was generated on 2020-10-17 11:54:46 -0400 (Sat, 17 Oct 2020).
| TO THE DEVELOPERS/MAINTAINERS OF THE FlowSOM PACKAGE: Please make sure to use the following settings in order to reproduce any error or warning you see on this page. |
| Package 623/1905 | Hostname | OS / Arch | INSTALL | BUILD | CHECK | BUILD BIN | ||||||
| FlowSOM 1.20.0 Sofie Van Gassen
| malbec2 | Linux (Ubuntu 18.04.4 LTS) / x86_64 | OK | OK | [ OK ] | |||||||
| tokay2 | Windows Server 2012 R2 Standard / x64 | OK | OK | OK | OK | |||||||
| machv2 | macOS 10.14.6 Mojave / x86_64 | OK | OK | WARNINGS | OK |
| Package: FlowSOM |
| Version: 1.20.0 |
| Command: /home/biocbuild/bbs-3.11-bioc/R/bin/R CMD check --install=check:FlowSOM.install-out.txt --library=/home/biocbuild/bbs-3.11-bioc/R/library --no-vignettes --timings FlowSOM_1.20.0.tar.gz |
| StartedAt: 2020-10-17 01:24:19 -0400 (Sat, 17 Oct 2020) |
| EndedAt: 2020-10-17 01:27:27 -0400 (Sat, 17 Oct 2020) |
| EllapsedTime: 188.1 seconds |
| RetCode: 0 |
| Status: OK |
| CheckDir: FlowSOM.Rcheck |
| Warnings: 0 |
##############################################################################
##############################################################################
###
### Running command:
###
### /home/biocbuild/bbs-3.11-bioc/R/bin/R CMD check --install=check:FlowSOM.install-out.txt --library=/home/biocbuild/bbs-3.11-bioc/R/library --no-vignettes --timings FlowSOM_1.20.0.tar.gz
###
##############################################################################
##############################################################################
* using log directory ‘/home/biocbuild/bbs-3.11-bioc/meat/FlowSOM.Rcheck’
* using R version 4.0.3 (2020-10-10)
* using platform: x86_64-pc-linux-gnu (64-bit)
* using session charset: UTF-8
* using option ‘--no-vignettes’
* checking for file ‘FlowSOM/DESCRIPTION’ ... OK
* this is package ‘FlowSOM’ version ‘1.20.0’
* checking package namespace information ... OK
* checking package dependencies ... OK
* checking if this is a source package ... OK
* checking if there is a namespace ... OK
* checking for hidden files and directories ... OK
* checking for portable file names ... OK
* checking for sufficient/correct file permissions ... OK
* checking whether package ‘FlowSOM’ can be installed ... OK
* checking installed package size ... OK
* checking package directory ... OK
* checking ‘build’ directory ... OK
* checking DESCRIPTION meta-information ... OK
* checking top-level files ... OK
* checking for left-over files ... OK
* checking index information ... OK
* checking package subdirectories ... OK
* checking R files for non-ASCII characters ... OK
* checking R files for syntax errors ... OK
* checking whether the package can be loaded ... OK
* checking whether the package can be loaded with stated dependencies ... OK
* checking whether the package can be unloaded cleanly ... OK
* checking whether the namespace can be loaded with stated dependencies ... OK
* checking whether the namespace can be unloaded cleanly ... OK
* checking dependencies in R code ... OK
* checking S3 generic/method consistency ... OK
* checking replacement functions ... OK
* checking foreign function calls ... OK
* checking R code for possible problems ... NOTE
AddFlowFrame: no visible global function definition for ‘is’
ReadInput: no visible global function definition for ‘is’
Undefined global functions or variables:
is
Consider adding
importFrom("methods", "is")
to your NAMESPACE file (and ensure that your DESCRIPTION Imports field
contains 'methods').
* checking Rd files ... OK
* checking Rd metadata ... OK
* checking Rd cross-references ... OK
* checking for missing documentation entries ... OK
* checking for code/documentation mismatches ... OK
* checking Rd \usage sections ... OK
* checking Rd contents ... OK
* checking for unstated dependencies in examples ... OK
* checking line endings in C/C++/Fortran sources/headers ... OK
* checking compiled code ... NOTE
Note: information on .o files is not available
* checking files in ‘vignettes’ ... OK
* checking examples ... OK
Examples with CPU (user + system) or elapsed time > 5s
user system elapsed
CountGroups 10.239 0.076 10.314
FlowSOM 7.178 0.027 7.212
PlotOverview2D 6.749 0.024 6.773
PlotLabels 4.992 0.011 5.003
* checking for unstated dependencies in vignettes ... OK
* checking package vignettes in ‘inst/doc’ ... OK
* checking running R code from vignettes ... SKIPPED
* checking re-building of vignette outputs ... SKIPPED
* checking PDF version of manual ... OK
* DONE
Status: 2 NOTEs
See
‘/home/biocbuild/bbs-3.11-bioc/meat/FlowSOM.Rcheck/00check.log’
for details.
FlowSOM.Rcheck/00install.out
############################################################################## ############################################################################## ### ### Running command: ### ### /home/biocbuild/bbs-3.11-bioc/R/bin/R CMD INSTALL FlowSOM ### ############################################################################## ############################################################################## * installing to library ‘/home/biocbuild/bbs-3.11-bioc/R/library’ * installing *source* package ‘FlowSOM’ ... ** using staged installation ** libs gcc -I"/home/biocbuild/bbs-3.11-bioc/R/include" -DNDEBUG -I/usr/local/include -fpic -g -O2 -Wall -c som.c -o som.o gcc -shared -L/home/biocbuild/bbs-3.11-bioc/R/lib -L/usr/local/lib -o FlowSOM.so som.o -L/home/biocbuild/bbs-3.11-bioc/R/lib -lR installing to /home/biocbuild/bbs-3.11-bioc/R/library/00LOCK-FlowSOM/00new/FlowSOM/libs ** R ** inst ** byte-compile and prepare package for lazy loading ** help *** installing help indices ** building package indices ** installing vignettes ** testing if installed package can be loaded from temporary location ** checking absolute paths in shared objects and dynamic libraries ** testing if installed package can be loaded from final location ** testing if installed package keeps a record of temporary installation path * DONE (FlowSOM)
FlowSOM.Rcheck/FlowSOM-Ex.timings
| name | user | system | elapsed | |
| AggregateFlowFrames | 0.116 | 0.003 | 0.125 | |
| BuildMST | 1.098 | 0.009 | 1.105 | |
| BuildSOM | 1.314 | 0.019 | 1.334 | |
| CountGroups | 10.239 | 0.076 | 10.314 | |
| FMeasure | 0.002 | 0.001 | 0.001 | |
| FlowSOM | 7.178 | 0.027 | 7.212 | |
| FlowSOMSubset | 4.114 | 0.012 | 4.126 | |
| GetClusters | 3.264 | 0.012 | 3.276 | |
| GetFlowJoLabels | 3.577 | 0.012 | 3.617 | |
| GetMFIs | 4.391 | 0.008 | 4.399 | |
| GetMetaclusters | 3.026 | 0.005 | 3.030 | |
| Initialize_KWSP | 0.004 | 0.000 | 0.004 | |
| Initialize_PCA | 0.002 | 0.000 | 0.002 | |
| MetaClustering | 3.466 | 0.020 | 3.486 | |
| MetaclusterCVs | 4.176 | 0.016 | 4.192 | |
| MetaclusterMFIs | 4.045 | 0.008 | 4.053 | |
| NewData | 3.085 | 0.004 | 3.089 | |
| PlotCenters | 1.041 | 0.000 | 1.041 | |
| PlotClusters2D | 1.139 | 0.000 | 1.139 | |
| PlotGroups | 0 | 0 | 0 | |
| PlotLabels | 4.992 | 0.011 | 5.003 | |
| PlotMarker | 1.498 | 0.012 | 1.510 | |
| PlotNode | 3.663 | 0.012 | 3.675 | |
| PlotNumbers | 0.894 | 0.000 | 0.894 | |
| PlotOverview2D | 6.749 | 0.024 | 6.773 | |
| PlotPies | 4.694 | 0.007 | 4.703 | |
| PlotSD | 1.893 | 0.001 | 1.893 | |
| PlotStars | 1.642 | 0.000 | 1.642 | |
| PlotVariable | 1.129 | 0.003 | 1.134 | |
| Purity | 0.001 | 0.000 | 0.001 | |
| QueryStarPlot | 2.713 | 0.003 | 2.717 | |
| ReadInput | 3.464 | 0.023 | 3.488 | |
| TestOutliers | 4.591 | 0.016 | 4.607 | |
| UpdateNodeSize | 1.422 | 0.000 | 1.422 | |
| get_channels | 0.019 | 0.004 | 0.023 | |
| get_markers | 0.023 | 0.004 | 0.026 | |
| metaClustering_consensus | 2.392 | 0.020 | 2.412 | |