| Back to Multiple platform build/check report for BioC 3.11 |
|
This page was generated on 2020-10-17 11:56:35 -0400 (Sat, 17 Oct 2020).
| TO THE DEVELOPERS/MAINTAINERS OF THE FlowRepositoryR PACKAGE: Please make sure to use the following settings in order to reproduce any error or warning you see on this page. |
| Package 622/1905 | Hostname | OS / Arch | INSTALL | BUILD | CHECK | BUILD BIN | ||||||
| FlowRepositoryR 1.20.0 Josef Spidlen
| malbec2 | Linux (Ubuntu 18.04.4 LTS) / x86_64 | OK | OK | OK | |||||||
| tokay2 | Windows Server 2012 R2 Standard / x64 | [ OK ] | OK | OK | OK | |||||||
| machv2 | macOS 10.14.6 Mojave / x86_64 | OK | OK | OK | OK |
| Package: FlowRepositoryR |
| Version: 1.20.0 |
| Command: C:\cygwin\bin\curl.exe -O https://malbec2.bioconductor.org/BBS/3.11/bioc/src/contrib/FlowRepositoryR_1.20.0.tar.gz && rm -rf FlowRepositoryR.buildbin-libdir && mkdir FlowRepositoryR.buildbin-libdir && C:\Users\biocbuild\bbs-3.11-bioc\R\bin\R.exe CMD INSTALL --merge-multiarch --build --library=FlowRepositoryR.buildbin-libdir FlowRepositoryR_1.20.0.tar.gz && C:\Users\biocbuild\bbs-3.11-bioc\R\bin\R.exe CMD INSTALL FlowRepositoryR_1.20.0.zip && rm FlowRepositoryR_1.20.0.tar.gz FlowRepositoryR_1.20.0.zip |
| StartedAt: 2020-10-16 17:21:40 -0400 (Fri, 16 Oct 2020) |
| EndedAt: 2020-10-16 17:22:34 -0400 (Fri, 16 Oct 2020) |
| EllapsedTime: 54.3 seconds |
| RetCode: 0 |
| Status: OK |
##############################################################################
##############################################################################
###
### Running command:
###
### C:\cygwin\bin\curl.exe -O https://malbec2.bioconductor.org/BBS/3.11/bioc/src/contrib/FlowRepositoryR_1.20.0.tar.gz && rm -rf FlowRepositoryR.buildbin-libdir && mkdir FlowRepositoryR.buildbin-libdir && C:\Users\biocbuild\bbs-3.11-bioc\R\bin\R.exe CMD INSTALL --merge-multiarch --build --library=FlowRepositoryR.buildbin-libdir FlowRepositoryR_1.20.0.tar.gz && C:\Users\biocbuild\bbs-3.11-bioc\R\bin\R.exe CMD INSTALL FlowRepositoryR_1.20.0.zip && rm FlowRepositoryR_1.20.0.tar.gz FlowRepositoryR_1.20.0.zip
###
##############################################################################
##############################################################################
% Total % Received % Xferd Average Speed Time Time Time Current
Dload Upload Total Spent Left Speed
0 0 0 0 0 0 0 0 --:--:-- --:--:-- --:--:-- 0
100 99750 100 99750 0 0 1636k 0 --:--:-- --:--:-- --:--:-- 1837k
install for i386
* installing *source* package 'FlowRepositoryR' ...
** using staged installation
** R
** inst
** byte-compile and prepare package for lazy loading
** help
*** installing help indices
converting help for package 'FlowRepositoryR'
finding HTML links ... done
FlowRepositoryR-package html
attachmentProxy-class html
download-methods html
fcsProxy-class html
fileProxy-class html
flowRep.get html
flowRep.ls html
flowRep.search html
flowRep.submitGeneStatus html
flowRep.submitImpcResults html
flowRepData-class html
flowRepOrganization-class html
forgetFlowRepositoryCredentials html
getFlowRepositoryURL html
id-methods html
ilarCodeDescription html
impcCodeDescription html
impcResultsCopy-methods html
is.downloaded-methods html
listKnownIlarCodes html
setFlowRepositoryCredentials html
setFlowRepositoryURL html
** building package indices
** installing vignettes
** testing if installed package can be loaded from temporary location
** testing if installed package can be loaded from final location
** testing if installed package keeps a record of temporary installation path
install for x64
* installing *source* package 'FlowRepositoryR' ...
** testing if installed package can be loaded
* MD5 sums
packaged installation of 'FlowRepositoryR' as FlowRepositoryR_1.20.0.zip
* DONE (FlowRepositoryR)
* installing to library 'C:/Users/biocbuild/bbs-3.11-bioc/R/library'
package 'FlowRepositoryR' successfully unpacked and MD5 sums checked