| Back to Multiple platform build/check report for BioC 3.11 |
|
This page was generated on 2020-10-17 11:58:29 -0400 (Sat, 17 Oct 2020).
| TO THE DEVELOPERS/MAINTAINERS OF THE FlowRepositoryR PACKAGE: Please make sure to use the following settings in order to reproduce any error or warning you see on this page. |
| Package 622/1905 | Hostname | OS / Arch | INSTALL | BUILD | CHECK | BUILD BIN | ||||||
| FlowRepositoryR 1.20.0 Josef Spidlen
| malbec2 | Linux (Ubuntu 18.04.4 LTS) / x86_64 | OK | OK | OK | |||||||
| tokay2 | Windows Server 2012 R2 Standard / x64 | OK | OK | OK | OK | |||||||
| machv2 | macOS 10.14.6 Mojave / x86_64 | OK | OK | [ OK ] | OK |
| Package: FlowRepositoryR |
| Version: 1.20.0 |
| Command: /Library/Frameworks/R.framework/Versions/Current/Resources/bin/R CMD check --install=check:FlowRepositoryR.install-out.txt --library=/Library/Frameworks/R.framework/Versions/Current/Resources/library --no-vignettes --timings FlowRepositoryR_1.20.0.tar.gz |
| StartedAt: 2020-10-17 01:13:38 -0400 (Sat, 17 Oct 2020) |
| EndedAt: 2020-10-17 01:14:56 -0400 (Sat, 17 Oct 2020) |
| EllapsedTime: 77.5 seconds |
| RetCode: 0 |
| Status: OK |
| CheckDir: FlowRepositoryR.Rcheck |
| Warnings: 0 |
##############################################################################
##############################################################################
###
### Running command:
###
### /Library/Frameworks/R.framework/Versions/Current/Resources/bin/R CMD check --install=check:FlowRepositoryR.install-out.txt --library=/Library/Frameworks/R.framework/Versions/Current/Resources/library --no-vignettes --timings FlowRepositoryR_1.20.0.tar.gz
###
##############################################################################
##############################################################################
* using log directory ‘/Users/biocbuild/bbs-3.11-bioc/meat/FlowRepositoryR.Rcheck’
* using R version 4.0.3 (2020-10-10)
* using platform: x86_64-apple-darwin17.0 (64-bit)
* using session charset: UTF-8
* using option ‘--no-vignettes’
* checking for file ‘FlowRepositoryR/DESCRIPTION’ ... OK
* checking extension type ... Package
* this is package ‘FlowRepositoryR’ version ‘1.20.0’
* checking package namespace information ... OK
* checking package dependencies ... OK
* checking if this is a source package ... OK
* checking if there is a namespace ... OK
* checking for hidden files and directories ... OK
* checking for portable file names ... OK
* checking for sufficient/correct file permissions ... OK
* checking whether package ‘FlowRepositoryR’ can be installed ... OK
* checking installed package size ... OK
* checking package directory ... OK
* checking ‘build’ directory ... OK
* checking DESCRIPTION meta-information ... OK
* checking top-level files ... OK
* checking for left-over files ... OK
* checking index information ... OK
* checking package subdirectories ... OK
* checking R files for non-ASCII characters ... OK
* checking R files for syntax errors ... OK
* checking whether the package can be loaded ... OK
* checking whether the package can be loaded with stated dependencies ... OK
* checking whether the package can be unloaded cleanly ... OK
* checking whether the namespace can be loaded with stated dependencies ... OK
* checking whether the namespace can be unloaded cleanly ... OK
* checking dependencies in R code ... OK
* checking S3 generic/method consistency ... OK
* checking replacement functions ... OK
* checking foreign function calls ... OK
* checking R code for possible problems ... NOTE
attachmentProxy: no visible global function definition for ‘new’
fcsProxy: no visible global function definition for ‘new’
flowRep.search: no visible global function definition for ‘is’
flowRepData: no visible global function definition for ‘new’
flowRepOrganization: no visible global function definition for ‘new’
attachments<-,flowRepData: no visible global function definition for
‘is’
fcs.files<-,flowRepData: no visible global function definition for ‘is’
impc.experiments<-,flowRepData: no visible global function definition
for ‘is’
Undefined global functions or variables:
is new
Consider adding
importFrom("methods", "is", "new")
to your NAMESPACE file (and ensure that your DESCRIPTION Imports field
contains 'methods').
* checking Rd files ... OK
* checking Rd metadata ... OK
* checking Rd cross-references ... OK
* checking for missing documentation entries ... OK
* checking for code/documentation mismatches ... OK
* checking Rd \usage sections ... OK
* checking Rd contents ... OK
* checking for unstated dependencies in examples ... OK
* checking sizes of PDF files under ‘inst/doc’ ... OK
* checking files in ‘vignettes’ ... OK
* checking examples ... OK
Examples with CPU (user + system) or elapsed time > 5s
user system elapsed
flowRep.search 0.018 0.003 7.349
* checking for unstated dependencies in ‘tests’ ... OK
* checking tests ...
Running ‘runTests.R’
OK
* checking for unstated dependencies in vignettes ... OK
* checking package vignettes in ‘inst/doc’ ... OK
* checking running R code from vignettes ... SKIPPED
* checking re-building of vignette outputs ... SKIPPED
* checking PDF version of manual ... OK
* DONE
Status: 1 NOTE
See
‘/Users/biocbuild/bbs-3.11-bioc/meat/FlowRepositoryR.Rcheck/00check.log’
for details.
FlowRepositoryR.Rcheck/00install.out
############################################################################## ############################################################################## ### ### Running command: ### ### /Library/Frameworks/R.framework/Versions/Current/Resources/bin/R CMD INSTALL FlowRepositoryR ### ############################################################################## ############################################################################## * installing to library ‘/Library/Frameworks/R.framework/Versions/4.0/Resources/library’ * installing *source* package ‘FlowRepositoryR’ ... ** using staged installation ** R ** inst ** byte-compile and prepare package for lazy loading ** help *** installing help indices ** building package indices ** installing vignettes ** testing if installed package can be loaded from temporary location ** testing if installed package can be loaded from final location ** testing if installed package keeps a record of temporary installation path * DONE (FlowRepositoryR)
FlowRepositoryR.Rcheck/tests/runTests.Rout
R version 4.0.3 (2020-10-10) -- "Bunny-Wunnies Freak Out"
Copyright (C) 2020 The R Foundation for Statistical Computing
Platform: x86_64-apple-darwin17.0 (64-bit)
R is free software and comes with ABSOLUTELY NO WARRANTY.
You are welcome to redistribute it under certain conditions.
Type 'license()' or 'licence()' for distribution details.
R is a collaborative project with many contributors.
Type 'contributors()' for more information and
'citation()' on how to cite R or R packages in publications.
Type 'demo()' for some demos, 'help()' for on-line help, or
'help.start()' for an HTML browser interface to help.
Type 'q()' to quit R.
> BiocGenerics:::testPackage("FlowRepositoryR")
File about.txt downloaded.
File GvHD2.fcs downloaded.
Downloading to /Users/biocbuild/bbs-3.11-bioc/meat/FlowRepositoryR.Rcheck/tests/FR-FCM-ZZJ7
File GvHD2.fcs is downloaded already.
File GvHD8.fcs downloaded.
File about.txt is downloaded already.
File ExampleGate.png downloaded.
Download finished.
RUNIT TEST PROTOCOL -- Sat Oct 17 01:14:44 2020
***********************************************
Number of test functions: 16
Number of errors: 0
Number of failures: 0
1 Test Suite :
FlowRepositoryR RUnit Tests - 16 test functions, 0 errors, 0 failures
Number of test functions: 16
Number of errors: 0
Number of failures: 0
>
> proc.time()
user system elapsed
1.648 0.167 19.340
FlowRepositoryR.Rcheck/FlowRepositoryR-Ex.timings
| name | user | system | elapsed | |
| attachmentProxy-class | 0.122 | 0.014 | 0.485 | |
| download-methods | 0.152 | 0.017 | 1.741 | |
| fcsProxy-class | 0.052 | 0.004 | 0.270 | |
| fileProxy-class | 0.042 | 0.003 | 0.326 | |
| flowRep.get | 0.036 | 0.003 | 0.225 | |
| flowRep.ls | 0.037 | 0.016 | 0.511 | |
| flowRep.search | 0.018 | 0.003 | 7.349 | |
| flowRep.submitGeneStatus | 0.003 | 0.001 | 0.003 | |
| flowRep.submitImpcResults | 0.007 | 0.001 | 0.008 | |
| flowRepData-class | 0.038 | 0.003 | 0.222 | |
| flowRepOrganization-class | 0.026 | 0.003 | 0.289 | |
| forgetFlowRepositoryCredentials | 0.001 | 0.000 | 0.001 | |
| getFlowRepositoryURL | 0 | 0 | 0 | |
| id-methods | 0.052 | 0.003 | 0.248 | |
| ilarCodeDescription | 0.001 | 0.000 | 0.001 | |
| impcCodeDescription | 0.001 | 0.000 | 0.001 | |
| impcResultsCopy-methods | 0.053 | 0.003 | 0.290 | |
| is.downloaded-methods | 0.058 | 0.003 | 0.252 | |
| listKnownIlarCodes | 0.001 | 0.001 | 0.002 | |
| setFlowRepositoryCredentials | 0.000 | 0.000 | 0.001 | |
| setFlowRepositoryURL | 0.001 | 0.001 | 0.001 | |