| Back to Multiple platform build/check report for BioC 3.11 |
|
This page was generated on 2020-10-17 11:56:31 -0400 (Sat, 17 Oct 2020).
| TO THE DEVELOPERS/MAINTAINERS OF THE EnrichmentBrowser PACKAGE: Please make sure to use the following settings in order to reproduce any error or warning you see on this page. |
| Package 545/1905 | Hostname | OS / Arch | INSTALL | BUILD | CHECK | BUILD BIN | ||||||
| EnrichmentBrowser 2.18.2 Ludwig Geistlinger
| malbec2 | Linux (Ubuntu 18.04.4 LTS) / x86_64 | OK | OK | OK | |||||||
| tokay2 | Windows Server 2012 R2 Standard / x64 | OK | OK | OK | [ OK ] | |||||||
| machv2 | macOS 10.14.6 Mojave / x86_64 | OK | OK | OK | OK |
| Package: EnrichmentBrowser |
| Version: 2.18.2 |
| Command: rm -rf EnrichmentBrowser.buildbin-libdir && mkdir EnrichmentBrowser.buildbin-libdir && C:\Users\biocbuild\bbs-3.11-bioc\R\bin\R.exe CMD INSTALL --merge-multiarch --build --library=EnrichmentBrowser.buildbin-libdir EnrichmentBrowser_2.18.2.tar.gz |
| StartedAt: 2020-10-17 10:25:52 -0400 (Sat, 17 Oct 2020) |
| EndedAt: 2020-10-17 10:26:57 -0400 (Sat, 17 Oct 2020) |
| EllapsedTime: 64.8 seconds |
| RetCode: 0 |
| Status: OK |
| PackageFile: EnrichmentBrowser_2.18.2.zip |
| PackageFileSize: 2.474 MiB |
##############################################################################
##############################################################################
###
### Running command:
###
### rm -rf EnrichmentBrowser.buildbin-libdir && mkdir EnrichmentBrowser.buildbin-libdir && C:\Users\biocbuild\bbs-3.11-bioc\R\bin\R.exe CMD INSTALL --merge-multiarch --build --library=EnrichmentBrowser.buildbin-libdir EnrichmentBrowser_2.18.2.tar.gz
###
##############################################################################
##############################################################################
install for i386
* installing *source* package 'EnrichmentBrowser' ...
** using staged installation
** R
** inst
** byte-compile and prepare package for lazy loading
** help
*** installing help indices
converting help for package 'EnrichmentBrowser'
finding HTML links ... done
combResults html
compileGRN html
finding level-2 HTML links ... done
configEBrowser html
deAna html
downloadPathways html
eaBrowse html
ebrowser html
getGenesets html
ggeaGraph html
idMap html
isAvailable html
makeExampleData html
nbea html
normalize html
plots html
probe2gene html
readSE html
sbea html
** building package indices
** installing vignettes
** testing if installed package can be loaded from temporary location
** testing if installed package can be loaded from final location
** testing if installed package keeps a record of temporary installation path
install for x64
* installing *source* package 'EnrichmentBrowser' ...
** testing if installed package can be loaded
* MD5 sums
packaged installation of 'EnrichmentBrowser' as EnrichmentBrowser_2.18.2.zip
* DONE (EnrichmentBrowser)