| Back to Multiple platform build/check report for BioC 3.11 |
|
This page was generated on 2020-07-07 13:46:18 -0400 (Tue, 07 Jul 2020).
| TO THE DEVELOPERS/MAINTAINERS OF THE EasyqpcR PACKAGE: Please make sure to use the following settings in order to reproduce any error or warning you see on this page. |
| Package 516/1905 | Hostname | OS / Arch | INSTALL | BUILD | CHECK | BUILD BIN | ||||||
| EasyqpcR 1.30.0 Le Pape Sylvain
| malbec2 | Linux (Ubuntu 18.04.4 LTS) / x86_64 | OK | OK | OK | |||||||
| tokay2 | Windows Server 2012 R2 Standard / x64 | OK | OK | OK | [ OK ] | |||||||
| machv2 | macOS 10.14.6 Mojave / x86_64 | OK | OK | OK | OK |
| Package: EasyqpcR |
| Version: 1.30.0 |
| Command: rm -rf EasyqpcR.buildbin-libdir && mkdir EasyqpcR.buildbin-libdir && C:\Users\biocbuild\bbs-3.11-bioc\R\bin\R.exe CMD INSTALL --merge-multiarch --build --library=EasyqpcR.buildbin-libdir EasyqpcR_1.30.0.tar.gz |
| StartedAt: 2020-07-07 11:39:04 -0400 (Tue, 07 Jul 2020) |
| EndedAt: 2020-07-07 11:39:42 -0400 (Tue, 07 Jul 2020) |
| EllapsedTime: 37.8 seconds |
| RetCode: 0 |
| Status: OK |
| PackageFile: EasyqpcR_1.30.0.zip |
| PackageFileSize: 1.737 MiB |
##############################################################################
##############################################################################
###
### Running command:
###
### rm -rf EasyqpcR.buildbin-libdir && mkdir EasyqpcR.buildbin-libdir && C:\Users\biocbuild\bbs-3.11-bioc\R\bin\R.exe CMD INSTALL --merge-multiarch --build --library=EasyqpcR.buildbin-libdir EasyqpcR_1.30.0.tar.gz
###
##############################################################################
##############################################################################
install for i386
* installing *source* package 'EasyqpcR' ...
** using staged installation
** R
** data
** inst
** byte-compile and prepare package for lazy loading
** help
*** installing help indices
converting help for package 'EasyqpcR'
finding HTML links ... done
EasyqpcR-package html
Efficiency_calculation html
Gene_maximisation html
Gene_maximisation_cor html
badCt html
calData html
nrmData html
qPCR_run1 html
qPCR_run2 html
qPCR_run3 html
slope html
totData html
** building package indices
** installing vignettes
** testing if installed package can be loaded from temporary location
** testing if installed package can be loaded from final location
** testing if installed package keeps a record of temporary installation path
install for x64
* installing *source* package 'EasyqpcR' ...
** testing if installed package can be loaded
* MD5 sums
packaged installation of 'EasyqpcR' as EasyqpcR_1.30.0.zip
* DONE (EasyqpcR)