| Back to Multiple platform build/check report for BioC 3.11 |
|
This page was generated on 2020-10-17 11:56:29 -0400 (Sat, 17 Oct 2020).
| TO THE DEVELOPERS/MAINTAINERS OF THE EasyqpcR PACKAGE: Please make sure to use the following settings in order to reproduce any error or warning you see on this page. |
| Package 516/1905 | Hostname | OS / Arch | INSTALL | BUILD | CHECK | BUILD BIN | ||||||
| EasyqpcR 1.30.0 Le Pape Sylvain
| malbec2 | Linux (Ubuntu 18.04.4 LTS) / x86_64 | ERROR | ERROR | skipped | |||||||
| tokay2 | Windows Server 2012 R2 Standard / x64 | [ ERROR ] | ERROR | skipped | skipped | |||||||
| machv2 | macOS 10.14.6 Mojave / x86_64 | ERROR | ERROR | skipped | skipped |
| Package: EasyqpcR |
| Version: 1.30.0 |
| Command: C:\cygwin\bin\curl.exe -O https://malbec2.bioconductor.org/BBS/3.11/bioc/src/contrib/EasyqpcR_1.30.0.tar.gz && rm -rf EasyqpcR.buildbin-libdir && mkdir EasyqpcR.buildbin-libdir && C:\Users\biocbuild\bbs-3.11-bioc\R\bin\R.exe CMD INSTALL --merge-multiarch --build --library=EasyqpcR.buildbin-libdir EasyqpcR_1.30.0.tar.gz && C:\Users\biocbuild\bbs-3.11-bioc\R\bin\R.exe CMD INSTALL EasyqpcR_1.30.0.zip && rm EasyqpcR_1.30.0.tar.gz EasyqpcR_1.30.0.zip |
| StartedAt: 2020-10-16 19:44:34 -0400 (Fri, 16 Oct 2020) |
| EndedAt: 2020-10-16 19:44:35 -0400 (Fri, 16 Oct 2020) |
| EllapsedTime: 1.6 seconds |
| RetCode: 1 |
| Status: ERROR |
##############################################################################
##############################################################################
###
### Running command:
###
### C:\cygwin\bin\curl.exe -O https://malbec2.bioconductor.org/BBS/3.11/bioc/src/contrib/EasyqpcR_1.30.0.tar.gz && rm -rf EasyqpcR.buildbin-libdir && mkdir EasyqpcR.buildbin-libdir && C:\Users\biocbuild\bbs-3.11-bioc\R\bin\R.exe CMD INSTALL --merge-multiarch --build --library=EasyqpcR.buildbin-libdir EasyqpcR_1.30.0.tar.gz && C:\Users\biocbuild\bbs-3.11-bioc\R\bin\R.exe CMD INSTALL EasyqpcR_1.30.0.zip && rm EasyqpcR_1.30.0.tar.gz EasyqpcR_1.30.0.zip
###
##############################################################################
##############################################################################
% Total % Received % Xferd Average Speed Time Time Time Current
Dload Upload Total Spent Left Speed
0 0 0 0 0 0 0 0 --:--:-- --:--:-- --:--:-- 0
100 1727k 100 1727k 0 0 22.7M 0 --:--:-- --:--:-- --:--:-- 24.8M
install for i386
ERROR: dependency 'gWidgetsRGtk2' is not available for package 'EasyqpcR'
* removing 'C:/Users/biocbuild/bbs-3.11-bioc/meat/EasyqpcR.buildbin-libdir/EasyqpcR'